Back to Multiple platform build/check report for BioC 3.17:   simplified   long
AB[C]DEFGHIJKLMNOPQRSTUVWXYZ

This page was generated on 2023-03-24 11:06:38 -0400 (Fri, 24 Mar 2023).

HostnameOSArch (*)R versionInstalled pkgs
nebbiolo1Linux (Ubuntu 22.04.1 LTS)x86_64R Under development (unstable) (2023-03-16 r83996) -- "Unsuffered Consequences" 4546
palomino3Windows Server 2022 Datacenterx64R Under development (unstable) (2023-03-15 r83984 ucrt) -- "Unsuffered Consequences" 4307
merida1macOS 10.14.6 Mojavex86_64R Under development (unstable) (2023-03-16 r83985) -- "Unsuffered Consequences" 4299
Click on any hostname to see more info about the system (e.g. compilers)      (*) as reported by 'uname -p', except on Windows and Mac OS X

CHECK results for cardelino on merida1


To the developers/maintainers of the cardelino package:
- Please allow up to 24 hours (and sometimes 48 hours) for your latest push to git@git.bioconductor.org:packages/cardelino.git to
reflect on this report. See How and When does the builder pull? When will my changes propagate? for more information.
- Make sure to use the following settings in order to reproduce any error or warning you see on this page.

raw results

Package 263/2195HostnameOS / ArchINSTALLBUILDCHECKBUILD BIN
cardelino 1.1.1  (landing page)
Davis McCarthy
Snapshot Date: 2023-03-23 14:00:15 -0400 (Thu, 23 Mar 2023)
git_url: https://git.bioconductor.org/packages/cardelino
git_branch: devel
git_last_commit: 3d2d977
git_last_commit_date: 2022-11-09 23:02:09 -0400 (Wed, 09 Nov 2022)
nebbiolo1Linux (Ubuntu 22.04.1 LTS) / x86_64  OK    OK    OK  UNNEEDED, same version is already published
palomino3Windows Server 2022 Datacenter / x64  OK    OK    OK    OK  UNNEEDED, same version is already published
merida1macOS 10.14.6 Mojave / x86_64  OK    OK    OK    OK  UNNEEDED, same version is already published

Summary

Package: cardelino
Version: 1.1.1
Command: /Library/Frameworks/R.framework/Resources/bin/R CMD check --install=check:cardelino.install-out.txt --library=/Library/Frameworks/R.framework/Resources/library --no-vignettes --timings cardelino_1.1.1.tar.gz
StartedAt: 2023-03-23 23:15:59 -0400 (Thu, 23 Mar 2023)
EndedAt: 2023-03-23 23:33:23 -0400 (Thu, 23 Mar 2023)
EllapsedTime: 1043.4 seconds
RetCode: 0
Status:   OK  
CheckDir: cardelino.Rcheck
Warnings: 0

Command output

##############################################################################
##############################################################################
###
### Running command:
###
###   /Library/Frameworks/R.framework/Resources/bin/R CMD check --install=check:cardelino.install-out.txt --library=/Library/Frameworks/R.framework/Resources/library --no-vignettes --timings cardelino_1.1.1.tar.gz
###
##############################################################################
##############################################################################


* using log directory ‘/Users/biocbuild/bbs-3.17-bioc/meat/cardelino.Rcheck’
* using R Under development (unstable) (2023-03-16 r83985)
* using platform: x86_64-apple-darwin17.0 (64-bit)
* R was compiled by
    Apple clang version 12.0.0 (clang-1200.0.32.29)
    GNU Fortran (GCC) 8.2.0
* running under: macOS Mojave 10.14.6
* using session charset: UTF-8
* using option ‘--no-vignettes’
* checking for file ‘cardelino/DESCRIPTION’ ... OK
* checking extension type ... Package
* this is package ‘cardelino’ version ‘1.1.1’
* package encoding: UTF-8
* checking package namespace information ... OK
* checking package dependencies ... OK
* checking if this is a source package ... OK
* checking if there is a namespace ... OK
* checking for hidden files and directories ... OK
* checking for portable file names ... OK
* checking for sufficient/correct file permissions ... OK
* checking whether package ‘cardelino’ can be installed ... OK
* checking installed package size ... OK
* checking package directory ... OK
* checking ‘build’ directory ... OK
* checking DESCRIPTION meta-information ... OK
* checking top-level files ... OK
* checking for left-over files ... OK
* checking index information ... OK
* checking package subdirectories ... OK
* checking R files for non-ASCII characters ... OK
* checking R files for syntax errors ... OK
* checking whether the package can be loaded ... OK
* checking whether the package can be loaded with stated dependencies ... OK
* checking whether the package can be unloaded cleanly ... OK
* checking whether the namespace can be loaded with stated dependencies ... OK
* checking whether the namespace can be unloaded cleanly ... OK
* checking dependencies in R code ... OK
* checking S3 generic/method consistency ... OK
* checking replacement functions ... OK
* checking foreign function calls ... OK
* checking R code for possible problems ... OK
* checking Rd files ... OK
* checking Rd metadata ... OK
* checking Rd cross-references ... OK
* checking for missing documentation entries ... OK
* checking for code/documentation mismatches ... OK
* checking Rd \usage sections ... OK
* checking Rd contents ... OK
* checking for unstated dependencies in examples ... OK
* checking contents of ‘data’ directory ... OK
* checking data for non-ASCII characters ... OK
* checking data for ASCII and uncompressed saves ... OK
* checking files in ‘vignettes’ ... OK
* checking examples ... OK
Examples with CPU (user + system) or elapsed time > 5s
                    user system elapsed
vc_heatmap       130.820  6.736 183.739
get_snp_matrices  32.580  1.629  45.274
clone_id          24.812  0.931  34.171
read_vcf           5.733  0.376   8.032
sim_read_count     5.087  0.203   7.129
* checking for unstated dependencies in ‘tests’ ... OK
* checking tests ...
  Running ‘testthat.R’
 OK
* checking for unstated dependencies in vignettes ... OK
* checking package vignettes in ‘inst/doc’ ... OK
* checking running R code from vignettes ... SKIPPED
* checking re-building of vignette outputs ... SKIPPED
* checking PDF version of manual ... OK
* DONE

Status: OK


Installation output

cardelino.Rcheck/00install.out

##############################################################################
##############################################################################
###
### Running command:
###
###   /Library/Frameworks/R.framework/Resources/bin/R CMD INSTALL cardelino
###
##############################################################################
##############################################################################


* installing to library ‘/Library/Frameworks/R.framework/Versions/4.3/Resources/library’
* installing *source* package ‘cardelino’ ...
** using staged installation
** R
** data
** inst
** byte-compile and prepare package for lazy loading
** help
*** installing help indices
** building package indices
** installing vignettes
** testing if installed package can be loaded from temporary location
** testing if installed package can be loaded from final location
** testing if installed package keeps a record of temporary installation path
* DONE (cardelino)

Tests output

cardelino.Rcheck/tests/testthat.Rout


R Under development (unstable) (2023-03-16 r83985) -- "Unsuffered Consequences"
Copyright (C) 2023 The R Foundation for Statistical Computing
Platform: x86_64-apple-darwin17.0 (64-bit)

R is free software and comes with ABSOLUTELY NO WARRANTY.
You are welcome to redistribute it under certain conditions.
Type 'license()' or 'licence()' for distribution details.

R is a collaborative project with many contributors.
Type 'contributors()' for more information and
'citation()' on how to cite R or R packages in publications.

Type 'demo()' for some demos, 'help()' for on-line help, or
'help.start()' for an HTML browser interface to help.
Type 'q()' to quit R.

> Sys.setenv("R_TESTS" = "")
> library(testthat)
> library(cardelino)
> 
> test_check("cardelino")
[1] "Total iterations: 11"
98.9% converged.
100% converged.
[1] "Converged in 300 iterations."
DIC: 2952.88 D_mean: 2469.36 D_post: 2382.21 logLik_var: 142.67 
     [,1] [,2] [,3] [,4]
[1,]    1    2    3    4
[1] "60 samples have multiple labels."
Scanning file to determine attributes.
File attributes:
  meta lines: 37
  header_line: 38
  variant count: 112
  column count: 86

Meta line 37 read in.
All meta lines processed.
gt matrix initialized.
Character matrix gt created.
  Character matrix gt rows: 112
  Character matrix gt cols: 86
  skip: 0
  nrows: 112
  row_num: 0

Processed variant: 112
All variants processed
[1] "112 out of 112 SNPs passed."
Scanning file to determine attributes.
File attributes:
  meta lines: 37
  header_line: 38
  variant count: 112
  column count: 86

Meta line 37 read in.
All meta lines processed.
gt matrix initialized.
Character matrix gt created.
  Character matrix gt rows: 112
  Character matrix gt cols: 86
  skip: 0
  nrows: 112
  row_num: 0

Processed variant: 112
All variants processed
[ FAIL 0 | WARN 2 | SKIP 0 | PASS 20 ]

[ FAIL 0 | WARN 2 | SKIP 0 | PASS 20 ]
> 
> # check test coverage with covr in Rstudio
> # covr::package_coverage()
> 
> proc.time()
   user  system elapsed 
 44.095   1.714  59.817 

Example timings

cardelino.Rcheck/cardelino-Ex.timings

nameusersystemelapsed
assign_cells_to_clones0.1750.0190.254
binaryPRC0.0150.0020.023
binaryROC0.0170.0030.028
clone_id24.812 0.93134.171
colMatch0.0020.0000.002
get_snp_matrices32.580 1.62945.274
get_tree0.6820.0050.882
heat_matrix1.3110.0201.812
load_GT_vcf0.4700.0370.829
load_cellSNP_vcf0.0400.0010.054
mixBinom0.0270.0000.035
mtx_to_df0.0030.0000.003
plot_config_diffs0.2900.0020.396
plot_tree0.4820.0050.672
predMixBinom0.0280.0010.037
prob_heatmap0.1670.0020.348
pub.theme0.0520.0010.060
read_vcf5.7330.3768.032
rowArgmax000
rowMax0.0010.0000.001
sample_seq_depth0.0210.0010.027
sample_tree_SNV0.0090.0010.013
sim_read_count5.0870.2037.129
vc_heatmap130.820 6.736183.739