Back to Multiple platform build/check report for BioC 3.15
ABC[D]EFGHIJKLMNOPQRSTUVWXYZ

This page was generated on 2022-01-27 11:10:30 -0500 (Thu, 27 Jan 2022).

HostnameOSArch (*)R versionInstalled pkgs
nebbiolo1Linux (Ubuntu 20.04.4 LTS)x86_64R Under development (unstable) (2022-01-05 r81451) -- "Unsuffered Consequences" 4167
riesling1Windows Server 2019 Standardx64R Under development (unstable) (2021-11-21 r81221) -- "Unsuffered Consequences" 4062
palomino3Windows Server 2022 Datacenterx64R Under development (unstable) (2021-12-21 r81400 ucrt) -- "Unsuffered Consequences" 4004
merida1macOS 10.14.6 Mojavex86_64R Under development (unstable) (2022-01-05 r81451) -- "Unsuffered Consequences" 4121
Click on any hostname to see more info about the system (e.g. compilers)      (*) as reported by 'uname -p', except on Windows and Mac OS X

CHECK results for DMRcaller on merida1


To the developers/maintainers of the DMRcaller package:
- Please allow up to 24 hours (and sometimes 48 hours) for your latest push to git@git.bioconductor.org:packages/DMRcaller.git to
reflect on this report. See How and When does the builder pull? When will my changes propagate? here for more information.
- Make sure to use the following settings in order to reproduce any error or warning you see on this page.

raw results

Package 527/2077HostnameOS / ArchINSTALLBUILDCHECKBUILD BIN
DMRcaller 1.27.1  (landing page)
Nicolae Radu Zabet
Snapshot Date: 2022-01-26 13:55:18 -0500 (Wed, 26 Jan 2022)
git_url: https://git.bioconductor.org/packages/DMRcaller
git_branch: master
git_last_commit: b5efd8f
git_last_commit_date: 2021-11-17 09:00:23 -0500 (Wed, 17 Nov 2021)
nebbiolo1Linux (Ubuntu 20.04.4 LTS) / x86_64  OK    OK    OK  UNNEEDED, same version is already published
riesling1Windows Server 2019 Standard / x64  OK    OK    OK    NA  
palomino3Windows Server 2022 Datacenter / x64  OK    OK    OK    OK  NO, package depends on 'GenomicRanges' which is not available
merida1macOS 10.14.6 Mojave / x86_64  OK    OK    OK    OK  UNNEEDED, same version is already published

Summary

Package: DMRcaller
Version: 1.27.1
Command: /Library/Frameworks/R.framework/Resources/bin/R CMD check --install=check:DMRcaller.install-out.txt --library=/Library/Frameworks/R.framework/Resources/library --no-vignettes --timings DMRcaller_1.27.1.tar.gz
StartedAt: 2022-01-27 00:27:29 -0500 (Thu, 27 Jan 2022)
EndedAt: 2022-01-27 00:35:50 -0500 (Thu, 27 Jan 2022)
EllapsedTime: 501.4 seconds
RetCode: 0
Status:   OK  
CheckDir: DMRcaller.Rcheck
Warnings: 0

Command output

##############################################################################
##############################################################################
###
### Running command:
###
###   /Library/Frameworks/R.framework/Resources/bin/R CMD check --install=check:DMRcaller.install-out.txt --library=/Library/Frameworks/R.framework/Resources/library --no-vignettes --timings DMRcaller_1.27.1.tar.gz
###
##############################################################################
##############################################################################


* using log directory ‘/Users/biocbuild/bbs-3.15-bioc/meat/DMRcaller.Rcheck’
* using R Under development (unstable) (2022-01-05 r81451)
* using platform: x86_64-apple-darwin17.0 (64-bit)
* using session charset: UTF-8
* using option ‘--no-vignettes’
* checking for file ‘DMRcaller/DESCRIPTION’ ... OK
* checking extension type ... Package
* this is package ‘DMRcaller’ version ‘1.27.1’
* checking package namespace information ... OK
* checking package dependencies ... OK
* checking if this is a source package ... OK
* checking if there is a namespace ... OK
* checking for hidden files and directories ... NOTE
Found the following hidden files and directories:
  .git_fetch_output.txt
  .git_merge_output.txt
These were most likely included in error. See section ‘Package
structure’ in the ‘Writing R Extensions’ manual.
* checking for portable file names ... OK
* checking for sufficient/correct file permissions ... OK
* checking whether package ‘DMRcaller’ can be installed ... OK
* checking installed package size ... OK
* checking package directory ... OK
* checking ‘build’ directory ... OK
* checking DESCRIPTION meta-information ... OK
* checking top-level files ... OK
* checking for left-over files ... OK
* checking index information ... OK
* checking package subdirectories ... OK
* checking R files for non-ASCII characters ... OK
* checking R files for syntax errors ... OK
* checking whether the package can be loaded ... OK
* checking whether the package can be loaded with stated dependencies ... OK
* checking whether the package can be unloaded cleanly ... OK
* checking whether the namespace can be loaded with stated dependencies ... OK
* checking whether the namespace can be unloaded cleanly ... OK
* checking dependencies in R code ... OK
* checking S3 generic/method consistency ... OK
* checking replacement functions ... OK
* checking foreign function calls ... OK
* checking R code for possible problems ... NOTE
extractGC: no visible global function definition for ‘getSeq’
extractGC: no visible global function definition for ‘seqlevels’
Undefined global functions or variables:
  getSeq seqlevels
* checking Rd files ... OK
* checking Rd metadata ... OK
* checking Rd cross-references ... OK
* checking for missing documentation entries ... OK
* checking for code/documentation mismatches ... OK
* checking Rd \usage sections ... OK
* checking Rd contents ... OK
* checking for unstated dependencies in examples ... OK
* checking contents of ‘data’ directory ... OK
* checking data for non-ASCII characters ... OK
* checking data for ASCII and uncompressed saves ... OK
* checking sizes of PDF files under ‘inst/doc’ ... OK
* checking files in ‘vignettes’ ... OK
* checking examples ... OK
Examples with CPU (user + system) or elapsed time > 5s
                       user system elapsed
mergeDMRsIteratively 20.541  0.079  20.950
computeDMRs          19.532  0.132  22.518
readBismarkPool       7.667  0.298   8.073
* checking for unstated dependencies in ‘tests’ ... OK
* checking tests ...
  Running ‘runTests.R’
 OK
* checking for unstated dependencies in vignettes ... OK
* checking package vignettes in ‘inst/doc’ ... OK
* checking running R code from vignettes ... SKIPPED
* checking re-building of vignette outputs ... SKIPPED
* checking PDF version of manual ... OK
* DONE

Status: 2 NOTEs
See
  ‘/Users/biocbuild/bbs-3.15-bioc/meat/DMRcaller.Rcheck/00check.log’
for details.



Installation output

DMRcaller.Rcheck/00install.out

##############################################################################
##############################################################################
###
### Running command:
###
###   /Library/Frameworks/R.framework/Resources/bin/R CMD INSTALL DMRcaller
###
##############################################################################
##############################################################################


* installing to library ‘/Library/Frameworks/R.framework/Versions/4.2/Resources/library’
* installing *source* package ‘DMRcaller’ ...
** using staged installation
** R
** data
** inst
** byte-compile and prepare package for lazy loading
** help
*** installing help indices
** building package indices
** installing vignettes
** testing if installed package can be loaded from temporary location
** testing if installed package can be loaded from final location
** testing if installed package keeps a record of temporary installation path
* DONE (DMRcaller)

Tests output

DMRcaller.Rcheck/tests/runTests.Rout


R Under development (unstable) (2022-01-05 r81451) -- "Unsuffered Consequences"
Copyright (C) 2022 The R Foundation for Statistical Computing
Platform: x86_64-apple-darwin17.0 (64-bit)

R is free software and comes with ABSOLUTELY NO WARRANTY.
You are welcome to redistribute it under certain conditions.
Type 'license()' or 'licence()' for distribution details.

R is a collaborative project with many contributors.
Type 'contributors()' for more information and
'citation()' on how to cite R or R packages in publications.

Type 'demo()' for some demos, 'help()' for on-line help, or
'help.start()' for an HTML browser interface to help.
Type 'q()' to quit R.

> BiocGenerics:::testPackage("DMRcaller")

Attaching package: 'BiocGenerics'

The following objects are masked from 'package:stats':

    IQR, mad, sd, var, xtabs

The following objects are masked from 'package:base':

    Filter, Find, Map, Position, Reduce, anyDuplicated, append,
    as.data.frame, basename, cbind, colnames, dirname, do.call,
    duplicated, eval, evalq, get, grep, grepl, intersect, is.unsorted,
    lapply, mapply, match, mget, order, paste, pmax, pmax.int, pmin,
    pmin.int, rank, rbind, rownames, sapply, setdiff, sort, table,
    tapply, union, unique, unsplit, which.max, which.min


Attaching package: 'S4Vectors'

The following objects are masked from 'package:base':

    I, expand.grid, unname

Parameters checking ...
Extract methylation in the corresponding context 
Computing DMRs 
Merge adjacent DMRs
Merge DMRs iteratively
Filter DMRs 
Parameters checking ...
Extract methylation in the corresponding context 
Computing DMRs at  Chr1:1..4976 
Calculating interpolations...
Identifying DMRs...
Analysed reads inside DMRs
Merge DMRs iteratively
Filter DMRs 
Parameters checking ...
Extract methylation in the corresponding context 
Computing DMRs at  Chr1:1..4976 
Selecting data...
Identifying DMRs...
Validating objects 
Finding overlaps 
Joining objects 
Parameters checking ...
Extract methylation in the corresponding context 
Computing DMRs at  Chr1:1..4976 
Count inside each bin...
Filter the bins...
Identifying DMRs...
Merge adjacent DMRs
Merge DMRs iteratively
Filter DMRs 
Parameters checking ...
Merge DMRs iteratively ...


RUNIT TEST PROTOCOL -- Thu Jan 27 00:35:40 2022 
*********************************************** 
Number of test functions: 6 
Number of errors: 0 
Number of failures: 0 

 
1 Test Suite : 
DMRcaller RUnit Tests - 6 test functions, 0 errors, 0 failures
Number of test functions: 6 
Number of errors: 0 
Number of failures: 0 
Warning message:
In fisher.test(matrix(unlist(x), nrow = 2, byrow = TRUE), alternative = alternative) :
  'x' has been rounded to integer: Mean relative difference: 0.002857143
> 
> proc.time()
   user  system elapsed 
244.869   0.969 250.515 

Example timings

DMRcaller.Rcheck/DMRcaller-Ex.timings

nameusersystemelapsed
DMRcaller0.0010.0020.002
analyseReadsInsideRegionsForCondition1.3410.0641.424
computeDMRs19.532 0.13222.518
computeDMRsReplicates0.0010.0000.000
computeMethylationDataCoverage1.0510.0391.101
computeMethylationDataSpatialCorrelation0.8240.0510.890
computeMethylationProfile2.0110.0612.148
computeOverlapProfile2.7600.0212.799
extractGC0.0010.0010.000
filterDMRs3.4370.0593.501
getWholeChromosomes0.3460.0090.356
joinReplicates0.0000.0010.001
mergeDMRsIteratively20.541 0.07920.950
plotLocalMethylationProfile2.0440.0982.208
plotMethylationDataCoverage1.7150.0541.850
plotMethylationDataSpatialCorrelation0.0000.0000.001
plotMethylationProfile1.6710.0311.789
plotMethylationProfileFromData3.6580.0533.904
plotOverlapProfile3.2610.0213.412
poolMethylationDatasets1.3510.0501.445
poolTwoMethylationDatasets1.2420.0541.334
readBismark3.5540.1353.813
readBismarkPool7.6670.2988.073
saveBismark2.1390.0672.216