Back to Multiple platform build/check report for BioC 3.15
A[B]CDEFGHIJKLMNOPQRSTUVWXYZ

This page was generated on 2022-01-20 11:10:38 -0500 (Thu, 20 Jan 2022).

HostnameOSArch (*)R versionInstalled pkgs
nebbiolo1Linux (Ubuntu 20.04.4 LTS)x86_64R Under development (unstable) (2022-01-05 r81451) -- "Unsuffered Consequences" 4162
riesling1Windows Server 2019 Standardx64R Under development (unstable) (2021-11-21 r81221) -- "Unsuffered Consequences" 4057
palomino3Windows Server 2022 Datacenterx64R Under development (unstable) (2021-12-21 r81400 ucrt) -- "Unsuffered Consequences" 3999
merida1macOS 10.14.6 Mojavex86_64R Under development (unstable) (2022-01-05 r81451) -- "Unsuffered Consequences" 4116
Click on any hostname to see more info about the system (e.g. compilers)      (*) as reported by 'uname -p', except on Windows and Mac OS X

BUILD results for bumphunter on merida1


To the developers/maintainers of the bumphunter package:
- Please allow up to 24 hours (and sometimes 48 hours) for your latest push to git@git.bioconductor.org:packages/bumphunter.git to
reflect on this report. See How and When does the builder pull? When will my changes propagate? here for more information.
- Make sure to use the following settings in order to reproduce any error or warning you see on this page.

raw results

Package 224/2074HostnameOS / ArchINSTALLBUILDCHECKBUILD BIN
bumphunter 1.37.1  (landing page)
Tamilselvi Guharaj
Snapshot Date: 2022-01-19 13:55:26 -0500 (Wed, 19 Jan 2022)
git_url: https://git.bioconductor.org/packages/bumphunter
git_branch: master
git_last_commit: 478db86
git_last_commit_date: 2021-11-20 23:19:33 -0500 (Sat, 20 Nov 2021)
nebbiolo1Linux (Ubuntu 20.04.4 LTS) / x86_64  OK    OK    OK  UNNEEDED, same version is already published
riesling1Windows Server 2019 Standard / x64  OK    OK    OK    OK  
palomino3Windows Server 2022 Datacenter / x64  OK    OK    OK    OK  NO, package depends on 'S4Vectors' which is not available
merida1macOS 10.14.6 Mojave / x86_64  OK    OK    OK    OK  UNNEEDED, same version is already published

Summary

Package: bumphunter
Version: 1.37.1
Command: /Library/Frameworks/R.framework/Resources/bin/R CMD build --keep-empty-dirs --no-resave-data bumphunter
StartedAt: 2022-01-19 16:55:21 -0500 (Wed, 19 Jan 2022)
EndedAt: 2022-01-19 16:56:53 -0500 (Wed, 19 Jan 2022)
EllapsedTime: 91.5 seconds
RetCode: 0
Status:   OK  
PackageFile: bumphunter_1.37.1.tar.gz
PackageFileSize: 2.39 MiB

Command output

##############################################################################
##############################################################################
###
### Running command:
###
###   /Library/Frameworks/R.framework/Resources/bin/R CMD build --keep-empty-dirs --no-resave-data bumphunter
###
##############################################################################
##############################################################################


* checking for file ‘bumphunter/DESCRIPTION’ ... OK
* preparing ‘bumphunter’:
* checking DESCRIPTION meta-information ... OK
* installing the package to build vignettes
* creating vignettes ... OK
* checking for LF line-endings in source and make files and shell scripts
* checking for empty or unneeded directories
* building ‘bumphunter_1.37.1.tar.gz’