Back to Multiple platform build/check report for BioC 3.15
ABCD[E]FGHIJKLMNOPQRSTUVWXYZ

This page was generated on 2021-12-07 12:33:53 -0500 (Tue, 07 Dec 2021).

BUILD BIN results for ExCluster on merida1

To the developers/maintainers of the ExCluster package:
- Please allow up to 24 hours (and sometimes 48 hours) for your latest push to git@git.bioconductor.org:packages/ExCluster.git to
reflect on this report. See How and When does the builder pull? When will my changes propagate? here for more information.
- Make sure to use the following settings in order to reproduce any error or warning you see on this page.

raw results

Package 605/2068HostnameOS / ArchINSTALLBUILDCHECKBUILD BIN
ExCluster 1.13.0  (landing page)
R. Matthew Tanner
Snapshot Date: 2021-12-06 13:55:08 -0500 (Mon, 06 Dec 2021)
git_url: https://git.bioconductor.org/packages/ExCluster
git_branch: master
git_last_commit: b9801e3
git_last_commit_date: 2021-10-26 12:47:03 -0500 (Tue, 26 Oct 2021)
nebbiolo1Linux (Ubuntu 20.04.3 LTS) / x86_64  OK    OK    OK  UNNEEDED, same version is already published
merida1macOS 10.14.6 Mojave / x86_64  OK    OK    OK    OK  UNNEEDED, same version is already published

Summary

Package: ExCluster
Version: 1.13.0
Command: rm -rf ExCluster.buildbin-libdir && mkdir ExCluster.buildbin-libdir && /Users/biocbuild/BBS/utils/build-universal.sh ExCluster_1.13.0.tar.gz /Library/Frameworks/R.framework/Resources/bin/R ExCluster.buildbin-libdir
StartedAt: 2021-12-07 06:24:32 -0500 (Tue, 07 Dec 2021)
EndedAt: 2021-12-07 06:25:14 -0500 (Tue, 07 Dec 2021)
EllapsedTime: 41.9 seconds
RetCode: 0
Status:   OK  
PackageFile: ExCluster_1.13.0.tgz
PackageFileSize: 379.5 KiB

Command output

##############################################################################
##############################################################################
###
### Running command:
###
###   rm -rf ExCluster.buildbin-libdir && mkdir ExCluster.buildbin-libdir && /Users/biocbuild/BBS/utils/build-universal.sh ExCluster_1.13.0.tar.gz /Library/Frameworks/R.framework/Resources/bin/R ExCluster.buildbin-libdir
###
##############################################################################
##############################################################################


>>>>>>> 
>>>>>>> INSTALLATION WITH 'R CMD INSTALL --preclean --no-multiarch --library=ExCluster.buildbin-libdir ExCluster_1.13.0.tar.gz'
>>>>>>> 

* installing *source* package ‘ExCluster’ ...
** using staged installation
** R
** inst
** byte-compile and prepare package for lazy loading
** help
*** installing help indices
** building package indices
** installing vignettes
** testing if installed package can be loaded from temporary location
** testing if installed package can be loaded from final location
** testing if installed package keeps a record of temporary installation path
* DONE (ExCluster)