Back to Multiple platform build/check report for BioC 3.19:   simplified   long
AB[C]DEFGHIJKLMNOPQRSTUVWXYZ

This page was generated on 2024-03-01 11:38:40 -0500 (Fri, 01 Mar 2024).

HostnameOSArch (*)R versionInstalled pkgs
nebbiolo1Linux (Ubuntu 22.04.3 LTS)x86_64R Under development (unstable) (2024-01-16 r85808) -- "Unsuffered Consequences" 4676
palomino3Windows Server 2022 Datacenterx64R Under development (unstable) (2024-01-14 r85805 ucrt) -- "Unsuffered Consequences" 4414
merida1macOS 12.7.1 Montereyx86_64R Under development (unstable) (2024-01-16 r85808) -- "Unsuffered Consequences" 4441
kunpeng2Linux (openEuler 22.03 LTS-SP1)aarch64R Under development (unstable) (2024-01-16 r85812) -- "Unsuffered Consequences" 4417
Click on any hostname to see more info about the system (e.g. compilers)      (*) as reported by 'uname -p', except on Windows and Mac OS X

Package 279/2251HostnameOS / ArchINSTALLBUILDCHECKBUILD BIN
cBioPortalData 2.15.3  (landing page)
Marcel Ramos
Snapshot Date: 2024-02-28 14:00:14 -0500 (Wed, 28 Feb 2024)
git_url: https://git.bioconductor.org/packages/cBioPortalData
git_branch: devel
git_last_commit: 3e7aefc
git_last_commit_date: 2024-02-02 15:02:35 -0500 (Fri, 02 Feb 2024)
nebbiolo1Linux (Ubuntu 22.04.3 LTS) / x86_64  OK    OK    OK  UNNEEDED, same version is already published
palomino3Windows Server 2022 Datacenter / x64  OK    OK    OK    OK  UNNEEDED, same version is already published
merida1macOS 12.7.1 Monterey / x86_64  OK    OK    OK    OK  UNNEEDED, same version is already published
kunpeng2Linux (openEuler 22.03 LTS-SP1) / aarch64  OK    OK    OK  

BUILD BIN results for cBioPortalData on merida1


To the developers/maintainers of the cBioPortalData package:
- Allow up to 24 hours (and sometimes 48 hours) for your latest push to git@git.bioconductor.org:packages/cBioPortalData.git to reflect on this report. See Troubleshooting Build Report for more information.
- Use the following Renviron settings to reproduce errors and warnings.
- If 'R CMD check' started to fail recently on the Linux builder(s) over a missing dependency, add the missing dependency to 'Suggests:' in your DESCRIPTION file. See Renviron.bioc for more information.

raw results


Summary

Package: cBioPortalData
Version: 2.15.3
Command: rm -rf cBioPortalData.buildbin-libdir && mkdir cBioPortalData.buildbin-libdir && /Users/biocbuild/BBS/utils/build-universal.sh cBioPortalData_2.15.3.tar.gz /Library/Frameworks/R.framework/Resources/bin/R cBioPortalData.buildbin-libdir
StartedAt: 2024-02-29 13:16:41 -0500 (Thu, 29 Feb 2024)
EndedAt: 2024-02-29 13:18:21 -0500 (Thu, 29 Feb 2024)
EllapsedTime: 100.4 seconds
RetCode: 0
Status:   OK  
PackageFile: cBioPortalData_2.15.3.tgz
PackageFileSize: 1.082 MiB

Command output

##############################################################################
##############################################################################
###
### Running command:
###
###   rm -rf cBioPortalData.buildbin-libdir && mkdir cBioPortalData.buildbin-libdir && /Users/biocbuild/BBS/utils/build-universal.sh cBioPortalData_2.15.3.tar.gz /Library/Frameworks/R.framework/Resources/bin/R cBioPortalData.buildbin-libdir
###
##############################################################################
##############################################################################


>>>>>>> 
>>>>>>> INSTALLATION WITH 'R CMD INSTALL --preclean --no-multiarch --library=cBioPortalData.buildbin-libdir cBioPortalData_2.15.3.tar.gz'
>>>>>>> 

* installing *source* package ‘cBioPortalData’ ...
** using staged installation
** R
** inst
** byte-compile and prepare package for lazy loading
** help
*** installing help indices
** building package indices
** installing vignettes
** testing if installed package can be loaded from temporary location
** testing if installed package can be loaded from final location
** testing if installed package keeps a record of temporary installation path
* DONE (cBioPortalData)