Back to Multiple platform build/check report for BioC 3.17:   simplified   long
ABCDEF[G]HIJKLMNOPQRSTUVWXYZ

This page was generated on 2023-03-20 11:06:33 -0400 (Mon, 20 Mar 2023).

HostnameOSArch (*)R versionInstalled pkgs
nebbiolo1Linux (Ubuntu 22.04.1 LTS)x86_64R Under development (unstable) (2023-03-16 r83996) -- "Unsuffered Consequences" 4297
palomino3Windows Server 2022 Datacenterx64R Under development (unstable) (2023-03-15 r83984 ucrt) -- "Unsuffered Consequences" 4286
merida1macOS 10.14.6 Mojavex86_64R Under development (unstable) (2023-03-16 r83985) -- "Unsuffered Consequences" 4150
Click on any hostname to see more info about the system (e.g. compilers)      (*) as reported by 'uname -p', except on Windows and Mac OS X

BUILD BIN results for GenomicFiles on merida1


To the developers/maintainers of the GenomicFiles package:
- Please allow up to 24 hours (and sometimes 48 hours) for your latest push to git@git.bioconductor.org:packages/GenomicFiles.git to
reflect on this report. See How and When does the builder pull? When will my changes propagate? for more information.
- Make sure to use the following settings in order to reproduce any error or warning you see on this page.

raw results

Package 791/2189HostnameOS / ArchINSTALLBUILDCHECKBUILD BIN
GenomicFiles 1.35.1  (landing page)
Bioconductor Package Maintainer
Snapshot Date: 2023-03-19 14:00:12 -0400 (Sun, 19 Mar 2023)
git_url: https://git.bioconductor.org/packages/GenomicFiles
git_branch: master
git_last_commit: aeb833c
git_last_commit_date: 2023-03-17 15:01:20 -0400 (Fri, 17 Mar 2023)
nebbiolo1Linux (Ubuntu 22.04.1 LTS) / x86_64  OK    OK    WARNINGS  YES
palomino3Windows Server 2022 Datacenter / x64  OK    OK    WARNINGS    OK  YES
merida1macOS 10.14.6 Mojave / x86_64  OK    OK    WARNINGS    OK  YES

Summary

Package: GenomicFiles
Version: 1.35.1
Command: rm -rf GenomicFiles.buildbin-libdir && mkdir GenomicFiles.buildbin-libdir && /Users/biocbuild/BBS/utils/build-universal.sh GenomicFiles_1.35.1.tar.gz /Library/Frameworks/R.framework/Resources/bin/R GenomicFiles.buildbin-libdir
StartedAt: 2023-03-20 07:47:44 -0400 (Mon, 20 Mar 2023)
EndedAt: 2023-03-20 07:49:59 -0400 (Mon, 20 Mar 2023)
EllapsedTime: 135.0 seconds
RetCode: 0
Status:   OK  
PackageFile: GenomicFiles_1.35.1.tgz
PackageFileSize: 1.006 MiB

Command output

##############################################################################
##############################################################################
###
### Running command:
###
###   rm -rf GenomicFiles.buildbin-libdir && mkdir GenomicFiles.buildbin-libdir && /Users/biocbuild/BBS/utils/build-universal.sh GenomicFiles_1.35.1.tar.gz /Library/Frameworks/R.framework/Resources/bin/R GenomicFiles.buildbin-libdir
###
##############################################################################
##############################################################################


>>>>>>> 
>>>>>>> INSTALLATION WITH 'R CMD INSTALL --preclean --no-multiarch --library=GenomicFiles.buildbin-libdir GenomicFiles_1.35.1.tar.gz'
>>>>>>> 

* installing *source* package ‘GenomicFiles’ ...
** using staged installation
** R
** inst
** byte-compile and prepare package for lazy loading
** help
*** installing help indices
** building package indices
** installing vignettes
** testing if installed package can be loaded from temporary location
** testing if installed package can be loaded from final location
** testing if installed package keeps a record of temporary installation path
* DONE (GenomicFiles)