Back to Multiple platform build/check report for BioC 3.15
A[B]CDEFGHIJKLMNOPQRSTUVWXYZ

This page was generated on 2021-11-25 14:05:23 -0500 (Thu, 25 Nov 2021).

BUILD results for ballgown on merida1

To the developers/maintainers of the ballgown package:
- Please allow up to 24 hours (and sometimes 48 hours) for your latest push to git@git.bioconductor.org:packages/ballgown.git to
reflect on this report. See How and When does the builder pull? When will my changes propagate? here for more information.
- Make sure to use the following settings in order to reproduce any error or warning you see on this page.

raw results

Package 106/2068HostnameOS / ArchINSTALLBUILDCHECKBUILD BIN
ballgown 2.27.1  (landing page)
Jack Fu
Snapshot Date: 2021-11-24 14:50:13 -0500 (Wed, 24 Nov 2021)
git_url: https://git.bioconductor.org/packages/ballgown
git_branch: master
git_last_commit: 1fbcd5f
git_last_commit_date: 2021-11-20 23:00:17 -0500 (Sat, 20 Nov 2021)
nebbiolo1Linux (Ubuntu 20.04.3 LTS) / x86_64  OK    OK    OK  UNNEEDED, same version is already published
riesling1Windows Server 2019 Standard / x64  OK    OK    OK    OK  
merida1macOS 10.14.6 Mojave / x86_64  OK    OK    OK    OK  UNNEEDED, same version is already published

Summary

Package: ballgown
Version: 2.27.1
Command: /Library/Frameworks/R.framework/Resources/bin/R CMD build --keep-empty-dirs --no-resave-data ballgown
StartedAt: 2021-11-24 18:43:46 -0500 (Wed, 24 Nov 2021)
EndedAt: 2021-11-24 18:45:08 -0500 (Wed, 24 Nov 2021)
EllapsedTime: 82.0 seconds
RetCode: 0
Status:   OK  
PackageFile: ballgown_2.27.1.tar.gz
PackageFileSize: 3.033 MiB

Command output

##############################################################################
##############################################################################
###
### Running command:
###
###   /Library/Frameworks/R.framework/Resources/bin/R CMD build --keep-empty-dirs --no-resave-data ballgown
###
##############################################################################
##############################################################################


* checking for file ‘ballgown/DESCRIPTION’ ... OK
* preparing ‘ballgown’:
* checking DESCRIPTION meta-information ... OK
* installing the package to build vignettes
* creating vignettes ... OK
* checking for LF line-endings in source and make files and shell scripts
* checking for empty or unneeded directories
* looking to see if a ‘data/datalist’ file should be added
  NB: this package now depends on R (>= 3.5.0)
  WARNING: Added dependency on R >= 3.5.0 because serialized objects in
  serialize/load version 3 cannot be read in older versions of R.
  File(s) containing such objects:
    ‘ballgown/data/bg.rda’
* building ‘ballgown_2.27.1.tar.gz’