Back to Multiple platform build/check report for BioC 3.15
ABCDEF[G]HIJKLMNOPQRSTUVWXYZ

This page was generated on 2022-01-17 11:04:36 -0500 (Mon, 17 Jan 2022).

HostnameOSArch (*)R versionInstalled pkgs
nebbiolo1Linux (Ubuntu 20.04.4 LTS)x86_64R Under development (unstable) (2022-01-05 r81451) -- "Unsuffered Consequences" 4161
riesling1Windows Server 2019 Standardx64R Under development (unstable) (2021-11-21 r81221) -- "Unsuffered Consequences" 4056
palomino3Windows Server 2022 Datacenterx64R Under development (unstable) (2021-12-21 r81400 ucrt) -- "Unsuffered Consequences" 3998
merida1macOS 10.14.6 Mojavex86_64R Under development (unstable) (2022-01-05 r81451) -- "Unsuffered Consequences" 4115
Click on any hostname to see more info about the system (e.g. compilers)      (*) as reported by 'uname -p', except on Windows and Mac OS X

All results for package GenomicRanges


To the developers/maintainers of the GenomicRanges package:
- Please allow up to 24 hours (and sometimes 48 hours) for your latest push to git@git.bioconductor.org:packages/GenomicRanges.git to
reflect on this report. See How and When does the builder pull? When will my changes propagate? here for more information.
- Make sure to use the following settings in order to reproduce any error or warning you see on this page.

raw results

Package 753/2074HostnameOS / ArchINSTALLBUILDCHECKBUILD BIN
GenomicRanges 1.47.6  (landing page)
Bioconductor Package Maintainer
Snapshot Date: 2022-01-16 13:55:18 -0500 (Sun, 16 Jan 2022)
git_url: https://git.bioconductor.org/packages/GenomicRanges
git_branch: master
git_last_commit: 3cd3c8d
git_last_commit_date: 2022-01-11 16:33:00 -0500 (Tue, 11 Jan 2022)
nebbiolo1Linux (Ubuntu 20.04.4 LTS) / x86_64  OK    OK    OK  UNNEEDED, same version is already published
riesling1Windows Server 2019 Standard / x64  OK    OK    OK    OK  
palomino3Windows Server 2022 Datacenter / x64  OK    OK    OK    OK  NO, package depends on 'BiocGenerics' which is not available
merida1macOS 10.14.6 Mojave / x86_64  OK    OK    OK    OK  UNNEEDED, same version is already published

Results for Bioconductor software packages that depend directly on package GenomicRanges

QUICK STATSOS / ArchINSTALLBUILDCHECKBUILD BIN
nebbiolo1Linux (Ubuntu 20.04.4 LTS) / x86_64
02498
011489
0899382
riesling1Windows Server 2019 Standard / x64
04482
012474
07102365
00474
palomino3Windows Server 2022 Datacenter / x64
02484
015471
07101363
00471
merida1macOS 10.14.6 Mojave / x86_64
02496
114483
11095377
00483
Package 1/500HostnameOS / ArchINSTALLBUILDCHECKBUILD BIN
ACE 1.13.0  (landing page)
Jos B Poell
git_last_commit: 7fe0e7c
git_last_commit_date: 2021-10-26 12:45:46 -0500
nebbiolo1Linux (Ubuntu 20.04.4 LTS) / x86_64  OK    OK    OK  UNNEEDED, same version is already published
riesling1Windows Server 2019 Standard / x64  OK    OK    OK    OK  
palomino3Windows Server 2022 Datacenter / x64  OK    OK    OK    OK  NO, package depends on 'Biobase' which is not available
merida1macOS 10.14.6 Mojave / x86_64  OK    OK    OK    OK  UNNEEDED, same version is already published
Package 2/500HostnameOS / ArchINSTALLBUILDCHECKBUILD BIN
ALDEx2 1.27.0  (landing page)
Greg Gloor
git_last_commit: 150617d
git_last_commit_date: 2021-10-26 12:16:13 -0500
nebbiolo1Linux (Ubuntu 20.04.4 LTS) / x86_64  OK    OK    OK  UNNEEDED, same version is already published
riesling1Windows Server 2019 Standard / x64  OK    OK    OK    OK  
palomino3Windows Server 2022 Datacenter / x64  OK    OK    OK    OK  NO, package depends on 'BiocParallel' which is not available
merida1macOS 10.14.6 Mojave / x86_64  OK    OK    OK    OK  UNNEEDED, same version is already published
Package 3/500HostnameOS / ArchINSTALLBUILDCHECKBUILD BIN
AllelicImbalance 1.33.1  (landing page)
Jesper R Gadin
git_last_commit: 7e81c3a
git_last_commit_date: 2021-11-17 15:17:12 -0500
nebbiolo1Linux (Ubuntu 20.04.4 LTS) / x86_64  OK    OK    OK  UNNEEDED, same version is already published
riesling1Windows Server 2019 Standard / x64  OK    OK    OK    OK  
palomino3Windows Server 2022 Datacenter / x64  OK    OK    OK    OK  NO, package depends on 'GenomicRanges' which is not available
merida1macOS 10.14.6 Mojave / x86_64  OK    OK    OK    OK  UNNEEDED, same version is already published
Package 4/500HostnameOS / ArchINSTALLBUILDCHECKBUILD BIN
alpine 1.21.1  (landing page)
Michael Love
git_last_commit: dc3c0f0
git_last_commit_date: 2021-11-18 19:19:49 -0500
nebbiolo1Linux (Ubuntu 20.04.4 LTS) / x86_64  OK    OK    OK  UNNEEDED, same version is already published
riesling1Windows Server 2019 Standard / x64  OK    OK    OK    OK  
palomino3Windows Server 2022 Datacenter / x64  OK    OK    OK    OK  NO, package depends on 'Biostrings' which is not available
merida1macOS 10.14.6 Mojave / x86_64  OK    OK    OK    OK  UNNEEDED, same version is already published
Package 5/500HostnameOS / ArchINSTALLBUILDCHECKBUILD BIN
amplican 1.17.1  (landing page)
Eivind Valen
git_last_commit: 5b0baca
git_last_commit_date: 2021-11-19 04:13:23 -0500
nebbiolo1Linux (Ubuntu 20.04.4 LTS) / x86_64  OK    OK    OK  UNNEEDED, same version is already published
riesling1Windows Server 2019 Standard / x64  OK    OK    OK    OK  
palomino3Windows Server 2022 Datacenter / x64  OK    OK    OK    OK  NO, package depends on 'BiocGenerics' which is not available
merida1macOS 10.14.6 Mojave / x86_64  OK    OK    OK    OK  UNNEEDED, same version is already published
Package 6/500HostnameOS / ArchINSTALLBUILDCHECKBUILD BIN
AneuFinder 1.23.1  (landing page)
Aaron Taudt
git_last_commit: ac1bba4
git_last_commit_date: 2021-11-18 19:23:58 -0500
nebbiolo1Linux (Ubuntu 20.04.4 LTS) / x86_64  OK    OK    WARNINGS  UNNEEDED, same version is already published
riesling1Windows Server 2019 Standard / x64  OK    OK    WARNINGS    OK  
palomino3Windows Server 2022 Datacenter / x64  OK    OK    WARNINGS    OK  NO, package depends on 'GenomicRanges' which is not available
merida1macOS 10.14.6 Mojave / x86_64  OK    OK    WARNINGS    OK  UNNEEDED, same version is already published
Package 7/500HostnameOS / ArchINSTALLBUILDCHECKBUILD BIN
annmap 1.37.1  (landing page)
Chris Wirth
git_last_commit: df8d2f2
git_last_commit_date: 2022-01-07 06:48:12 -0500
nebbiolo1Linux (Ubuntu 20.04.4 LTS) / x86_64  OK    OK    WARNINGS  UNNEEDED, same version is already published
riesling1Windows Server 2019 Standard / x64... NOT SUPPORTED ...
palomino3Windows Server 2022 Datacenter / x64... NOT SUPPORTED ...
merida1macOS 10.14.6 Mojave / x86_64  OK    OK    WARNINGS    OK  UNNEEDED, same version is already published
Package 8/500HostnameOS / ArchINSTALLBUILDCHECKBUILD BIN
AnnotationFilter 1.19.0  (landing page)
Bioconductor Package Maintainer
git_last_commit: aa3b7ab
git_last_commit_date: 2021-10-26 12:34:17 -0500
nebbiolo1Linux (Ubuntu 20.04.4 LTS) / x86_64  OK    OK    OK  UNNEEDED, same version is already published
riesling1Windows Server 2019 Standard / x64  OK    OK    OK    OK  
palomino3Windows Server 2022 Datacenter / x64  OK    OK    OK    OK  NO, package depends on 'GenomicRanges' which is not available
merida1macOS 10.14.6 Mojave / x86_64  OK    OK    OK    OK  UNNEEDED, same version is already published
Package 9/500HostnameOS / ArchINSTALLBUILDCHECKBUILD BIN
AnnotationHubData 1.25.4  (landing page)
Bioconductor Package Maintainer
git_last_commit: 93f75c2
git_last_commit_date: 2022-01-07 11:23:29 -0500
nebbiolo1Linux (Ubuntu 20.04.4 LTS) / x86_64  OK    OK    WARNINGS  UNNEEDED, same version is already published
riesling1Windows Server 2019 Standard / x64  OK    OK    WARNINGS    OK  
palomino3Windows Server 2022 Datacenter / x64  OK    OK    WARNINGS    OK  NO, package depends on 'S4Vectors' which is not available
merida1macOS 10.14.6 Mojave / x86_64  OK    OK    WARNINGS    OK  UNNEEDED, same version is already published
Package 10/500HostnameOS / ArchINSTALLBUILDCHECKBUILD BIN
annotatr 1.21.1  (landing page)
Raymond G. Cavalcante
git_last_commit: bbf8b55
git_last_commit_date: 2021-11-20 22:59:06 -0500
nebbiolo1Linux (Ubuntu 20.04.4 LTS) / x86_64  OK    OK    OK  UNNEEDED, same version is already published
riesling1Windows Server 2019 Standard / x64  OK    OK    OK    OK  
palomino3Windows Server 2022 Datacenter / x64  OK    OK    OK    OK  NO, package depends on 'AnnotationDbi' which is not available
merida1macOS 10.14.6 Mojave / x86_64  OK    OK    OK    OK  UNNEEDED, same version is already published
Package 11/500HostnameOS / ArchINSTALLBUILDCHECKBUILD BIN
APAlyzer 1.9.2  (landing page)
Ruijia Wang
git_last_commit: 2255916
git_last_commit_date: 2022-01-02 23:50:55 -0500
nebbiolo1Linux (Ubuntu 20.04.4 LTS) / x86_64  OK    OK    WARNINGS  UNNEEDED, same version is already published
riesling1Windows Server 2019 Standard / x64  OK    OK    WARNINGS    OK  
palomino3Windows Server 2022 Datacenter / x64  OK    OK    WARNINGS    OK  NO, package depends on 'GenomicRanges' which is not available
merida1macOS 10.14.6 Mojave / x86_64  OK    OK    WARNINGS    OK  UNNEEDED, same version is already published
Package 12/500HostnameOS / ArchINSTALLBUILDCHECKBUILD BIN
apeglm 1.17.0  (landing page)
Anqi Zhu
git_last_commit: f4e60da
git_last_commit_date: 2021-10-26 12:37:46 -0500
nebbiolo1Linux (Ubuntu 20.04.4 LTS) / x86_64  OK    OK    OK  UNNEEDED, same version is already published
riesling1Windows Server 2019 Standard / x64  OK    OK    OK    OK  
palomino3Windows Server 2022 Datacenter / x64  OK    OK    OK    OK  NO, package depends on 'SummarizedExperiment' which is not available
merida1macOS 10.14.6 Mojave / x86_64  OK    OK    OK    OK  UNNEEDED, same version is already published
Package 13/500HostnameOS / ArchINSTALLBUILDCHECKBUILD BIN
appreci8R 1.13.0  (landing page)
Sarah Sandmann
git_last_commit: a5fe012
git_last_commit_date: 2021-10-26 12:45:40 -0500
nebbiolo1Linux (Ubuntu 20.04.4 LTS) / x86_64  OK    OK    OK  UNNEEDED, same version is already published
riesling1Windows Server 2019 Standard / x64  OK    OK    OK    OK  
palomino3Windows Server 2022 Datacenter / x64  OK    OK    OK    OK  NO, package depends on 'VariantAnnotation' which is not available
merida1macOS 10.14.6 Mojave / x86_64  OK    OK    OK    OK  UNNEEDED, same version is already published
Package 14/500HostnameOS / ArchINSTALLBUILDCHECKBUILD BIN
ArrayExpressHTS 1.45.0  (landing page)
Angela Goncalves , Andrew Tikhonov
git_last_commit: b3fe97b
git_last_commit_date: 2021-10-26 11:59:09 -0500
nebbiolo1Linux (Ubuntu 20.04.4 LTS) / x86_64  OK    OK    WARNINGS  UNNEEDED, same version is already published
riesling1Windows Server 2019 Standard / x64... NOT SUPPORTED ...
palomino3Windows Server 2022 Datacenter / x64... NOT SUPPORTED ...
merida1macOS 10.14.6 Mojave / x86_64  OK    OK    WARNINGS    OK  UNNEEDED, same version is already published
Package 15/500HostnameOS / ArchINSTALLBUILDCHECKBUILD BIN
ASpediaFI 1.9.1  (landing page)
Doyeong Yu
git_last_commit: 53491f1
git_last_commit_date: 2021-11-18 16:35:17 -0500
nebbiolo1Linux (Ubuntu 20.04.4 LTS) / x86_64  OK    OK    OK  UNNEEDED, same version is already published
riesling1Windows Server 2019 Standard / x64  OK    OK    OK    OK  
palomino3Windows Server 2022 Datacenter / x64  OK    OK    OK    OK  NO, package depends on 'SummarizedExperiment' which is not available
merida1macOS 10.14.6 Mojave / x86_64  OK    OK    OK    OK  NO, package depends on 'fgsea' which is not available
Package 16/500HostnameOS / ArchINSTALLBUILDCHECKBUILD BIN
ASpli 2.5.0  (landing page)
Estefania Mancini
git_last_commit: 14aea67
git_last_commit_date: 2021-10-26 12:29:18 -0500
nebbiolo1Linux (Ubuntu 20.04.4 LTS) / x86_64  OK    OK    OK  UNNEEDED, same version is already published
riesling1Windows Server 2019 Standard / x64  OK    OK    OK    OK  
palomino3Windows Server 2022 Datacenter / x64  OK    OK    OK    OK  NO, package depends on 'AnnotationDbi' which is not available
merida1macOS 10.14.6 Mojave / x86_64  OK    OK    OK    OK  UNNEEDED, same version is already published
Package 17/500HostnameOS / ArchINSTALLBUILDCHECKBUILD BIN
AssessORF 1.13.0  (landing page)
Deepank Korandla
git_last_commit: 15d93fb
git_last_commit_date: 2021-10-26 12:47:55 -0500
nebbiolo1Linux (Ubuntu 20.04.4 LTS) / x86_64  OK    OK    OK  UNNEEDED, same version is already published
riesling1Windows Server 2019 Standard / x64  OK    OK    OK    OK  
palomino3Windows Server 2022 Datacenter / x64  OK    OK    OK    OK  NO, package depends on 'DECIPHER' which is not available
merida1macOS 10.14.6 Mojave / x86_64  OK    OK    OK    OK  UNNEEDED, same version is already published
Package 18/500HostnameOS / ArchINSTALLBUILDCHECKBUILD BIN
ATACseqQC 1.19.1  (landing page)
Jianhong Ou
git_last_commit: 78afd65
git_last_commit_date: 2021-11-20 22:59:57 -0500
nebbiolo1Linux (Ubuntu 20.04.4 LTS) / x86_64  OK    OK    OK  UNNEEDED, same version is already published
riesling1Windows Server 2019 Standard / x64  OK    OK    OK    OK  
palomino3Windows Server 2022 Datacenter / x64  OK    OK    OK    OK  NO, package depends on 'BiocGenerics' which is not available
merida1macOS 10.14.6 Mojave / x86_64  OK    OK    OK    OK  UNNEEDED, same version is already published
Package 19/500HostnameOS / ArchINSTALLBUILDCHECKBUILD BIN
atena 1.1.3  (landing page)
Beatriz Calvo-Serra
git_last_commit: 1faaf5a
git_last_commit_date: 2021-12-17 05:05:43 -0500
nebbiolo1Linux (Ubuntu 20.04.4 LTS) / x86_64  OK    OK    OK  UNNEEDED, same version is already published
riesling1Windows Server 2019 Standard / x64  OK    OK    OK    OK  
palomino3Windows Server 2022 Datacenter / x64  OK    OK    OK    OK  NO, package depends on 'SummarizedExperiment' which is not available
merida1macOS 10.14.6 Mojave / x86_64  OK    OK    OK    OK  UNNEEDED, same version is already published
Package 20/500HostnameOS / ArchINSTALLBUILDCHECKBUILD BIN
BaalChIP 1.21.0  (landing page)
Ines de Santiago
git_last_commit: c7fabe0
git_last_commit_date: 2021-10-26 12:30:00 -0500
nebbiolo1Linux (Ubuntu 20.04.4 LTS) / x86_64  OK    OK    WARNINGS  UNNEEDED, same version is already published
riesling1Windows Server 2019 Standard / x64  OK    OK    WARNINGS    OK  
palomino3Windows Server 2022 Datacenter / x64  OK    OK    WARNINGS    OK  NO, package depends on 'GenomicRanges' which is not available
merida1macOS 10.14.6 Mojave / x86_64  OK    OK    WARNINGS    OK  UNNEEDED, same version is already published
Package 21/500HostnameOS / ArchINSTALLBUILDCHECKBUILD BIN
BadRegionFinder 1.23.0  (landing page)
Sarah Sandmann
git_last_commit: 873c415
git_last_commit_date: 2021-10-26 12:26:51 -0500
nebbiolo1Linux (Ubuntu 20.04.4 LTS) / x86_64  OK    OK    OK  UNNEEDED, same version is already published
riesling1Windows Server 2019 Standard / x64  OK    OK    OK    OK  
palomino3Windows Server 2022 Datacenter / x64  OK    OK    OK    OK  NO, package depends on 'VariantAnnotation' which is not available
merida1macOS 10.14.6 Mojave / x86_64  OK    OK    OK    OK  UNNEEDED, same version is already published
Package 22/500HostnameOS / ArchINSTALLBUILDCHECKBUILD BIN
ballgown 2.27.1  (landing page)
Jack Fu
git_last_commit: 1fbcd5f
git_last_commit_date: 2021-11-20 23:00:17 -0500
nebbiolo1Linux (Ubuntu 20.04.4 LTS) / x86_64  OK    OK    OK  UNNEEDED, same version is already published
riesling1Windows Server 2019 Standard / x64  OK    OK    OK    OK  
palomino3Windows Server 2022 Datacenter / x64  OK    OK    OK    OK  NO, package depends on 'GenomicRanges' which is not available
merida1macOS 10.14.6 Mojave / x86_64  OK    OK    OK    OK  UNNEEDED, same version is already published
Package 23/500HostnameOS / ArchINSTALLBUILDCHECKBUILD BIN
bambu 2.1.1  (landing page)
Ying Chen
git_last_commit: 399b30a
git_last_commit_date: 2021-11-22 21:16:11 -0500
nebbiolo1Linux (Ubuntu 20.04.4 LTS) / x86_64  OK    OK    OK  UNNEEDED, same version is already published
riesling1Windows Server 2019 Standard / x64  OK    OK    OK    OK  
palomino3Windows Server 2022 Datacenter / x64  OK    OK    OK    OK  NO, package depends on 'SummarizedExperiment' which is not available
merida1macOS 10.14.6 Mojave / x86_64  OK    OK    OK    OK  UNNEEDED, same version is already published
Package 24/500HostnameOS / ArchINSTALLBUILDCHECKBUILD BIN
bamsignals 1.27.1  (landing page)
Johannes Helmuth
git_last_commit: c40c4b0
git_last_commit_date: 2021-11-17 00:32:19 -0500
nebbiolo1Linux (Ubuntu 20.04.4 LTS) / x86_64  OK    OK    OK  UNNEEDED, same version is already published
riesling1Windows Server 2019 Standard / x64  OK    OK    OK    OK  
palomino3Windows Server 2022 Datacenter / x64  OK    OK    OK    OK  NO, package depends on 'BiocGenerics' which is not available
merida1macOS 10.14.6 Mojave / x86_64  OK    OK    OK    OK  UNNEEDED, same version is already published
Package 25/500HostnameOS / ArchINSTALLBUILDCHECKBUILD BIN
Basic4Cseq 1.31.0  (landing page)
Carolin Walter
git_last_commit: 8975eb3
git_last_commit_date: 2021-10-26 12:12:12 -0500
nebbiolo1Linux (Ubuntu 20.04.4 LTS) / x86_64  OK    OK    OK  UNNEEDED, same version is already published
riesling1Windows Server 2019 Standard / x64  OK    OK    OK    OK  
palomino3Windows Server 2022 Datacenter / x64  OK    OK    OK    OK  NO, package depends on 'Biostrings' which is not available
merida1macOS 10.14.6 Mojave / x86_64  OK    OK    OK    OK  UNNEEDED, same version is already published
Package 26/500HostnameOS / ArchINSTALLBUILDCHECKBUILD BIN
BasicSTARRseq 1.23.0  (landing page)
Annika Buerger
git_last_commit: 5a1b8d8
git_last_commit_date: 2021-10-26 12:25:08 -0500
nebbiolo1Linux (Ubuntu 20.04.4 LTS) / x86_64  OK    OK    OK  UNNEEDED, same version is already published
riesling1Windows Server 2019 Standard / x64  OK    OK    OK    OK  
palomino3Windows Server 2022 Datacenter / x64  OK    OK    OK    OK  NO, package depends on 'GenomicRanges' which is not available
merida1macOS 10.14.6 Mojave / x86_64  OK    OK    OK    OK  UNNEEDED, same version is already published
Package 27/500HostnameOS / ArchINSTALLBUILDCHECKBUILD BIN
baySeq 2.29.0  (landing page)
Thomas J. Hardcastle
git_last_commit: f32f016
git_last_commit_date: 2021-10-26 11:54:47 -0500
nebbiolo1Linux (Ubuntu 20.04.4 LTS) / x86_64  OK    OK    OK  UNNEEDED, same version is already published
riesling1Windows Server 2019 Standard / x64  OK    OK    OK    OK  
palomino3Windows Server 2022 Datacenter / x64  OK    OK    OK    OK  NO, package depends on 'GenomicRanges' which is not available
merida1macOS 10.14.6 Mojave / x86_64  OK    OK    OK    OK  UNNEEDED, same version is already published
Package 28/500HostnameOS / ArchINSTALLBUILDCHECKBUILD BIN
BBCAnalyzer 1.25.0  (landing page)
Sarah Sandmann
git_last_commit: 97dce93
git_last_commit_date: 2021-10-26 12:22:06 -0500
nebbiolo1Linux (Ubuntu 20.04.4 LTS) / x86_64  OK    OK    OK  UNNEEDED, same version is already published
riesling1Windows Server 2019 Standard / x64  OK    OK    WARNINGS    OK  
palomino3Windows Server 2022 Datacenter / x64  OK    OK    WARNINGS    OK  NO, package depends on 'SummarizedExperiment' which is not available
merida1macOS 10.14.6 Mojave / x86_64  OK    OK    OK    OK  UNNEEDED, same version is already published
Package 29/500HostnameOS / ArchINSTALLBUILDCHECKBUILD BIN
beadarray 2.45.0  (landing page)
Mark Dunning
git_last_commit: 3ac2907
git_last_commit_date: 2021-10-26 11:49:14 -0500
nebbiolo1Linux (Ubuntu 20.04.4 LTS) / x86_64  OK    OK    OK  UNNEEDED, same version is already published
riesling1Windows Server 2019 Standard / x64  OK    OK    OK    OK  
palomino3Windows Server 2022 Datacenter / x64  OK    OK    OK    OK  NO, package depends on 'BiocGenerics' which is not available
merida1macOS 10.14.6 Mojave / x86_64  OK    OK    OK    OK  UNNEEDED, same version is already published
Package 30/500HostnameOS / ArchINSTALLBUILDCHECKBUILD BIN
BEAT 1.33.0  (landing page)
Kemal Akman
git_last_commit: 11aa516
git_last_commit_date: 2021-10-26 12:11:32 -0500
nebbiolo1Linux (Ubuntu 20.04.4 LTS) / x86_64  OK    OK    OK  UNNEEDED, same version is already published
riesling1Windows Server 2019 Standard / x64  OK    OK    OK    OK  
palomino3Windows Server 2022 Datacenter / x64  OK    OK    OK    OK  NO, package depends on 'GenomicRanges' which is not available
merida1macOS 10.14.6 Mojave / x86_64  OK    OK    OK    OK  UNNEEDED, same version is already published
Package 31/500HostnameOS / ArchINSTALLBUILDCHECKBUILD BIN
BiFET 1.15.1  (landing page)
Ahrim Youn
git_last_commit: 313bc3f
git_last_commit_date: 2021-11-20 23:01:10 -0500
nebbiolo1Linux (Ubuntu 20.04.4 LTS) / x86_64  OK    OK    OK  UNNEEDED, same version is already published
riesling1Windows Server 2019 Standard / x64  OK    OK    OK    OK  
palomino3Windows Server 2022 Datacenter / x64  OK    OK    OK    OK  NO, package depends on 'GenomicRanges' which is not available
merida1macOS 10.14.6 Mojave / x86_64  OK    OK    OK    OK  UNNEEDED, same version is already published
Package 32/500HostnameOS / ArchINSTALLBUILDCHECKBUILD BIN
BindingSiteFinder 1.1.3  (landing page)
Mirko Brüggemann
git_last_commit: 7aeb915
git_last_commit_date: 2022-01-04 05:40:30 -0500
nebbiolo1Linux (Ubuntu 20.04.4 LTS) / x86_64  OK    OK    OK  UNNEEDED, same version is already published
riesling1Windows Server 2019 Standard / x64  OK    OK    OK    OK  
palomino3Windows Server 2022 Datacenter / x64  OK    OK    OK    OK  NO, package depends on 'GenomicRanges' which is not available
merida1macOS 10.14.6 Mojave / x86_64  OK    OK    OK    OK  UNNEEDED, same version is already published
Package 33/500HostnameOS / ArchINSTALLBUILDCHECKBUILD BIN
BiocOncoTK 1.15.1  (landing page)
VJ Carey
git_last_commit: d1fad8e
git_last_commit_date: 2022-01-14 11:42:50 -0500
nebbiolo1Linux (Ubuntu 20.04.4 LTS) / x86_64  OK    OK    WARNINGS  UNNEEDED, same version is already published
riesling1Windows Server 2019 Standard / x64  OK    OK    WARNINGS    OK  
palomino3Windows Server 2022 Datacenter / x64  OK    OK    WARNINGS    OK  NO, package depends on 'ComplexHeatmap' which is not available
merida1macOS 10.14.6 Mojave / x86_64  OK    OK    WARNINGS    OK  UNNEEDED, same version is already published
Package 34/500HostnameOS / ArchINSTALLBUILDCHECKBUILD BIN
biomvRCNS 1.35.1  (landing page)
Yang Du
git_last_commit: bf846ae
git_last_commit_date: 2021-11-20 23:10:08 -0500
nebbiolo1Linux (Ubuntu 20.04.4 LTS) / x86_64  OK    OK    OK  UNNEEDED, same version is already published
riesling1Windows Server 2019 Standard / x64  OK    OK    OK    OK  
palomino3Windows Server 2022 Datacenter / x64  OK    OK    OK    OK  NO, package depends on 'IRanges' which is not available
merida1macOS 10.14.6 Mojave / x86_64  OK    OK    OK    OK  UNNEEDED, same version is already published
Package 35/500HostnameOS / ArchINSTALLBUILDCHECKBUILD BIN
BioPlex 1.1.2  (landing page)
Ludwig Geistlinger
git_last_commit: 5653a0e
git_last_commit_date: 2021-10-29 12:27:07 -0500
nebbiolo1Linux (Ubuntu 20.04.4 LTS) / x86_64  OK    OK    OK  UNNEEDED, same version is already published
riesling1Windows Server 2019 Standard / x64  OK    OK    OK    OK  
palomino3Windows Server 2022 Datacenter / x64  OK    OK    OK    OK  NO, package depends on 'SummarizedExperiment' which is not available
merida1macOS 10.14.6 Mojave / x86_64  OK    OK    OK    OK  UNNEEDED, same version is already published
Package 36/500HostnameOS / ArchINSTALLBUILDCHECKBUILD BIN
BioTIP 1.9.1  (landing page)
Yuxi (Jennifer) Sun , Zhezhen Wang , and X Holly Yang
git_last_commit: a9b0ccc
git_last_commit_date: 2021-11-17 15:20:20 -0500
nebbiolo1Linux (Ubuntu 20.04.4 LTS) / x86_64  OK    OK    WARNINGS  UNNEEDED, same version is already published
riesling1Windows Server 2019 Standard / x64  OK    OK    WARNINGS    OK  
palomino3Windows Server 2022 Datacenter / x64  OK    OK    WARNINGS    OK  NO, package depends on 'GenomicRanges' which is not available
merida1macOS 10.14.6 Mojave / x86_64  OK    OK    WARNINGS    OK  UNNEEDED, same version is already published
Package 37/500HostnameOS / ArchINSTALLBUILDCHECKBUILD BIN
biovizBase 1.43.1  (landing page)
Michael Lawrence
git_last_commit: d459e88
git_last_commit_date: 2021-11-17 08:55:41 -0500
nebbiolo1Linux (Ubuntu 20.04.4 LTS) / x86_64  OK    OK    WARNINGS  UNNEEDED, same version is already published
riesling1Windows Server 2019 Standard / x64  OK    OK    WARNINGS    OK  
palomino3Windows Server 2022 Datacenter / x64  OK    OK    WARNINGS    OK  NO, package depends on 'BiocGenerics' which is not available
merida1macOS 10.14.6 Mojave / x86_64  OK    OK    WARNINGS    OK  UNNEEDED, same version is already published
Package 38/500HostnameOS / ArchINSTALLBUILDCHECKBUILD BIN
biscuiteer 1.9.2  (landing page)
"Jacob Morrison"
git_last_commit: a17221f
git_last_commit_date: 2021-11-20 23:10:29 -0500
nebbiolo1Linux (Ubuntu 20.04.4 LTS) / x86_64  OK    OK    WARNINGS  UNNEEDED, same version is already published
riesling1Windows Server 2019 Standard / x64  OK    OK    WARNINGS    OK  
palomino3Windows Server 2022 Datacenter / x64  OK    OK    WARNINGS    OK  NO, package depends on 'bsseq' which is not available
merida1macOS 10.14.6 Mojave / x86_64  OK    OK    WARNINGS    OK  UNNEEDED, same version is already published
Package 39/500HostnameOS / ArchINSTALLBUILDCHECKBUILD BIN
BiSeq 1.35.1  (landing page)
Katja Hebestreit
git_last_commit: 5773d7c
git_last_commit_date: 2022-01-14 11:43:32 -0500
nebbiolo1Linux (Ubuntu 20.04.4 LTS) / x86_64  OK    OK    OK  UNNEEDED, same version is already published
riesling1Windows Server 2019 Standard / x64  OK    OK    OK    OK  
palomino3Windows Server 2022 Datacenter / x64  OK    OK    OK    OK  NO, package depends on 'S4Vectors' which is not available
merida1macOS 10.14.6 Mojave / x86_64  OK    OK    OK    OK  UNNEEDED, same version is already published
Package 40/500HostnameOS / ArchINSTALLBUILDCHECKBUILD BIN
bnbc 1.17.1  (landing page)
Kipper Fletez-Brant
git_last_commit: b299f60
git_last_commit_date: 2021-11-20 23:13:42 -0500
nebbiolo1Linux (Ubuntu 20.04.4 LTS) / x86_64  OK    OK    OK  UNNEEDED, same version is already published
riesling1Windows Server 2019 Standard / x64  OK    OK    OK    OK  
palomino3Windows Server 2022 Datacenter / x64  OK    OK    OK    OK  NO, package depends on 'BiocGenerics' which is not available
merida1macOS 10.14.6 Mojave / x86_64  OK    OK    OK    OK  UNNEEDED, same version is already published
Package 41/500HostnameOS / ArchINSTALLBUILDCHECKBUILD BIN
BOBaFIT 0.99.29  (landing page)
Gaia Mazzocchetti
git_last_commit: 62d4e3b
git_last_commit_date: 2021-12-10 03:48:26 -0500
nebbiolo1Linux (Ubuntu 20.04.4 LTS) / x86_64  OK    OK    OK  UNNEEDED, same version is already published
riesling1Windows Server 2019 Standard / x64  OK    OK    OK    OK  
palomino3Windows Server 2022 Datacenter / x64  OK    OK    OK    OK  NO, package depends on 'ggbio' which is not available
merida1macOS 10.14.6 Mojave / x86_64  OK    OK    OK    OK  UNNEEDED, same version is already published
Package 42/500HostnameOS / ArchINSTALLBUILDCHECKBUILD BIN
BPRMeth 1.21.1  (landing page)
Chantriolnt-Andreas Kapourani
git_last_commit: 1107237
git_last_commit_date: 2021-11-20 23:13:48 -0500
nebbiolo1Linux (Ubuntu 20.04.4 LTS) / x86_64  OK    OK    OK  UNNEEDED, same version is already published
riesling1Windows Server 2019 Standard / x64  OK    OK    OK    OK  
palomino3Windows Server 2022 Datacenter / x64  OK    OK    OK    OK  NO, package depends on 'GenomicRanges' which is not available
merida1macOS 10.14.6 Mojave / x86_64  OK    OK    OK    OK  UNNEEDED, same version is already published
Package 43/500HostnameOS / ArchINSTALLBUILDCHECKBUILD BIN
brainflowprobes 1.9.0  (landing page)
Amanda Price
git_last_commit: 65f96c9
git_last_commit_date: 2021-11-22 22:49:05 -0500
nebbiolo1Linux (Ubuntu 20.04.4 LTS) / x86_64  OK    OK    OK  UNNEEDED, same version is already published
riesling1Windows Server 2019 Standard / x64  OK    OK    OK    OK  
palomino3Windows Server 2022 Datacenter / x64  OK    OK    OK    OK  NO, package depends on 'Biostrings' which is not available
merida1macOS 10.14.6 Mojave / x86_64  OK    OK    OK    OK  UNNEEDED, same version is already published
Package 44/500HostnameOS / ArchINSTALLBUILDCHECKBUILD BIN
branchpointer 1.21.0  (landing page)
Beth Signal
git_last_commit: 95272b5
git_last_commit_date: 2021-10-26 12:33:49 -0500
nebbiolo1Linux (Ubuntu 20.04.4 LTS) / x86_64  OK    OK    OK  UNNEEDED, same version is already published
riesling1Windows Server 2019 Standard / x64  OK    OK    OK    OK  
palomino3Windows Server 2022 Datacenter / x64  OK    OK    OK    OK  NO, package depends on 'biomaRt' which is not available
merida1macOS 10.14.6 Mojave / x86_64  OK    OK    OK    OK  UNNEEDED, same version is already published
Package 45/500HostnameOS / ArchINSTALLBUILDCHECKBUILD BIN
breakpointR 1.13.3  (landing page)
David Porubsky
git_last_commit: ba4962b
git_last_commit_date: 2021-12-14 18:35:53 -0500
nebbiolo1Linux (Ubuntu 20.04.4 LTS) / x86_64  OK    OK    OK  UNNEEDED, same version is already published
riesling1Windows Server 2019 Standard / x64  OK    OK    OK    OK  
palomino3Windows Server 2022 Datacenter / x64  OK    OK    OK    OK  NO, package depends on 'GenomicRanges' which is not available
merida1macOS 10.14.6 Mojave / x86_64  OK    OK    OK    OK  UNNEEDED, same version is already published
Package 46/500HostnameOS / ArchINSTALLBUILDCHECKBUILD BIN
BRGenomics 1.7.0  (landing page)
Mike DeBerardine
git_last_commit: 1851a17
git_last_commit_date: 2021-10-26 12:58:20 -0500
nebbiolo1Linux (Ubuntu 20.04.4 LTS) / x86_64  OK    OK    WARNINGS  UNNEEDED, same version is already published
riesling1Windows Server 2019 Standard / x64  OK    OK    WARNINGS    OK  
palomino3Windows Server 2022 Datacenter / x64  OK    OK    WARNINGS    OK  NO, package depends on 'rtracklayer' which is not available
merida1macOS 10.14.6 Mojave / x86_64  OK    OK    WARNINGS    OK  UNNEEDED, same version is already published
Package 47/500HostnameOS / ArchINSTALLBUILDCHECKBUILD BIN
BSgenome 1.63.3  (landing page)
H. Pagès
git_last_commit: b83d582
git_last_commit_date: 2021-11-17 16:19:59 -0500
nebbiolo1Linux (Ubuntu 20.04.4 LTS) / x86_64  OK    OK    WARNINGS  UNNEEDED, same version is already published
riesling1Windows Server 2019 Standard / x64  OK    OK    WARNINGS    OK  
palomino3Windows Server 2022 Datacenter / x64  OK    OK    WARNINGS    OK  NO, package depends on 'BiocGenerics' which is not available
merida1macOS 10.14.6 Mojave / x86_64  OK    OK    WARNINGS    OK  UNNEEDED, same version is already published
Package 48/500HostnameOS / ArchINSTALLBUILDCHECKBUILD BIN
bsseq 1.31.1  (landing page)
Kasper Daniel Hansen
git_last_commit: b9e8130
git_last_commit_date: 2021-11-01 21:52:48 -0500
nebbiolo1Linux (Ubuntu 20.04.4 LTS) / x86_64  OK    OK    OK  UNNEEDED, same version is already published
riesling1Windows Server 2019 Standard / x64  OK    OK    OK    OK  
palomino3Windows Server 2022 Datacenter / x64  OK    OK    OK    OK  NO, package depends on 'BiocGenerics' which is not available
merida1macOS 10.14.6 Mojave / x86_64  OK    OK    OK    OK  UNNEEDED, same version is already published
Package 49/500HostnameOS / ArchINSTALLBUILDCHECKBUILD BIN
BubbleTree 2.25.0  (landing page)
Todd Creasy , Wei Zhu
git_last_commit: 26a7104
git_last_commit_date: 2021-10-26 12:18:49 -0500
nebbiolo1Linux (Ubuntu 20.04.4 LTS) / x86_64  OK    OK    OK  UNNEEDED, same version is already published
riesling1Windows Server 2019 Standard / x64  OK    OK    OK    OK  
palomino3Windows Server 2022 Datacenter / x64  OK    OK    OK    OK  NO, package depends on 'IRanges' which is not available
merida1macOS 10.14.6 Mojave / x86_64  OK    OK    OK    OK  UNNEEDED, same version is already published
Package 50/500HostnameOS / ArchINSTALLBUILDCHECKBUILD BIN
bumphunter 1.37.1  (landing page)
Tamilselvi Guharaj
git_last_commit: 478db86
git_last_commit_date: 2021-11-20 23:19:33 -0500
nebbiolo1Linux (Ubuntu 20.04.4 LTS) / x86_64  OK    OK    OK  UNNEEDED, same version is already published
riesling1Windows Server 2019 Standard / x64  OK    OK    OK    OK  
palomino3Windows Server 2022 Datacenter / x64  OK    OK    OK    OK  NO, package depends on 'S4Vectors' which is not available
merida1macOS 10.14.6 Mojave / x86_64  OK    OK    OK    OK  UNNEEDED, same version is already published
Package 51/500HostnameOS / ArchINSTALLBUILDCHECKBUILD BIN
BUSpaRse 1.9.0  (landing page)
Lambda Moses
git_last_commit: a3b907e
git_last_commit_date: 2021-10-26 12:53:45 -0500
nebbiolo1Linux (Ubuntu 20.04.4 LTS) / x86_64  OK    OK    OK  UNNEEDED, same version is already published
riesling1Windows Server 2019 Standard / x64  OK    OK    OK    OK  
palomino3Windows Server 2022 Datacenter / x64  OK    ERROR  skippedskipped
merida1macOS 10.14.6 Mojave / x86_64  OK    ERROR  skippedskipped
Package 52/500HostnameOS / ArchINSTALLBUILDCHECKBUILD BIN
CAFE 1.31.0  (landing page)
Sander Bollen
git_last_commit: 24b7cec
git_last_commit_date: 2021-10-26 12:12:15 -0500
nebbiolo1Linux (Ubuntu 20.04.4 LTS) / x86_64  OK    OK    WARNINGS  UNNEEDED, same version is already published
riesling1Windows Server 2019 Standard / x64  OK    OK    WARNINGS    OK  
palomino3Windows Server 2022 Datacenter / x64  OK    OK    WARNINGS    OK  NO, package depends on 'biovizBase' which is not available
merida1macOS 10.14.6 Mojave / x86_64  OK    OK    WARNINGS    OK  UNNEEDED, same version is already published
Package 53/500HostnameOS / ArchINSTALLBUILDCHECKBUILD BIN
CAGEfightR 1.15.1  (landing page)
Malte Thodberg
git_last_commit: aead2e0
git_last_commit_date: 2021-11-20 23:19:47 -0500
nebbiolo1Linux (Ubuntu 20.04.4 LTS) / x86_64  OK    OK    OK  UNNEEDED, same version is already published
riesling1Windows Server 2019 Standard / x64  OK    OK    OK    OK  
palomino3Windows Server 2022 Datacenter / x64  OK    OK    OK    OK  NO, package depends on 'GenomicRanges' which is not available
merida1macOS 10.14.6 Mojave / x86_64  OK    OK    OK    OK  UNNEEDED, same version is already published
Package 54/500HostnameOS / ArchINSTALLBUILDCHECKBUILD BIN
cageminer 1.1.0  (landing page)
Fabrício Almeida-Silva
git_last_commit: 55c80b9
git_last_commit_date: 2021-10-26 13:11:21 -0500
nebbiolo1Linux (Ubuntu 20.04.4 LTS) / x86_64  OK    OK    OK  UNNEEDED, same version is already published
riesling1Windows Server 2019 Standard / x64  OK    OK    OK    OK  
palomino3Windows Server 2022 Datacenter / x64  OK    OK    OK    OK  NO, package depends on 'ggbio' which is not available
merida1macOS 10.14.6 Mojave / x86_64  OK    OK    OK    OK  UNNEEDED, same version is already published
Package 55/500HostnameOS / ArchINSTALLBUILDCHECKBUILD BIN
CAGEr 2.1.3  (landing page)
Charles Plessy
git_last_commit: 5a58b26
git_last_commit_date: 2021-11-17 15:27:06 -0500
nebbiolo1Linux (Ubuntu 20.04.4 LTS) / x86_64  OK    OK    OK  UNNEEDED, same version is already published
riesling1Windows Server 2019 Standard / x64  OK    OK    OK    OK  
palomino3Windows Server 2022 Datacenter / x64  OK    OK    OK    OK  NO, package depends on 'MultiAssayExperiment' which is not available
merida1macOS 10.14.6 Mojave / x86_64  OK    OK    OK    OK  UNNEEDED, same version is already published
Package 56/500HostnameOS / ArchINSTALLBUILDCHECKBUILD BIN
casper 2.29.1  (landing page)
David Rossell
git_last_commit: ff4be92
git_last_commit_date: 2021-11-20 23:20:07 -0500
nebbiolo1Linux (Ubuntu 20.04.4 LTS) / x86_64  OK    OK    WARNINGS  UNNEEDED, same version is already published
riesling1Windows Server 2019 Standard / x64  OK    OK    WARNINGS    OK  
palomino3Windows Server 2022 Datacenter / x64  OK    OK    WARNINGS    OK  NO, package depends on 'Biobase' which is not available
merida1macOS 10.14.6 Mojave / x86_64  OK    OK    WARNINGS    OK  UNNEEDED, same version is already published
Package 57/500HostnameOS / ArchINSTALLBUILDCHECKBUILD BIN
cBioPortalData 2.7.3  (landing page)
Marcel Ramos
git_last_commit: 2304ab9
git_last_commit_date: 2021-11-30 12:20:53 -0500
nebbiolo1Linux (Ubuntu 20.04.4 LTS) / x86_64  OK    OK    WARNINGS  UNNEEDED, same version is already published
riesling1Windows Server 2019 Standard / x64  OK    OK    WARNINGS    OK  
palomino3Windows Server 2022 Datacenter / x64  OK    OK    WARNINGS    OK  NO, package depends on 'MultiAssayExperiment' which is not available
merida1macOS 10.14.6 Mojave / x86_64  OK    OK    WARNINGS    OK  UNNEEDED, same version is already published
Package 58/500HostnameOS / ArchINSTALLBUILDCHECKBUILD BIN
CexoR 1.33.0  (landing page)
Pedro Madrigal
git_last_commit: a013200
git_last_commit_date: 2021-10-26 13:12:55 -0500
nebbiolo1Linux (Ubuntu 20.04.4 LTS) / x86_64  OK    OK    OK  UNNEEDED, same version is already published
riesling1Windows Server 2019 Standard / x64  OK    OK    OK    OK  
palomino3Windows Server 2022 Datacenter / x64  OK    OK    OK    OK  NO, package depends on 'S4Vectors' which is not available
merida1macOS 10.14.6 Mojave / x86_64  OK    OK    OK    OK  UNNEEDED, same version is already published
Package 59/500HostnameOS / ArchINSTALLBUILDCHECKBUILD BIN
ChAMP 2.25.0  (landing page)
Yuan Tian
git_last_commit: f25a72d
git_last_commit_date: 2021-10-26 12:10:43 -0500
nebbiolo1Linux (Ubuntu 20.04.4 LTS) / x86_64  OK    OK    WARNINGS  UNNEEDED, same version is already published
riesling1Windows Server 2019 Standard / x64  OK    OK    WARNINGS    OK  
palomino3Windows Server 2022 Datacenter / x64  OK    OK    WARNINGS    OK  NO, package depends on 'minfi' which is not available
merida1macOS 10.14.6 Mojave / x86_64  OK    OK    WARNINGS    OK  NO, package depends on 'DMRcate' which is not available
Package 60/500HostnameOS / ArchINSTALLBUILDCHECKBUILD BIN
ChIC 1.15.0  (landing page)
Carmen Maria Livi
git_last_commit: 1022d72
git_last_commit_date: 2021-10-26 12:43:56 -0500
nebbiolo1Linux (Ubuntu 20.04.4 LTS) / x86_64  OK    OK    OK  UNNEEDED, same version is already published
riesling1Windows Server 2019 Standard / x64... NOT SUPPORTED ...
palomino3Windows Server 2022 Datacenter / x64... NOT SUPPORTED ...
merida1macOS 10.14.6 Mojave / x86_64  OK    OK    OK    OK  UNNEEDED, same version is already published
Package 61/500HostnameOS / ArchINSTALLBUILDCHECKBUILD BIN
chimeraviz 1.21.0  (landing page)
Stian Lågstad
git_last_commit: ea91012
git_last_commit_date: 2021-10-26 12:31:52 -0500
nebbiolo1Linux (Ubuntu 20.04.4 LTS) / x86_64  OK    OK    OK  UNNEEDED, same version is already published
riesling1Windows Server 2019 Standard / x64  OK    OK    OK    OK  
palomino3Windows Server 2022 Datacenter / x64  OK    OK    OK    OK  NO, package depends on 'Biostrings' which is not available
merida1macOS 10.14.6 Mojave / x86_64  OK    OK    OK    OK  UNNEEDED, same version is already published
Package 62/500HostnameOS / ArchINSTALLBUILDCHECKBUILD BIN
ChIPanalyser 1.17.1  (landing page)
Patrick C.N. Martin
git_last_commit: 66ff2c8
git_last_commit_date: 2021-11-18 16:54:52 -0500
nebbiolo1Linux (Ubuntu 20.04.4 LTS) / x86_64  OK    OK    OK  UNNEEDED, same version is already published
riesling1Windows Server 2019 Standard / x64  OK    OK    OK    OK  
palomino3Windows Server 2022 Datacenter / x64  OK    OK    OK    OK  NO, package depends on 'GenomicRanges' which is not available
merida1macOS 10.14.6 Mojave / x86_64  OK    OK    OK    OK  UNNEEDED, same version is already published
Package 63/500HostnameOS / ArchINSTALLBUILDCHECKBUILD BIN
ChIPComp 1.25.0  (landing page)
Li Chen
git_last_commit: f8cfac7
git_last_commit_date: 2021-10-26 12:22:08 -0500
nebbiolo1Linux (Ubuntu 20.04.4 LTS) / x86_64  OK    OK    OK  UNNEEDED, same version is already published
riesling1Windows Server 2019 Standard / x64  OK    OK    OK    OK  
palomino3Windows Server 2022 Datacenter / x64  OK    OK    OK    OK  NO, package depends on 'GenomicRanges' which is not available
merida1macOS 10.14.6 Mojave / x86_64  OK    OK    OK    OK  UNNEEDED, same version is already published
Package 64/500HostnameOS / ArchINSTALLBUILDCHECKBUILD BIN
chipenrich 2.19.0  (landing page)
Raymond G. Cavalcante
git_last_commit: bc9e4cd
git_last_commit_date: 2021-10-26 12:09:45 -0500
nebbiolo1Linux (Ubuntu 20.04.4 LTS) / x86_64  OK    OK    OK  UNNEEDED, same version is already published
riesling1Windows Server 2019 Standard / x64  OK    OK    OK    OK  
palomino3Windows Server 2022 Datacenter / x64  OK    OK    OK    OK  NO, package depends on 'AnnotationDbi' which is not available
merida1macOS 10.14.6 Mojave / x86_64  OK    OK    OK    OK  UNNEEDED, same version is already published
Package 65/500HostnameOS / ArchINSTALLBUILDCHECKBUILD BIN
ChIPexoQual 1.19.1  (landing page)
Rene Welch
git_last_commit: f1c48ae
git_last_commit_date: 2021-11-18 16:48:13 -0500
nebbiolo1Linux (Ubuntu 20.04.4 LTS) / x86_64  OK    OK    OK  UNNEEDED, same version is already published
riesling1Windows Server 2019 Standard / x64  OK    OK    OK    OK  
palomino3Windows Server 2022 Datacenter / x64  OK    OK    OK    OK  NO, package depends on 'GenomicAlignments' which is not available
merida1macOS 10.14.6 Mojave / x86_64  OK    OK    OK    OK  UNNEEDED, same version is already published
Package 66/500HostnameOS / ArchINSTALLBUILDCHECKBUILD BIN
ChIPpeakAnno 3.29.3  (landing page)
Jianhong Ou
git_last_commit: a414709
git_last_commit_date: 2022-01-06 13:23:08 -0500
nebbiolo1Linux (Ubuntu 20.04.4 LTS) / x86_64  OK    OK    OK  UNNEEDED, same version is already published
riesling1Windows Server 2019 Standard / x64  OK    OK    OK    OK  
palomino3Windows Server 2022 Datacenter / x64  OK    OK    OK    OK  NO, package depends on 'IRanges' which is not available
merida1macOS 10.14.6 Mojave / x86_64  OK    OK    OK    OK  UNNEEDED, same version is already published
Package 67/500HostnameOS / ArchINSTALLBUILDCHECKBUILD BIN
ChIPQC 1.31.1  (landing page)
Tom Carroll , Rory Stark
git_last_commit: e20e832
git_last_commit_date: 2021-11-20 23:21:44 -0500
nebbiolo1Linux (Ubuntu 20.04.4 LTS) / x86_64  OK    OK    WARNINGS  UNNEEDED, same version is already published
riesling1Windows Server 2019 Standard / x64  OK    OK    WARNINGS    OK  
palomino3Windows Server 2022 Datacenter / x64  OK    OK    WARNINGS    OK  NO, package depends on 'DiffBind' which is not available
merida1macOS 10.14.6 Mojave / x86_64  OK    OK    ERROR    OK  
Package 68/500HostnameOS / ArchINSTALLBUILDCHECKBUILD BIN
ChIPseeker 1.31.3  (landing page)
Guangchuang Yu
git_last_commit: a1f936c
git_last_commit_date: 2021-12-15 22:40:41 -0500
nebbiolo1Linux (Ubuntu 20.04.4 LTS) / x86_64  OK    OK    OK  UNNEEDED, same version is already published
riesling1Windows Server 2019 Standard / x64  OK    OK    OK    OK  
palomino3Windows Server 2022 Datacenter / x64  OK    OK    OK    OK  NO, package depends on 'AnnotationDbi' which is not available
merida1macOS 10.14.6 Mojave / x86_64  OK    OK    OK    OK  NO, package depends on 'enrichplot' which is not available
Package 69/500HostnameOS / ArchINSTALLBUILDCHECKBUILD BIN
chipseq 1.45.1  (landing page)
Bioconductor Package Maintainer
git_last_commit: ca93b17
git_last_commit_date: 2021-11-20 23:21:56 -0500
nebbiolo1Linux (Ubuntu 20.04.4 LTS) / x86_64  OK    OK    WARNINGS  UNNEEDED, same version is already published
riesling1Windows Server 2019 Standard / x64  OK    OK    WARNINGS    OK  
palomino3Windows Server 2022 Datacenter / x64  OK    OK    WARNINGS    OK  NO, package depends on 'BiocGenerics' which is not available
merida1macOS 10.14.6 Mojave / x86_64  OK    OK    WARNINGS    OK  UNNEEDED, same version is already published
Package 70/500HostnameOS / ArchINSTALLBUILDCHECKBUILD BIN
ChIPseqR 1.49.0  (landing page)
Peter Humburg
git_last_commit: 853ba4f
git_last_commit_date: 2021-10-26 11:54:55 -0500
nebbiolo1Linux (Ubuntu 20.04.4 LTS) / x86_64  OK    OK    OK  UNNEEDED, same version is already published
riesling1Windows Server 2019 Standard / x64  OK    OK    OK    OK  
palomino3Windows Server 2022 Datacenter / x64  OK    OK    OK    OK  NO, package depends on 'BiocGenerics' which is not available
merida1macOS 10.14.6 Mojave / x86_64  OK    OK    OK    OK  UNNEEDED, same version is already published
Package 71/500HostnameOS / ArchINSTALLBUILDCHECKBUILD BIN
chromDraw 2.25.0  (landing page)
Jan Janecka
git_last_commit: 8c2daf3
git_last_commit_date: 2021-10-26 12:18:12 -0500
nebbiolo1Linux (Ubuntu 20.04.4 LTS) / x86_64  OK    OK    WARNINGS  UNNEEDED, same version is already published
riesling1Windows Server 2019 Standard / x64  OK    OK    WARNINGS    OK  
palomino3Windows Server 2022 Datacenter / x64  OK    OK    WARNINGS    OK  NO, package depends on 'GenomicRanges' which is not available
merida1macOS 10.14.6 Mojave / x86_64  OK    OK    WARNINGS    OK  UNNEEDED, same version is already published
Package 72/500HostnameOS / ArchINSTALLBUILDCHECKBUILD BIN
ChromHeatMap 1.49.0  (landing page)
Tim F. Rayner
git_last_commit: 6b6da2c
git_last_commit_date: 2021-10-26 11:54:52 -0500
nebbiolo1Linux (Ubuntu 20.04.4 LTS) / x86_64  OK    OK    OK  UNNEEDED, same version is already published
riesling1Windows Server 2019 Standard / x64  OK    OK    OK    OK  
palomino3Windows Server 2022 Datacenter / x64  OK    OK    OK    OK  NO, package depends on 'BiocGenerics' which is not available
merida1macOS 10.14.6 Mojave / x86_64  OK    OK    OK    OK  UNNEEDED, same version is already published
Package 73/500HostnameOS / ArchINSTALLBUILDCHECKBUILD BIN
chromPlot 1.23.0  (landing page)
Karen Y. Orostica
git_last_commit: 472b15f
git_last_commit_date: 2021-10-26 12:25:40 -0500
nebbiolo1Linux (Ubuntu 20.04.4 LTS) / x86_64  OK    OK    OK  UNNEEDED, same version is already published
riesling1Windows Server 2019 Standard / x64  OK    OK    WARNINGS    OK  
palomino3Windows Server 2022 Datacenter / x64  OK    OK    WARNINGS    OK  NO, package depends on 'biomaRt' which is not available
merida1macOS 10.14.6 Mojave / x86_64  OK    OK    OK    OK  UNNEEDED, same version is already published
Package 74/500HostnameOS / ArchINSTALLBUILDCHECKBUILD BIN
ChromSCape 1.5.1  (landing page)
Pacome Prompsy
git_last_commit: 4ca7334
git_last_commit_date: 2022-01-10 11:40:53 -0500
nebbiolo1Linux (Ubuntu 20.04.4 LTS) / x86_64  OK    OK    OK  UNNEEDED, same version is already published
riesling1Windows Server 2019 Standard / x64  OK    OK    OK    OK  
palomino3Windows Server 2022 Datacenter / x64  OK    OK    OK    OK  NO, package depends on 'rtracklayer' which is not available
merida1macOS 10.14.6 Mojave / x86_64  OK    OK    OK    OK  UNNEEDED, same version is already published
Package 75/500HostnameOS / ArchINSTALLBUILDCHECKBUILD BIN
chromstaR 1.21.4  (landing page)
Aaron Taudt
git_last_commit: 79057fd
git_last_commit_date: 2021-12-14 21:44:02 -0500
nebbiolo1Linux (Ubuntu 20.04.4 LTS) / x86_64  OK    OK    OK  UNNEEDED, same version is already published
riesling1Windows Server 2019 Standard / x64  OK    OK    OK    OK  
palomino3Windows Server 2022 Datacenter / x64  OK    OK    OK    OK  NO, package depends on 'GenomicRanges' which is not available
merida1macOS 10.14.6 Mojave / x86_64  OK    ERROR  skippedskipped
Package 76/500HostnameOS / ArchINSTALLBUILDCHECKBUILD BIN
chromswitch 1.17.0  (landing page)
Selin Jessa
git_last_commit: 78d3895
git_last_commit_date: 2021-10-26 12:39:46 -0500
nebbiolo1Linux (Ubuntu 20.04.4 LTS) / x86_64  OK    OK    OK  UNNEEDED, same version is already published
riesling1Windows Server 2019 Standard / x64  OK    OK    OK    OK  
palomino3Windows Server 2022 Datacenter / x64  OK    OK    OK    OK  NO, package depends on 'GenomicRanges' which is not available
merida1macOS 10.14.6 Mojave / x86_64  OK    OK    OK    OK  UNNEEDED, same version is already published
Package 77/500HostnameOS / ArchINSTALLBUILDCHECKBUILD BIN
chromVAR 1.17.1  (landing page)
Alicia Schep
git_last_commit: d00cba8
git_last_commit_date: 2021-11-20 23:22:19 -0500
nebbiolo1Linux (Ubuntu 20.04.4 LTS) / x86_64  OK    OK    OK  UNNEEDED, same version is already published
riesling1Windows Server 2019 Standard / x64  OK    OK    OK    OK  
palomino3Windows Server 2022 Datacenter / x64  OK    OK    OK    OK  NO, package depends on 'IRanges' which is not available
merida1macOS 10.14.6 Mojave / x86_64  OK    OK    OK    OK  UNNEEDED, same version is already published
Package 78/500HostnameOS / ArchINSTALLBUILDCHECKBUILD BIN
cicero 1.13.0  (landing page)
Hannah Pliner
git_last_commit: e4e2d36
git_last_commit_date: 2021-10-26 12:47:09 -0500
nebbiolo1Linux (Ubuntu 20.04.4 LTS) / x86_64  OK    OK    OK  NO, package depends on 'monocle' which is not available
riesling1Windows Server 2019 Standard / x64  OK    OK    OK    OK  
palomino3Windows Server 2022 Datacenter / x64  OK    OK    OK    OK  NO, package depends on 'monocle' which is not available
merida1macOS 10.14.6 Mojave / x86_64  OK    OK    OK    OK  NO, package depends on 'monocle' which is not available
Package 79/500HostnameOS / ArchINSTALLBUILDCHECKBUILD BIN
CINdex 1.23.0  (landing page)
Yuriy Gusev
git_last_commit: 08ce826
git_last_commit_date: 2021-10-26 12:26:47 -0500
nebbiolo1Linux (Ubuntu 20.04.4 LTS) / x86_64  OK    OK    WARNINGS  UNNEEDED, same version is already published
riesling1Windows Server 2019 Standard / x64  OK    OK    WARNINGS    OK  
palomino3Windows Server 2022 Datacenter / x64  OK    OK    WARNINGS    OK  NO, package depends on 'GenomicRanges' which is not available
merida1macOS 10.14.6 Mojave / x86_64  OK    OK    WARNINGS    OK  UNNEEDED, same version is already published
Package 80/500HostnameOS / ArchINSTALLBUILDCHECKBUILD BIN
circRNAprofiler 1.9.2  (landing page)
Simona Aufiero
git_last_commit: 0c5efa9
git_last_commit_date: 2021-11-09 10:43:09 -0500
nebbiolo1Linux (Ubuntu 20.04.4 LTS) / x86_64  OK    OK    OK  UNNEEDED, same version is already published
riesling1Windows Server 2019 Standard / x64  OK    OK    OK    OK  
palomino3Windows Server 2022 Datacenter / x64  OK    OK    OK    OK  NO, package depends on 'rtracklayer' which is not available
merida1macOS 10.14.6 Mojave / x86_64  OK    OK    OK    OK  UNNEEDED, same version is already published
Package 81/500HostnameOS / ArchINSTALLBUILDCHECKBUILD BIN
cleanUpdTSeq 1.33.0  (landing page)
Jianhong Ou ; Lihua Julie Zhu
git_last_commit: ddeaa93
git_last_commit_date: 2021-10-26 12:08:46 -0500
nebbiolo1Linux (Ubuntu 20.04.4 LTS) / x86_64  OK    OK    OK  UNNEEDED, same version is already published
riesling1Windows Server 2019 Standard / x64  OK    OK    OK    OK  
palomino3Windows Server 2022 Datacenter / x64  OK    OK    OK    OK  NO, package depends on 'BSgenome' which is not available
merida1macOS 10.14.6 Mojave / x86_64  OK    OK    OK    OK  UNNEEDED, same version is already published
Package 82/500HostnameOS / ArchINSTALLBUILDCHECKBUILD BIN
cliProfiler 1.1.0  (landing page)
You Zhou
git_last_commit: b1e6cc1
git_last_commit_date: 2021-10-26 13:13:16 -0500
nebbiolo1Linux (Ubuntu 20.04.4 LTS) / x86_64  OK    OK    OK  UNNEEDED, same version is already published
riesling1Windows Server 2019 Standard / x64  OK    OK    OK    OK  
palomino3Windows Server 2022 Datacenter / x64  OK    OK    OK    OK  NO, package depends on 'S4Vectors' which is not available
merida1macOS 10.14.6 Mojave / x86_64  OK    OK    OK    OK  UNNEEDED, same version is already published
Package 83/500HostnameOS / ArchINSTALLBUILDCHECKBUILD BIN
cn.mops 1.41.1  (landing page)
Gundula Povysil
git_last_commit: cd0cc29
git_last_commit_date: 2021-11-20 03:52:29 -0500
nebbiolo1Linux (Ubuntu 20.04.4 LTS) / x86_64  OK    OK    OK  UNNEEDED, same version is already published
riesling1Windows Server 2019 Standard / x64  OK    OK    OK    OK  
palomino3Windows Server 2022 Datacenter / x64  OK    OK    OK    OK  NO, package depends on 'GenomicRanges' which is not available
merida1macOS 10.14.6 Mojave / x86_64  OK    OK    OK    OK  UNNEEDED, same version is already published
Package 84/500HostnameOS / ArchINSTALLBUILDCHECKBUILD BIN
CNEr 1.31.1  (landing page)
Ge Tan
git_last_commit: 0643f08
git_last_commit_date: 2021-11-20 03:55:18 -0500
nebbiolo1Linux (Ubuntu 20.04.4 LTS) / x86_64  OK    OK    OK  UNNEEDED, same version is already published
riesling1Windows Server 2019 Standard / x64  OK    OK    WARNINGS    OK  
palomino3Windows Server 2022 Datacenter / x64  OK    OK    WARNINGS    OK  NO, package depends on 'Biostrings' which is not available
merida1macOS 10.14.6 Mojave / x86_64  OK    OK    WARNINGS    OK  UNNEEDED, same version is already published
Package 85/500HostnameOS / ArchINSTALLBUILDCHECKBUILD BIN
CNVfilteR 1.9.0  (landing page)
Jose Marcos Moreno-Cabrera
git_last_commit: f2cc045
git_last_commit_date: 2021-10-26 12:54:56 -0500
nebbiolo1Linux (Ubuntu 20.04.4 LTS) / x86_64  OK    OK    OK  UNNEEDED, same version is already published
riesling1Windows Server 2019 Standard / x64  OK    OK    OK    OK  
palomino3Windows Server 2022 Datacenter / x64  OK    OK    OK    OK  NO, package depends on 'IRanges' which is not available
merida1macOS 10.14.6 Mojave / x86_64  OK    OK    OK    OK  UNNEEDED, same version is already published
Package 86/500HostnameOS / ArchINSTALLBUILDCHECKBUILD BIN
cnvGSA 1.39.0  (landing page)
Joseph Lugo
git_last_commit: 7dd935f
git_last_commit_date: 2021-10-26 12:02:49 -0500
nebbiolo1Linux (Ubuntu 20.04.4 LTS) / x86_64  OK    OK    OK  UNNEEDED, same version is already published
riesling1Windows Server 2019 Standard / x64  OK    OK    OK    OK  
palomino3Windows Server 2022 Datacenter / x64  OK    OK    OK    OK  NO, package depends on 'GenomicRanges' which is not available
merida1macOS 10.14.6 Mojave / x86_64  OK    OK    OK    OK  UNNEEDED, same version is already published
Package 87/500HostnameOS / ArchINSTALLBUILDCHECKBUILD BIN
CNViz 1.3.0  (landing page)
Rebecca Greenblatt
git_last_commit: bde1fe7
git_last_commit_date: 2021-10-26 13:08:39 -0500
nebbiolo1Linux (Ubuntu 20.04.4 LTS) / x86_64  OK    OK    OK  UNNEEDED, same version is already published
riesling1Windows Server 2019 Standard / x64  OK    OK    OK    OK  
palomino3Windows Server 2022 Datacenter / x64  OK    OK    OK    OK  NO, package depends on 'karyoploteR' which is not available
merida1macOS 10.14.6 Mojave / x86_64  OK    OK    OK    OK  UNNEEDED, same version is already published
Package 88/500HostnameOS / ArchINSTALLBUILDCHECKBUILD BIN
CNVMetrics 0.99.3  (landing page)
Astrid Deschênes
git_last_commit: 02e3123
git_last_commit_date: 2021-12-06 00:10:08 -0500
nebbiolo1Linux (Ubuntu 20.04.4 LTS) / x86_64  OK    OK    OK  UNNEEDED, same version is already published
riesling1Windows Server 2019 Standard / x64  OK    OK    OK    OK  
palomino3Windows Server 2022 Datacenter / x64  OK    OK    OK    OK  NO, package depends on 'GenomicRanges' which is not available
merida1macOS 10.14.6 Mojave / x86_64  OK    OK    OK    OK  UNNEEDED, same version is already published
Package 89/500HostnameOS / ArchINSTALLBUILDCHECKBUILD BIN
CNVPanelizer 1.27.0  (landing page)
Thomas Wolf
git_last_commit: 6a20a6b
git_last_commit_date: 2021-10-26 12:21:16 -0500
nebbiolo1Linux (Ubuntu 20.04.4 LTS) / x86_64  OK    OK    OK  UNNEEDED, same version is already published
riesling1Windows Server 2019 Standard / x64  OK    OK    OK    OK  
palomino3Windows Server 2022 Datacenter / x64  OK    OK    OK    OK  NO, package depends on 'GenomicRanges' which is not available
merida1macOS 10.14.6 Mojave / x86_64  OK    OK    OK    OK  UNNEEDED, same version is already published
Package 90/500HostnameOS / ArchINSTALLBUILDCHECKBUILD BIN
CNVRanger 1.11.0  (landing page)
Ludwig Geistlinger
git_last_commit: 5ca6a1e
git_last_commit_date: 2021-10-26 12:49:21 -0500
nebbiolo1Linux (Ubuntu 20.04.4 LTS) / x86_64  OK    OK    OK  UNNEEDED, same version is already published
riesling1Windows Server 2019 Standard / x64  OK    OK    OK    OK  
palomino3Windows Server 2022 Datacenter / x64  OK    OK    OK    OK  NO, package depends on 'GenomicRanges' which is not available
merida1macOS 10.14.6 Mojave / x86_64  OK    OK    OK    OK  UNNEEDED, same version is already published
Package 91/500HostnameOS / ArchINSTALLBUILDCHECKBUILD BIN
COCOA 2.9.1  (landing page)
John Lawson
git_last_commit: 8d1d3ca
git_last_commit_date: 2021-11-19 00:54:37 -0500
nebbiolo1Linux (Ubuntu 20.04.4 LTS) / x86_64  OK    OK    OK  UNNEEDED, same version is already published
riesling1Windows Server 2019 Standard / x64  OK    OK    OK    OK  
palomino3Windows Server 2022 Datacenter / x64  OK    OK    OK    OK  NO, package depends on 'GenomicRanges' which is not available
merida1macOS 10.14.6 Mojave / x86_64  OK    OK    OK    OK  UNNEEDED, same version is already published
Package 92/500HostnameOS / ArchINSTALLBUILDCHECKBUILD BIN
Cogito 1.1.0  (landing page)
Annika Bürger
git_last_commit: 6852ebd
git_last_commit_date: 2021-10-26 13:13:23 -0500
nebbiolo1Linux (Ubuntu 20.04.4 LTS) / x86_64  OK    OK    OK  UNNEEDED, same version is already published
riesling1Windows Server 2019 Standard / x64  OK    OK    OK    OK  
palomino3Windows Server 2022 Datacenter / x64  OK    OK    OK    OK  NO, package depends on 'GenomicRanges' which is not available
merida1macOS 10.14.6 Mojave / x86_64  OK    OK    OK    OK  UNNEEDED, same version is already published
Package 93/500HostnameOS / ArchINSTALLBUILDCHECKBUILD BIN
comapr 0.99.42  (landing page)
Ruqian Lyu
git_last_commit: 4132673
git_last_commit_date: 2021-12-31 05:08:08 -0500
nebbiolo1Linux (Ubuntu 20.04.4 LTS) / x86_64  OK    OK    OK  UNNEEDED, same version is already published
riesling1Windows Server 2019 Standard / x64  ERROR    OK    ERROR    OK  
palomino3Windows Server 2022 Datacenter / x64  OK    OK    OK    OK  NO, package depends on 'GenomicRanges' which is not available
merida1macOS 10.14.6 Mojave / x86_64  OK    OK    OK    OK  UNNEEDED, same version is already published
Package 94/500HostnameOS / ArchINSTALLBUILDCHECKBUILD BIN
coMET 1.27.1  (landing page)
Tiphaine Martin
git_last_commit: 5913d6e
git_last_commit_date: 2021-11-17 16:01:48 -0500
nebbiolo1Linux (Ubuntu 20.04.4 LTS) / x86_64  OK    ERROR  skipped
riesling1Windows Server 2019 Standard / x64  OK    ERROR  skippedskipped
palomino3Windows Server 2022 Datacenter / x64  OK    ERROR  skippedskipped
merida1macOS 10.14.6 Mojave / x86_64  OK    ERROR  skippedskipped
Package 95/500HostnameOS / ArchINSTALLBUILDCHECKBUILD BIN
coMethDMR 0.99.12  (landing page)
Fernanda Veitzman
git_last_commit: 5762fdd
git_last_commit_date: 2021-11-12 11:03:27 -0500
nebbiolo1Linux (Ubuntu 20.04.4 LTS) / x86_64  OK    OK    OK  UNNEEDED, same version is already published
riesling1Windows Server 2019 Standard / x64  OK    OK    OK    OK  
palomino3Windows Server 2022 Datacenter / x64  OK    OK    OK    OK  NO, package depends on 'BiocParallel' which is not available
merida1macOS 10.14.6 Mojave / x86_64  OK    OK    OK    OK  UNNEEDED, same version is already published
Package 96/500HostnameOS / ArchINSTALLBUILDCHECKBUILD BIN
compartmap 1.13.0  (landing page)
Benjamin Johnson
git_last_commit: 087d134
git_last_commit_date: 2021-10-26 12:48:10 -0500
nebbiolo1Linux (Ubuntu 20.04.4 LTS) / x86_64  OK    OK    OK  UNNEEDED, same version is already published
riesling1Windows Server 2019 Standard / x64  OK    OK    OK    OK  
palomino3Windows Server 2022 Datacenter / x64  OK    OK    OK    OK  NO, package depends on 'SummarizedExperiment' which is not available
merida1macOS 10.14.6 Mojave / x86_64  OK    OK    OK    OK  UNNEEDED, same version is already published
Package 97/500HostnameOS / ArchINSTALLBUILDCHECKBUILD BIN
compEpiTools 1.29.2  (landing page)
Kamal Kishore
git_last_commit: 20988a4
git_last_commit_date: 2021-11-20 23:28:21 -0500
nebbiolo1Linux (Ubuntu 20.04.4 LTS) / x86_64  OK    OK    ERROR  
riesling1Windows Server 2019 Standard / x64  OK    OK    ERROR    OK  
palomino3Windows Server 2022 Datacenter / x64  OK    OK    ERROR    OK  
merida1macOS 10.14.6 Mojave / x86_64  OK    OK    ERROR    OK  
Package 98/500HostnameOS / ArchINSTALLBUILDCHECKBUILD BIN
consensusSeekeR 1.23.1  (landing page)
Astrid Deschenes
git_last_commit: b92c485
git_last_commit_date: 2021-11-20 03:56:22 -0500
nebbiolo1Linux (Ubuntu 20.04.4 LTS) / x86_64  OK    OK    OK  UNNEEDED, same version is already published
riesling1Windows Server 2019 Standard / x64  OK    OK    OK    OK  
palomino3Windows Server 2022 Datacenter / x64  OK    OK    OK    OK  NO, package depends on 'BiocGenerics' which is not available
merida1macOS 10.14.6 Mojave / x86_64  OK    OK    OK    OK  UNNEEDED, same version is already published
Package 99/500HostnameOS / ArchINSTALLBUILDCHECKBUILD BIN
contiBAIT 1.23.1  (landing page)
Kieran O'Neill
git_last_commit: 1a66f2b
git_last_commit_date: 2021-11-20 03:56:57 -0500
nebbiolo1Linux (Ubuntu 20.04.4 LTS) / x86_64  OK    OK    WARNINGS  UNNEEDED, same version is already published
riesling1Windows Server 2019 Standard / x64  OK    OK    WARNINGS    OK  
palomino3Windows Server 2022 Datacenter / x64  OK    OK    WARNINGS    OK  NO, package depends on 'Rsamtools' which is not available
merida1macOS 10.14.6 Mojave / x86_64  OK    OK    WARNINGS    OK  UNNEEDED, same version is already published
Package 100/500HostnameOS / ArchINSTALLBUILDCHECKBUILD BIN
conumee 1.29.1  (landing page)
Volker Hovestadt
git_last_commit: 0e8f846
git_last_commit_date: 2021-11-20 03:57:48 -0500
nebbiolo1Linux (Ubuntu 20.04.4 LTS) / x86_64  OK    OK    OK  UNNEEDED, same version is already published
riesling1Windows Server 2019 Standard / x64... NOT SUPPORTED ...
palomino3Windows Server 2022 Datacenter / x64... NOT SUPPORTED ...
merida1macOS 10.14.6 Mojave / x86_64  OK    OK    TIMEOUT    OK  
Package 101/500HostnameOS / ArchINSTALLBUILDCHECKBUILD BIN
copynumber 1.35.0  (landing page)
Gro Nilsen
git_last_commit: 45bfbec
git_last_commit_date: 2021-10-26 12:07:45 -0500
nebbiolo1Linux (Ubuntu 20.04.4 LTS) / x86_64  OK    OK    OK  UNNEEDED, same version is already published
riesling1Windows Server 2019 Standard / x64  OK    ERROR  skippedskipped
palomino3Windows Server 2022 Datacenter / x64  OK    ERROR  skippedskipped
merida1macOS 10.14.6 Mojave / x86_64  OK    OK    OK    OK  UNNEEDED, same version is already published
Package 102/500HostnameOS / ArchINSTALLBUILDCHECKBUILD BIN
CopyNumberPlots 1.11.0  (landing page)
Bernat Gel
git_last_commit: 9f4d690
git_last_commit_date: 2021-10-26 12:51:20 -0500
nebbiolo1Linux (Ubuntu 20.04.4 LTS) / x86_64  OK    OK    OK  UNNEEDED, same version is already published
riesling1Windows Server 2019 Standard / x64  OK    OK    OK    OK  
palomino3Windows Server 2022 Datacenter / x64  OK    OK    OK    OK  NO, package depends on 'karyoploteR' which is not available
merida1macOS 10.14.6 Mojave / x86_64  OK    OK    OK    OK  UNNEEDED, same version is already published
Package 103/500HostnameOS / ArchINSTALLBUILDCHECKBUILD BIN
CopywriteR 2.27.0  (landing page)
Oscar Krijgsman
git_last_commit: 2b202a3
git_last_commit_date: 2021-10-26 12:19:59 -0500
nebbiolo1Linux (Ubuntu 20.04.4 LTS) / x86_64  OK    OK    OK  UNNEEDED, same version is already published
riesling1Windows Server 2019 Standard / x64  OK    OK    OK    OK  
palomino3Windows Server 2022 Datacenter / x64  OK    OK    OK    OK  NO, package depends on 'BiocParallel' which is not available
merida1macOS 10.14.6 Mojave / x86_64  OK    OK    OK    OK  UNNEEDED, same version is already published
Package 104/500HostnameOS / ArchINSTALLBUILDCHECKBUILD BIN
CoverageView 1.33.0  (landing page)
Ernesto Lowy
git_last_commit: 0f3b730
git_last_commit_date: 2021-10-26 12:13:02 -0500
nebbiolo1Linux (Ubuntu 20.04.4 LTS) / x86_64  OK    OK    WARNINGS  UNNEEDED, same version is already published
riesling1Windows Server 2019 Standard / x64... NOT SUPPORTED ...
palomino3Windows Server 2022 Datacenter / x64... NOT SUPPORTED ...
merida1macOS 10.14.6 Mojave / x86_64  OK    OK    WARNINGS    OK  UNNEEDED, same version is already published
Package 105/500HostnameOS / ArchINSTALLBUILDCHECKBUILD BIN
crisprBase 0.99.8  (landing page)
Jean-Philippe Fortin
git_last_commit: ef3cffa
git_last_commit_date: 2021-12-22 14:03:28 -0500
nebbiolo1Linux (Ubuntu 20.04.4 LTS) / x86_64  OK    OK    OK  UNNEEDED, same version is already published
riesling1Windows Server 2019 Standard / x64  OK    OK    OK    OK  
palomino3Windows Server 2022 Datacenter / x64  OK    OK    OK    OK  NO, package depends on 'BiocGenerics' which is not available
merida1macOS 10.14.6 Mojave / x86_64  OK    OK    OK    OK  UNNEEDED, same version is already published
Package 106/500HostnameOS / ArchINSTALLBUILDCHECKBUILD BIN
CRISPRseek 1.35.3  (landing page)
Lihua Julie Zhu
git_last_commit: 234f53f
git_last_commit_date: 2022-01-13 15:19:15 -0500
nebbiolo1Linux (Ubuntu 20.04.4 LTS) / x86_64  OK    OK    OK  UNNEEDED, same version is already published
riesling1Windows Server 2019 Standard / x64  OK    OK    OK    OK  
palomino3Windows Server 2022 Datacenter / x64  OK    OK    OK    OK  NO, package depends on 'BiocGenerics' which is not available
merida1macOS 10.14.6 Mojave / x86_64  OK    OK    OK    OK  UNNEEDED, same version is already published
Package 107/500HostnameOS / ArchINSTALLBUILDCHECKBUILD BIN
crisprseekplus 1.21.0  (landing page)
Alper Kucukural
git_last_commit: 6eb4a83
git_last_commit_date: 2021-10-26 12:30:57 -0500
nebbiolo1Linux (Ubuntu 20.04.4 LTS) / x86_64  OK    OK    OK  UNNEEDED, same version is already published
riesling1Windows Server 2019 Standard / x64  OK    OK    OK    OK  
palomino3Windows Server 2022 Datacenter / x64  OK    OK    OK    OK  NO, package depends on 'CRISPRseek' which is not available
merida1macOS 10.14.6 Mojave / x86_64  OK    OK    OK    OK  UNNEEDED, same version is already published
Package 108/500HostnameOS / ArchINSTALLBUILDCHECKBUILD BIN
CrispRVariants 1.23.0  (landing page)
Helen Lindsay
git_last_commit: d8ef937
git_last_commit_date: 2021-10-26 12:24:29 -0500
nebbiolo1Linux (Ubuntu 20.04.4 LTS) / x86_64  OK    OK    WARNINGS  UNNEEDED, same version is already published
riesling1Windows Server 2019 Standard / x64  OK    OK    WARNINGS    OK  
palomino3Windows Server 2022 Datacenter / x64  OK    OK    WARNINGS    OK  NO, package depends on 'AnnotationDbi' which is not available
merida1macOS 10.14.6 Mojave / x86_64  OK    OK    WARNINGS    OK  UNNEEDED, same version is already published
Package 109/500HostnameOS / ArchINSTALLBUILDCHECKBUILD BIN
CSAR 1.47.0  (landing page)
Jose M Muino
git_last_commit: 1459784
git_last_commit_date: 2021-10-26 11:55:08 -0500
nebbiolo1Linux (Ubuntu 20.04.4 LTS) / x86_64  OK    OK    OK  UNNEEDED, same version is already published
riesling1Windows Server 2019 Standard / x64  OK    OK    OK    OK  
palomino3Windows Server 2022 Datacenter / x64  OK    OK    OK    OK  NO, package depends on 'S4Vectors' which is not available
merida1macOS 10.14.6 Mojave / x86_64  OK    OK    OK    OK  UNNEEDED, same version is already published
Package 110/500HostnameOS / ArchINSTALLBUILDCHECKBUILD BIN
csaw 1.29.1  (landing page)
Aaron Lun
git_last_commit: e480196
git_last_commit_date: 2021-11-20 23:29:19 -0500
nebbiolo1Linux (Ubuntu 20.04.4 LTS) / x86_64  OK    OK    OK  UNNEEDED, same version is already published
riesling1Windows Server 2019 Standard / x64  OK    OK    OK    OK  
palomino3Windows Server 2022 Datacenter / x64  OK    OK    OK    OK  NO, package depends on 'GenomicRanges' which is not available
merida1macOS 10.14.6 Mojave / x86_64  OK    OK    OK    OK  UNNEEDED, same version is already published
Package 111/500HostnameOS / ArchINSTALLBUILDCHECKBUILD BIN
CSSQ 1.7.0  (landing page)
Fan Lab at Georgia Institute of Technology
git_last_commit: a13363f
git_last_commit_date: 2021-10-26 12:56:31 -0500
nebbiolo1Linux (Ubuntu 20.04.4 LTS) / x86_64  OK    OK    OK  UNNEEDED, same version is already published
riesling1Windows Server 2019 Standard / x64  OK    OK    OK    OK  
palomino3Windows Server 2022 Datacenter / x64  OK    OK    OK    OK  NO, package depends on 'SummarizedExperiment' which is not available
merida1macOS 10.14.6 Mojave / x86_64  OK    OK    OK    OK  UNNEEDED, same version is already published
Package 112/500HostnameOS / ArchINSTALLBUILDCHECKBUILD BIN
customProDB 1.35.1  (landing page)
Xiaojing Wang
git_last_commit: 69b8805
git_last_commit_date: 2021-12-02 17:41:54 -0500
nebbiolo1Linux (Ubuntu 20.04.4 LTS) / x86_64  OK    OK    OK  UNNEEDED, same version is already published
riesling1Windows Server 2019 Standard / x64  OK    OK    OK    OK  
palomino3Windows Server 2022 Datacenter / x64  OK    OK    OK    OK  NO, package depends on 'IRanges' which is not available
merida1macOS 10.14.6 Mojave / x86_64  OK    OK    OK    OK  UNNEEDED, same version is already published
Package 113/500HostnameOS / ArchINSTALLBUILDCHECKBUILD BIN
DAMEfinder 1.7.1  (landing page)
Stephany Orjuela
git_last_commit: 96f7b31
git_last_commit_date: 2021-11-20 23:30:14 -0500
nebbiolo1Linux (Ubuntu 20.04.4 LTS) / x86_64  OK    OK    OK  UNNEEDED, same version is already published
riesling1Windows Server 2019 Standard / x64  OK    OK    OK    OK  
palomino3Windows Server 2022 Datacenter / x64  OK    OK    OK    OK  NO, package depends on 'GenomeInfoDb' which is not available
merida1macOS 10.14.6 Mojave / x86_64  OK    OK    OK    OK  UNNEEDED, same version is already published
Package 114/500HostnameOS / ArchINSTALLBUILDCHECKBUILD BIN
dasper 1.5.1  (landing page)
David Zhang
git_last_commit: 0b93fe2
git_last_commit_date: 2022-01-10 17:26:37 -0500
nebbiolo1Linux (Ubuntu 20.04.4 LTS) / x86_64  OK    OK    OK  UNNEEDED, same version is already published
riesling1Windows Server 2019 Standard / x64  OK    OK    OK    OK  
palomino3Windows Server 2022 Datacenter / x64  OK    OK    OK    OK  NO, package depends on 'BiocParallel' which is not available
merida1macOS 10.14.6 Mojave / x86_64  OK    OK    OK    OK  UNNEEDED, same version is already published
Package 115/500HostnameOS / ArchINSTALLBUILDCHECKBUILD BIN
debrowser 1.23.4  (landing page)
Alper Kucukural
git_last_commit: 0dcdc76
git_last_commit_date: 2021-12-15 18:12:31 -0500
nebbiolo1Linux (Ubuntu 20.04.4 LTS) / x86_64  OK    OK    OK  UNNEEDED, same version is already published
riesling1Windows Server 2019 Standard / x64  OK    OK    OK    OK  
palomino3Windows Server 2022 Datacenter / x64  OK    OK    OK    OK  NO, package depends on 'annotate' which is not available
merida1macOS 10.14.6 Mojave / x86_64  OK    OK    OK    OK  NO, package depends on 'DOSE' which is not available
Package 116/500HostnameOS / ArchINSTALLBUILDCHECKBUILD BIN
decompTumor2Sig 2.11.0  (landing page)
Rosario M. Piro
git_last_commit: 218491c
git_last_commit_date: 2021-10-26 12:48:26 -0500
nebbiolo1Linux (Ubuntu 20.04.4 LTS) / x86_64  OK    OK    OK  UNNEEDED, same version is already published
riesling1Windows Server 2019 Standard / x64  OK    OK    OK    OK  
palomino3Windows Server 2022 Datacenter / x64  OK    OK    OK    OK  NO, package depends on 'GenomicRanges' which is not available
merida1macOS 10.14.6 Mojave / x86_64  OK    OK    OK    OK  UNNEEDED, same version is already published
Package 117/500HostnameOS / ArchINSTALLBUILDCHECKBUILD BIN
deconvR 1.1.1  (landing page)
İrem B. Gündüz
git_last_commit: 7cf3911
git_last_commit_date: 2021-10-28 04:16:08 -0500
nebbiolo1Linux (Ubuntu 20.04.4 LTS) / x86_64  OK    OK    OK  UNNEEDED, same version is already published
riesling1Windows Server 2019 Standard / x64  OK    OK    OK    OK  
palomino3Windows Server 2022 Datacenter / x64  OK    OK    OK    OK  NO, package depends on 'S4Vectors' which is not available
merida1macOS 10.14.6 Mojave / x86_64  OK    OK    OK    OK  UNNEEDED, same version is already published
Package 118/500HostnameOS / ArchINSTALLBUILDCHECKBUILD BIN
DeepBlueR 1.21.0  (landing page)
Felipe Albrecht , Markus List
git_last_commit: 340e089
git_last_commit_date: 2021-10-26 12:28:59 -0500
nebbiolo1Linux (Ubuntu 20.04.4 LTS) / x86_64  OK    OK    OK  UNNEEDED, same version is already published
riesling1Windows Server 2019 Standard / x64  OK    OK    OK    OK  
palomino3Windows Server 2022 Datacenter / x64  OK    OK    OK    OK  NO, package depends on 'GenomicRanges' which is not available
merida1macOS 10.14.6 Mojave / x86_64  OK    OK    OK    OK  UNNEEDED, same version is already published
Package 119/500HostnameOS / ArchINSTALLBUILDCHECKBUILD BIN
deepSNV 1.41.0  (landing page)
Moritz Gerstung
git_last_commit: e79bce8
git_last_commit_date: 2021-10-26 12:01:57 -0500
nebbiolo1Linux (Ubuntu 20.04.4 LTS) / x86_64  OK    OK    OK  UNNEEDED, same version is already published
riesling1Windows Server 2019 Standard / x64  OK    OK    OK    OK  
palomino3Windows Server 2022 Datacenter / x64  OK    OK    OK    OK  NO, package depends on 'IRanges' which is not available
merida1macOS 10.14.6 Mojave / x86_64  OK    OK    OK    OK  UNNEEDED, same version is already published
Package 120/500HostnameOS / ArchINSTALLBUILDCHECKBUILD BIN
DEFormats 1.23.0  (landing page)
Andrzej Oleś
git_last_commit: 166a3cf
git_last_commit_date: 2021-10-26 12:26:36 -0500
nebbiolo1Linux (Ubuntu 20.04.4 LTS) / x86_64  OK    OK    OK  UNNEEDED, same version is already published
riesling1Windows Server 2019 Standard / x64  OK    OK    OK    OK  
palomino3Windows Server 2022 Datacenter / x64  OK    OK    OK    OK  NO, package depends on 'DESeq2' which is not available
merida1macOS 10.14.6 Mojave / x86_64  OK    OK    OK    OK  UNNEEDED, same version is already published
Package 121/500HostnameOS / ArchINSTALLBUILDCHECKBUILD BIN
DegNorm 1.5.0  (landing page)
Ji-Ping Wang
git_last_commit: 5363c21
git_last_commit_date: 2021-10-26 13:00:12 -0500
nebbiolo1Linux (Ubuntu 20.04.4 LTS) / x86_64  OK    OK    OK  UNNEEDED, same version is already published
riesling1Windows Server 2019 Standard / x64  OK    OK    OK    OK  
palomino3Windows Server 2022 Datacenter / x64  OK    OK    OK    OK  NO, package depends on 'GenomicFeatures' which is not available
merida1macOS 10.14.6 Mojave / x86_64  OK    OK    OK    OK  UNNEEDED, same version is already published
Package 122/500HostnameOS / ArchINSTALLBUILDCHECKBUILD BIN
deltaCaptureC 1.9.1  (landing page)
Michael Shapiro
git_last_commit: f4f8bdc
git_last_commit_date: 2021-11-20 23:31:46 -0500
nebbiolo1Linux (Ubuntu 20.04.4 LTS) / x86_64  OK    OK    OK  UNNEEDED, same version is already published
riesling1Windows Server 2019 Standard / x64  OK    OK    OK    OK  
palomino3Windows Server 2022 Datacenter / x64  OK    OK    OK    OK  NO, package depends on 'IRanges' which is not available
merida1macOS 10.14.6 Mojave / x86_64  OK    OK    OK    OK  UNNEEDED, same version is already published
Package 123/500HostnameOS / ArchINSTALLBUILDCHECKBUILD BIN
derfinder 1.29.0  (landing page)
Leonardo Collado-Torres
git_last_commit: 5c1cbd4
git_last_commit_date: 2021-10-26 12:16:21 -0500
nebbiolo1Linux (Ubuntu 20.04.4 LTS) / x86_64  OK    OK    OK  UNNEEDED, same version is already published
riesling1Windows Server 2019 Standard / x64  OK    OK    OK    OK  
palomino3Windows Server 2022 Datacenter / x64  OK    OK    OK    OK  NO, package depends on 'BiocGenerics' which is not available
merida1macOS 10.14.6 Mojave / x86_64  OK    OK    OK    OK  UNNEEDED, same version is already published
Package 124/500HostnameOS / ArchINSTALLBUILDCHECKBUILD BIN
derfinderPlot 1.29.1  (landing page)
Leonardo Collado-Torres
git_last_commit: c6ca8d2
git_last_commit_date: 2021-11-22 19:33:05 -0500
nebbiolo1Linux (Ubuntu 20.04.4 LTS) / x86_64  OK    OK    OK  UNNEEDED, same version is already published
riesling1Windows Server 2019 Standard / x64  OK    OK    OK    OK  
palomino3Windows Server 2022 Datacenter / x64  OK    OK    OK    OK  NO, package depends on 'derfinder' which is not available
merida1macOS 10.14.6 Mojave / x86_64  OK    OK    OK    OK  UNNEEDED, same version is already published
Package 125/500HostnameOS / ArchINSTALLBUILDCHECKBUILD BIN
DEScan2 1.15.3  (landing page)
Dario Righelli
git_last_commit: b99080b
git_last_commit_date: 2022-01-10 09:52:57 -0500
nebbiolo1Linux (Ubuntu 20.04.4 LTS) / x86_64  OK    OK    OK  UNNEEDED, same version is already published
riesling1Windows Server 2019 Standard / x64  OK    OK    OK    OK  
palomino3Windows Server 2022 Datacenter / x64  OK    OK    OK    OK  NO, package depends on 'GenomicRanges' which is not available
merida1macOS 10.14.6 Mojave / x86_64  OK    OK    OK    OK  UNNEEDED, same version is already published
Package 126/500HostnameOS / ArchINSTALLBUILDCHECKBUILD BIN
DESeq2 1.35.0  (landing page)
Michael Love
git_last_commit: f722b14
git_last_commit_date: 2021-10-26 12:06:54 -0500
nebbiolo1Linux (Ubuntu 20.04.4 LTS) / x86_64  OK    OK    OK  UNNEEDED, same version is already published
riesling1Windows Server 2019 Standard / x64  OK    OK    OK    OK  
palomino3Windows Server 2022 Datacenter / x64  OK    OK    OK    OK  NO, package depends on 'S4Vectors' which is not available
merida1macOS 10.14.6 Mojave / x86_64  OK    OK    OK    OK  UNNEEDED, same version is already published
Package 127/500HostnameOS / ArchINSTALLBUILDCHECKBUILD BIN
DEWSeq 1.9.1  (landing page)
bioinformatics team Hentze
git_last_commit: a5f50fc
git_last_commit_date: 2021-11-20 03:58:27 -0500
nebbiolo1Linux (Ubuntu 20.04.4 LTS) / x86_64  OK    OK    OK  UNNEEDED, same version is already published
riesling1Windows Server 2019 Standard / x64  OK    OK    OK    OK  
palomino3Windows Server 2022 Datacenter / x64  OK    OK    OK    OK  NO, package depends on 'DESeq2' which is not available
merida1macOS 10.14.6 Mojave / x86_64  OK    OK    OK    OK  UNNEEDED, same version is already published
Package 128/500HostnameOS / ArchINSTALLBUILDCHECKBUILD BIN
DEXSeq 1.41.0  (landing page)
Alejandro Reyes
git_last_commit: 07c0807
git_last_commit_date: 2021-10-26 11:59:26 -0500
nebbiolo1Linux (Ubuntu 20.04.4 LTS) / x86_64  OK    OK    OK  UNNEEDED, same version is already published
riesling1Windows Server 2019 Standard / x64  OK    OK    OK    OK  
palomino3Windows Server 2022 Datacenter / x64  OK    OK    OK    OK  NO, package depends on 'BiocParallel' which is not available
merida1macOS 10.14.6 Mojave / x86_64  OK    OK    OK    OK  UNNEEDED, same version is already published
Package 129/500HostnameOS / ArchINSTALLBUILDCHECKBUILD BIN
DiffBind 3.5.3  (landing page)
Rory Stark
git_last_commit: 167a307
git_last_commit_date: 2021-12-09 07:53:20 -0500
nebbiolo1Linux (Ubuntu 20.04.4 LTS) / x86_64  OK    OK    OK  UNNEEDED, same version is already published
riesling1Windows Server 2019 Standard / x64  OK    OK    OK    OK  
palomino3Windows Server 2022 Datacenter / x64  OK    OK    OK    OK  NO, package depends on 'GenomicRanges' which is not available
merida1macOS 10.14.6 Mojave / x86_64  OK    OK    OK    OK  UNNEEDED, same version is already published
Package 130/500HostnameOS / ArchINSTALLBUILDCHECKBUILD BIN
diffHic 1.27.1  (landing page)
Aaron Lun
git_last_commit: 8fc1214
git_last_commit_date: 2021-11-17 00:39:29 -0500
nebbiolo1Linux (Ubuntu 20.04.4 LTS) / x86_64  OK    OK    OK  UNNEEDED, same version is already published
riesling1Windows Server 2019 Standard / x64  OK    OK    OK    OK  
palomino3Windows Server 2022 Datacenter / x64  OK    OK    OK    OK  NO, package depends on 'GenomicRanges' which is not available
merida1macOS 10.14.6 Mojave / x86_64  OK    OK    OK    OK  UNNEEDED, same version is already published
Package 131/500HostnameOS / ArchINSTALLBUILDCHECKBUILD BIN
diffloop 1.23.1  (landing page)
Caleb Lareau
git_last_commit: a71bf82
git_last_commit_date: 2021-11-20 03:59:02 -0500
nebbiolo1Linux (Ubuntu 20.04.4 LTS) / x86_64  OK    OK    OK  UNNEEDED, same version is already published
riesling1Windows Server 2019 Standard / x64  OK    OK    WARNINGS    OK  
palomino3Windows Server 2022 Datacenter / x64  OK    OK    WARNINGS    OK  NO, package depends on 'GenomicRanges' which is not available
merida1macOS 10.14.6 Mojave / x86_64  OK    OK    OK    OK  UNNEEDED, same version is already published
Package 132/500HostnameOS / ArchINSTALLBUILDCHECKBUILD BIN
diffUTR 1.3.0  (landing page)
Pierre-Luc Germain
git_last_commit: c9ce0d7
git_last_commit_date: 2021-10-26 13:09:41 -0500
nebbiolo1Linux (Ubuntu 20.04.4 LTS) / x86_64  OK    OK    OK  UNNEEDED, same version is already published
riesling1Windows Server 2019 Standard / x64  OK    OK    OK    OK  
palomino3Windows Server 2022 Datacenter / x64  OK    OK    OK    OK  NO, package depends on 'S4Vectors' which is not available
merida1macOS 10.14.6 Mojave / x86_64  OK    OK    OK    OK  UNNEEDED, same version is already published
Package 133/500HostnameOS / ArchINSTALLBUILDCHECKBUILD BIN
DMCFB 1.9.0  (landing page)
Farhad Shokoohi
git_last_commit: b4b8c82
git_last_commit_date: 2021-10-26 12:54:46 -0500
nebbiolo1Linux (Ubuntu 20.04.4 LTS) / x86_64  OK    OK    OK  UNNEEDED, same version is already published
riesling1Windows Server 2019 Standard / x64  OK    OK    OK    OK  
palomino3Windows Server 2022 Datacenter / x64  OK    OK    OK    OK  NO, package depends on 'SummarizedExperiment' which is not available
merida1macOS 10.14.6 Mojave / x86_64  OK    OK    OK    OK  UNNEEDED, same version is already published
Package 134/500HostnameOS / ArchINSTALLBUILDCHECKBUILD BIN
DMCHMM 1.17.1  (landing page)
Farhad Shokoohi
git_last_commit: 42f5ea8
git_last_commit_date: 2022-01-12 19:48:43 -0500
nebbiolo1Linux (Ubuntu 20.04.4 LTS) / x86_64  OK    OK    OK  UNNEEDED, same version is already published
riesling1Windows Server 2019 Standard / x64  OK    OK    WARNINGS    OK  
palomino3Windows Server 2022 Datacenter / x64  OK    OK    WARNINGS    OK  NO, package depends on 'SummarizedExperiment' which is not available
merida1macOS 10.14.6 Mojave / x86_64  OK    OK    OK    OK  UNNEEDED, same version is already published
Package 135/500HostnameOS / ArchINSTALLBUILDCHECKBUILD BIN
DMRcaller 1.27.1  (landing page)
Nicolae Radu Zabet
git_last_commit: b5efd8f
git_last_commit_date: 2021-11-17 09:00:23 -0500
nebbiolo1Linux (Ubuntu 20.04.4 LTS) / x86_64  OK    OK    OK  UNNEEDED, same version is already published
riesling1Windows Server 2019 Standard / x64  OK    OK    OK    OK  
palomino3Windows Server 2022 Datacenter / x64  OK    OK    OK    OK  NO, package depends on 'GenomicRanges' which is not available
merida1macOS 10.14.6 Mojave / x86_64  OK    OK    OK    OK  UNNEEDED, same version is already published
Package 136/500HostnameOS / ArchINSTALLBUILDCHECKBUILD BIN
DMRcate 2.9.1  (landing page)
Tim Peters
git_last_commit: 4b399d0
git_last_commit_date: 2021-12-09 03:37:28 -0500
nebbiolo1Linux (Ubuntu 20.04.4 LTS) / x86_64  OK    OK    ERROR  
riesling1Windows Server 2019 Standard / x64  OK    OK    ERROR    OK  
palomino3Windows Server 2022 Datacenter / x64  OK    OK    ERROR    OK  
merida1macOS 10.14.6 Mojave / x86_64  OK    ERROR  skippedskipped
Package 137/500HostnameOS / ArchINSTALLBUILDCHECKBUILD BIN
DMRforPairs 1.31.0  (landing page)
Martin Rijlaarsdam
git_last_commit: 811cf7e
git_last_commit_date: 2021-10-26 12:13:07 -0500
nebbiolo1Linux (Ubuntu 20.04.4 LTS) / x86_64  OK    OK    OK  UNNEEDED, same version is already published
riesling1Windows Server 2019 Standard / x64  OK    OK    OK    OK  
palomino3Windows Server 2022 Datacenter / x64  OK    OK    OK    OK  NO, package depends on 'Gviz' which is not available
merida1macOS 10.14.6 Mojave / x86_64  OK    OK    OK    OK  UNNEEDED, same version is already published
Package 138/500HostnameOS / ArchINSTALLBUILDCHECKBUILD BIN
DMRScan 1.17.0  (landing page)
Christian M Page
git_last_commit: 2a1bd81
git_last_commit_date: 2021-10-26 12:32:33 -0500
nebbiolo1Linux (Ubuntu 20.04.4 LTS) / x86_64  OK    OK    OK  UNNEEDED, same version is already published
riesling1Windows Server 2019 Standard / x64  OK    OK    OK    OK  
palomino3Windows Server 2022 Datacenter / x64  OK    OK    OK    OK  NO, package depends on 'GenomicRanges' which is not available
merida1macOS 10.14.6 Mojave / x86_64  OK    OK    OK    OK  UNNEEDED, same version is already published
Package 139/500HostnameOS / ArchINSTALLBUILDCHECKBUILD BIN
dmrseq 1.15.1  (landing page)
Keegan Korthauer
git_last_commit: e64d866
git_last_commit_date: 2021-11-15 19:56:46 -0500
nebbiolo1Linux (Ubuntu 20.04.4 LTS) / x86_64  OK    OK    OK  UNNEEDED, same version is already published
riesling1Windows Server 2019 Standard / x64  OK    OK    OK    OK  
palomino3Windows Server 2022 Datacenter / x64  OK    OK    OK    OK  NO, package depends on 'bsseq' which is not available
merida1macOS 10.14.6 Mojave / x86_64  OK    OK    OK    OK  UNNEEDED, same version is already published
Package 140/500HostnameOS / ArchINSTALLBUILDCHECKBUILD BIN
DNAshapeR 1.23.0  (landing page)
Tsu-Pei Chiu
git_last_commit: fc10bd7
git_last_commit_date: 2021-10-26 12:26:17 -0500
nebbiolo1Linux (Ubuntu 20.04.4 LTS) / x86_64  OK    OK    OK  UNNEEDED, same version is already published
riesling1Windows Server 2019 Standard / x64  OK    OK    OK    OK  
palomino3Windows Server 2022 Datacenter / x64  OK    OK    OK    OK  NO, package depends on 'GenomicRanges' which is not available
merida1macOS 10.14.6 Mojave / x86_64  OK    OK    OK    OK  UNNEEDED, same version is already published
Package 141/500HostnameOS / ArchINSTALLBUILDCHECKBUILD BIN
DominoEffect 1.15.0  (landing page)
Marija Buljan
git_last_commit: ba8b515
git_last_commit_date: 2021-10-26 12:42:03 -0500
nebbiolo1Linux (Ubuntu 20.04.4 LTS) / x86_64  OK    OK    OK  UNNEEDED, same version is already published
riesling1Windows Server 2019 Standard / x64  OK    OK    OK    OK  
palomino3Windows Server 2022 Datacenter / x64  OK    OK    OK    OK  NO, package depends on 'biomaRt' which is not available
merida1macOS 10.14.6 Mojave / x86_64  OK    OK    OK    OK  UNNEEDED, same version is already published
Package 142/500HostnameOS / ArchINSTALLBUILDCHECKBUILD BIN
DRIMSeq 1.23.0  (landing page)
Malgorzata Nowicka
git_last_commit: 6156d62
git_last_commit_date: 2021-10-26 12:26:21 -0500
nebbiolo1Linux (Ubuntu 20.04.4 LTS) / x86_64  OK    OK    WARNINGS  UNNEEDED, same version is already published
riesling1Windows Server 2019 Standard / x64  OK    OK    WARNINGS    OK  
palomino3Windows Server 2022 Datacenter / x64  OK    OK    WARNINGS    OK  NO, package depends on 'GenomicRanges' which is not available
merida1macOS 10.14.6 Mojave / x86_64  OK    OK    WARNINGS    OK  UNNEEDED, same version is already published
Package 143/500HostnameOS / ArchINSTALLBUILDCHECKBUILD BIN
DropletUtils 1.15.2  (landing page)
Jonathan Griffiths
git_last_commit: b5fd73b
git_last_commit_date: 2021-11-11 13:22:23 -0500
nebbiolo1Linux (Ubuntu 20.04.4 LTS) / x86_64  OK    OK    OK  UNNEEDED, same version is already published
riesling1Windows Server 2019 Standard / x64  OK    OK    OK    OK  
palomino3Windows Server 2022 Datacenter / x64  OK    OK    OK    OK  NO, package depends on 'SingleCellExperiment' which is not available
merida1macOS 10.14.6 Mojave / x86_64  OK    OK    OK    OK  UNNEEDED, same version is already published
Package 144/500HostnameOS / ArchINSTALLBUILDCHECKBUILD BIN
easyRNASeq 2.31.0  (landing page)
Nicolas Delhomme
git_last_commit: 0194dad
git_last_commit_date: 2021-10-26 12:01:41 -0500
nebbiolo1Linux (Ubuntu 20.04.4 LTS) / x86_64  OK    OK    OK  UNNEEDED, same version is already published
riesling1Windows Server 2019 Standard / x64  OK    OK    OK    OK  
palomino3Windows Server 2022 Datacenter / x64  OK    OK    OK    OK  NO, package depends on 'Biobase' which is not available
merida1macOS 10.14.6 Mojave / x86_64  OK    OK    OK    OK  UNNEEDED, same version is already published
Package 145/500HostnameOS / ArchINSTALLBUILDCHECKBUILD BIN
EDASeq 2.29.0  (landing page)
Davide Risso
git_last_commit: 37839c7
git_last_commit_date: 2021-10-26 12:00:24 -0500
nebbiolo1Linux (Ubuntu 20.04.4 LTS) / x86_64  OK    OK    OK  UNNEEDED, same version is already published
riesling1Windows Server 2019 Standard / x64  OK    OK    OK    OK  
palomino3Windows Server 2022 Datacenter / x64  OK    OK    OK    OK  NO, package depends on 'Biobase' which is not available
merida1macOS 10.14.6 Mojave / x86_64  OK    OK    OK    OK  UNNEEDED, same version is already published
Package 146/500HostnameOS / ArchINSTALLBUILDCHECKBUILD BIN
eisaR 1.7.0  (landing page)
Michael Stadler
git_last_commit: 6bca93c
git_last_commit_date: 2021-10-26 12:57:58 -0500
nebbiolo1Linux (Ubuntu 20.04.4 LTS) / x86_64  OK    OK    OK  UNNEEDED, same version is already published
riesling1Windows Server 2019 Standard / x64  OK    OK    OK    OK  
palomino3Windows Server 2022 Datacenter / x64  OK    OK    OK    OK  NO, package depends on 'GenomicRanges' which is not available
merida1macOS 10.14.6 Mojave / x86_64  OK    OK    OK    OK  UNNEEDED, same version is already published
Package 147/500HostnameOS / ArchINSTALLBUILDCHECKBUILD BIN
ELMER 2.19.0  (landing page)
Tiago Chedraoui Silva
git_last_commit: cc0e36c
git_last_commit_date: 2021-11-09 11:00:18 -0500
nebbiolo1Linux (Ubuntu 20.04.4 LTS) / x86_64  OK    OK    OK  UNNEEDED, same version is already published
riesling1Windows Server 2019 Standard / x64  OK    OK    OK    OK  
palomino3Windows Server 2022 Datacenter / x64  OK    OK    OK    OK  NO, package depends on 'GenomicRanges' which is not available
merida1macOS 10.14.6 Mojave / x86_64  OK    ERROR  skippedskipped
Package 148/500HostnameOS / ArchINSTALLBUILDCHECKBUILD BIN
enhancerHomologSearch 1.1.0  (landing page)
Jianhong Ou
git_last_commit: 603b621
git_last_commit_date: 2021-10-26 13:11:45 -0500
nebbiolo1Linux (Ubuntu 20.04.4 LTS) / x86_64  OK    OK    WARNINGS  UNNEEDED, same version is already published
riesling1Windows Server 2019 Standard / x64  OK    OK    WARNINGS    OK  
palomino3Windows Server 2022 Datacenter / x64  OK    OK    WARNINGS    OK  NO, package depends on 'BiocGenerics' which is not available
merida1macOS 10.14.6 Mojave / x86_64  OK    OK    WARNINGS    OK  UNNEEDED, same version is already published
Package 149/500HostnameOS / ArchINSTALLBUILDCHECKBUILD BIN
EnrichedHeatmap 1.25.1  (landing page)
Zuguang Gu
git_last_commit: ce99dbd
git_last_commit_date: 2021-11-17 09:02:10 -0500
nebbiolo1Linux (Ubuntu 20.04.4 LTS) / x86_64  OK    OK    OK  UNNEEDED, same version is already published
riesling1Windows Server 2019 Standard / x64  OK    OK    OK    OK  
palomino3Windows Server 2022 Datacenter / x64  OK    OK    OK    OK  NO, package depends on 'ComplexHeatmap' which is not available
merida1macOS 10.14.6 Mojave / x86_64  OK    OK    OK    OK  UNNEEDED, same version is already published
Package 150/500HostnameOS / ArchINSTALLBUILDCHECKBUILD BIN
enrichTF 1.11.0  (landing page)
Zheng Wei
git_last_commit: 032eacf
git_last_commit_date: 2021-10-26 12:51:43 -0500
nebbiolo1Linux (Ubuntu 20.04.4 LTS) / x86_64  OK    OK    OK  UNNEEDED, same version is already published
riesling1Windows Server 2019 Standard / x64  OK    OK    OK    OK  
palomino3Windows Server 2022 Datacenter / x64  OK    OK    OK    OK  NO, package depends on 'pipeFrame' which is not available
merida1macOS 10.14.6 Mojave / x86_64  OK    OK    OK    OK  NO, package depends on 'clusterProfiler' which is not available
Package 151/500HostnameOS / ArchINSTALLBUILDCHECKBUILD BIN
ensembldb 2.19.7  (landing page)
Johannes Rainer
git_last_commit: a6e2257
git_last_commit_date: 2022-01-12 05:24:49 -0500
nebbiolo1Linux (Ubuntu 20.04.4 LTS) / x86_64  OK    OK    ERROR  
riesling1Windows Server 2019 Standard / x64  OK    OK    ERROR    OK  
palomino3Windows Server 2022 Datacenter / x64  OK    OK    OK    OK  NO, package depends on 'BiocGenerics' which is not available
merida1macOS 10.14.6 Mojave / x86_64  OK    OK    OK    OK  UNNEEDED, same version is already published
Package 152/500HostnameOS / ArchINSTALLBUILDCHECKBUILD BIN
ensemblVEP 1.37.0  (landing page)
Bioconductor Package Maintainer
git_last_commit: 4b996be
git_last_commit_date: 2021-10-26 12:05:50 -0500
nebbiolo1Linux (Ubuntu 20.04.4 LTS) / x86_64  OK    OK    OK  UNNEEDED, same version is already published
riesling1Windows Server 2019 Standard / x64... NOT SUPPORTED ...
palomino3Windows Server 2022 Datacenter / x64... NOT SUPPORTED ...
merida1macOS 10.14.6 Mojave / x86_64  OK    OK    OK    OK  UNNEEDED, same version is already published
Package 153/500HostnameOS / ArchINSTALLBUILDCHECKBUILD BIN
epialleleR 1.3.4  (landing page)
Oleksii Nikolaienko
git_last_commit: b40ff92
git_last_commit_date: 2022-01-11 06:34:50 -0500
nebbiolo1Linux (Ubuntu 20.04.4 LTS) / x86_64  OK    OK    OK  UNNEEDED, same version is already published
riesling1Windows Server 2019 Standard / x64  OK    OK    WARNINGS    OK  
palomino3Windows Server 2022 Datacenter / x64  OK    OK    WARNINGS    OK  NO, package depends on 'GenomicRanges' which is not available
merida1macOS 10.14.6 Mojave / x86_64  OK    OK    OK    OK  UNNEEDED, same version is already published
Package 154/500HostnameOS / ArchINSTALLBUILDCHECKBUILD BIN
epidecodeR 1.3.0  (landing page)
Kandarp Joshi
git_last_commit: 54ca0a6
git_last_commit_date: 2021-10-26 13:08:27 -0500
nebbiolo1Linux (Ubuntu 20.04.4 LTS) / x86_64  OK    OK    OK  UNNEEDED, same version is already published
riesling1Windows Server 2019 Standard / x64  OK    OK    OK    OK  
palomino3Windows Server 2022 Datacenter / x64  OK    OK    OK    OK  NO, package depends on 'rtracklayer' which is not available
merida1macOS 10.14.6 Mojave / x86_64  OK    OK    OK    OK  UNNEEDED, same version is already published
Package 155/500HostnameOS / ArchINSTALLBUILDCHECKBUILD BIN
epigenomix 1.35.1  (landing page)
Hans-Ulrich Klein
git_last_commit: bf5904f
git_last_commit_date: 2021-11-18 19:30:22 -0500
nebbiolo1Linux (Ubuntu 20.04.4 LTS) / x86_64  OK    OK    OK  UNNEEDED, same version is already published
riesling1Windows Server 2019 Standard / x64  OK    OK    OK    OK  
palomino3Windows Server 2022 Datacenter / x64  OK    OK    OK    OK  NO, package depends on 'Biobase' which is not available
merida1macOS 10.14.6 Mojave / x86_64  OK    OK    OK    OK  UNNEEDED, same version is already published
Package 156/500HostnameOS / ArchINSTALLBUILDCHECKBUILD BIN
epigraHMM 1.3.2  (landing page)
Pedro Baldoni
git_last_commit: a2e5af4
git_last_commit_date: 2022-01-13 17:00:11 -0500
nebbiolo1Linux (Ubuntu 20.04.4 LTS) / x86_64  OK    OK    OK  UNNEEDED, same version is already published
riesling1Windows Server 2019 Standard / x64  OK    OK    OK    OK  
palomino3Windows Server 2022 Datacenter / x64  OK    OK    OK    OK  NO, package depends on 'SummarizedExperiment' which is not available
merida1macOS 10.14.6 Mojave / x86_64  OK    OK    OK    OK  UNNEEDED, same version is already published
Package 157/500HostnameOS / ArchINSTALLBUILDCHECKBUILD BIN
epihet 1.11.1  (landing page)
Xiaowen Chen
git_last_commit: ec4edcc
git_last_commit_date: 2021-11-18 20:22:56 -0500
nebbiolo1Linux (Ubuntu 20.04.4 LTS) / x86_64  OK    OK    OK  UNNEEDED, same version is already published
riesling1Windows Server 2019 Standard / x64  OK    OK    OK    OK  
palomino3Windows Server 2022 Datacenter / x64  OK    OK    OK    OK  NO, package depends on 'GenomicRanges' which is not available
merida1macOS 10.14.6 Mojave / x86_64  OK    OK    OK    OK  NO, package depends on 'ReactomePA' which is not available
Package 158/500HostnameOS / ArchINSTALLBUILDCHECKBUILD BIN
epistack 1.1.2  (landing page)
DEVAILLY Guillaume
git_last_commit: 4d882ca
git_last_commit_date: 2021-11-23 04:57:24 -0500
nebbiolo1Linux (Ubuntu 20.04.4 LTS) / x86_64  OK    OK    OK  UNNEEDED, same version is already published
riesling1Windows Server 2019 Standard / x64  OK    OK    OK    OK  
palomino3Windows Server 2022 Datacenter / x64  OK    OK    OK    OK  NO, package depends on 'GenomicRanges' which is not available
merida1macOS 10.14.6 Mojave / x86_64  OK    OK    OK    OK  UNNEEDED, same version is already published
Package 159/500HostnameOS / ArchINSTALLBUILDCHECKBUILD BIN
EpiTxDb 1.7.0  (landing page)
Felix G.M. Ernst
git_last_commit: cf60f9b
git_last_commit_date: 2021-10-26 12:58:00 -0500
nebbiolo1Linux (Ubuntu 20.04.4 LTS) / x86_64  OK    OK    OK  UNNEEDED, same version is already published
riesling1Windows Server 2019 Standard / x64  OK    OK    OK    OK  
palomino3Windows Server 2022 Datacenter / x64  OK    OK    OK    OK  NO, package depends on 'AnnotationDbi' which is not available
merida1macOS 10.14.6 Mojave / x86_64  OK    OK    OK    OK  UNNEEDED, same version is already published
Package 160/500HostnameOS / ArchINSTALLBUILDCHECKBUILD BIN
epivizr 2.25.1  (landing page)
Hector Corrada Bravo
git_last_commit: c67ed92
git_last_commit_date: 2021-11-20 23:37:45 -0500
nebbiolo1Linux (Ubuntu 20.04.4 LTS) / x86_64  OK    OK    OK  UNNEEDED, same version is already published
riesling1Windows Server 2019 Standard / x64  OK    OK    OK    OK  
palomino3Windows Server 2022 Datacenter / x64  OK    OK    OK    OK  NO, package depends on 'epivizrData' which is not available
merida1macOS 10.14.6 Mojave / x86_64  OK    OK    OK    OK  UNNEEDED, same version is already published
Package 161/500HostnameOS / ArchINSTALLBUILDCHECKBUILD BIN
epivizrData 1.23.0  (landing page)
Hector Corrada Bravo
git_last_commit: abfa958
git_last_commit_date: 2021-10-26 12:27:38 -0500
nebbiolo1Linux (Ubuntu 20.04.4 LTS) / x86_64  OK    OK    OK  UNNEEDED, same version is already published
riesling1Windows Server 2019 Standard / x64  OK    OK    OK    OK  
palomino3Windows Server 2022 Datacenter / x64  OK    OK    OK    OK  NO, package depends on 'Biobase' which is not available
merida1macOS 10.14.6 Mojave / x86_64  OK    OK    OK    OK  UNNEEDED, same version is already published
Package 162/500HostnameOS / ArchINSTALLBUILDCHECKBUILD BIN
erma 1.11.0  (landing page)
VJ Carey
git_last_commit: 1a4ab97
git_last_commit_date: 2021-10-26 12:21:07 -0500
nebbiolo1Linux (Ubuntu 20.04.4 LTS) / x86_64  OK    OK    OK  UNNEEDED, same version is already published
riesling1Windows Server 2019 Standard / x64  OK    OK    OK    OK  
palomino3Windows Server 2022 Datacenter / x64  OK    OK    OK    OK  NO, package depends on 'GenomicFiles' which is not available
merida1macOS 10.14.6 Mojave / x86_64  OK    OK    OK    OK  UNNEEDED, same version is already published
Package 163/500HostnameOS / ArchINSTALLBUILDCHECKBUILD BIN
esATAC 1.17.0  (landing page)
Zheng Wei
git_last_commit: b93cd3e
git_last_commit_date: 2021-12-16 16:44:20 -0500
nebbiolo1Linux (Ubuntu 20.04.4 LTS) / x86_64  OK    OK    OK  UNNEEDED, same version is already published
riesling1Windows Server 2019 Standard / x64  OK    OK    OK    OK  
palomino3Windows Server 2022 Datacenter / x64  OK    OK    OK    OK  NO, package depends on 'Rsamtools' which is not available
merida1macOS 10.14.6 Mojave / x86_64  OK    OK    OK    OK  NO, package depends on 'ChIPseeker' which is not available
Package 164/500HostnameOS / ArchINSTALLBUILDCHECKBUILD BIN
EventPointer 3.3.1  (landing page)
Juan A. Ferrer-Bonsoms
git_last_commit: f6f00a0
git_last_commit_date: 2021-11-20 23:53:56 -0500
nebbiolo1Linux (Ubuntu 20.04.4 LTS) / x86_64  OK    OK    OK  UNNEEDED, same version is already published
riesling1Windows Server 2019 Standard / x64  OK    OK    OK    OK  
palomino3Windows Server 2022 Datacenter / x64  OK    OK    OK    OK  NO, package depends on 'SGSeq' which is not available
merida1macOS 10.14.6 Mojave / x86_64  OK    OK    OK    OK  UNNEEDED, same version is already published
Package 165/500HostnameOS / ArchINSTALLBUILDCHECKBUILD BIN
ExCluster 1.13.0  (landing page)
R. Matthew Tanner
git_last_commit: b9801e3
git_last_commit_date: 2021-10-26 12:47:03 -0500
nebbiolo1Linux (Ubuntu 20.04.4 LTS) / x86_64  OK    OK    OK  UNNEEDED, same version is already published
riesling1Windows Server 2019 Standard / x64... NOT SUPPORTED ...
palomino3Windows Server 2022 Datacenter / x64... NOT SUPPORTED ...
merida1macOS 10.14.6 Mojave / x86_64  OK    OK    OK    OK  UNNEEDED, same version is already published
Package 166/500HostnameOS / ArchINSTALLBUILDCHECKBUILD BIN
exomeCopy 1.41.1  (landing page)
Michael Love
git_last_commit: 953e9d0
git_last_commit_date: 2021-11-20 04:00:19 -0500
nebbiolo1Linux (Ubuntu 20.04.4 LTS) / x86_64  OK    OK    OK  UNNEEDED, same version is already published
riesling1Windows Server 2019 Standard / x64  OK    OK    OK    OK  
palomino3Windows Server 2022 Datacenter / x64