Back to Multiple platform build/check report for BioC 3.15
ABCDEFGHIJKL[M]NOPQRSTUVWXYZ

This page was generated on 2022-08-15 13:21:47 -0400 (Mon, 15 Aug 2022).

HostnameOSArch (*)R versionInstalled pkgs
nebbiolo1Linux (Ubuntu 20.04.4 LTS)x86_644.2.1 (2022-06-23) -- "Funny-Looking Kid" 4365
palomino3Windows Server 2022 Datacenterx644.2.1 (2022-06-23 ucrt) -- "Funny-Looking Kid" 4118
merida1macOS 10.14.6 Mojavex86_644.2.1 (2022-06-23) -- "Funny-Looking Kid" 4183
Click on any hostname to see more info about the system (e.g. compilers)      (*) as reported by 'uname -p', except on Windows and Mac OS X

BUILD results for motifbreakR on palomino3


To the developers/maintainers of the motifbreakR package:
- Please allow up to 24 hours (and sometimes 48 hours) for your latest push to git@git.bioconductor.org:packages/motifbreakR.git to
reflect on this report. See How and When does the builder pull? When will my changes propagate? for more information.
- Make sure to use the following settings in order to reproduce any error or warning you see on this page.

raw results

Package 1232/2140HostnameOS / ArchINSTALLBUILDCHECKBUILD BIN
motifbreakR 2.10.0  (landing page)
Simon Gert Coetzee
Snapshot Date: 2022-08-14 13:55:13 -0400 (Sun, 14 Aug 2022)
git_url: https://git.bioconductor.org/packages/motifbreakR
git_branch: RELEASE_3_15
git_last_commit: 26aa0e4
git_last_commit_date: 2022-04-26 11:27:11 -0400 (Tue, 26 Apr 2022)
nebbiolo1Linux (Ubuntu 20.04.4 LTS) / x86_64  OK    OK    OK  UNNEEDED, same version is already published
palomino3Windows Server 2022 Datacenter / x64  OK    OK    WARNINGS    OK  UNNEEDED, same version is already published
merida1macOS 10.14.6 Mojave / x86_64  OK    OK    OK    OK  UNNEEDED, same version is already published

Summary

Package: motifbreakR
Version: 2.10.0
Command: chmod a+r motifbreakR -R && F:\biocbuild\bbs-3.15-bioc\R\bin\R.exe CMD build --keep-empty-dirs --no-resave-data motifbreakR
StartedAt: 2022-08-14 19:37:50 -0400 (Sun, 14 Aug 2022)
EndedAt: 2022-08-14 19:52:18 -0400 (Sun, 14 Aug 2022)
EllapsedTime: 868.0 seconds
RetCode: 0
Status:   OK  
PackageFile: motifbreakR_2.10.0.tar.gz
PackageFileSize: 2.166 MiB

Command output

##############################################################################
##############################################################################
###
### Running command:
###
###   chmod a+r motifbreakR -R && F:\biocbuild\bbs-3.15-bioc\R\bin\R.exe CMD build --keep-empty-dirs --no-resave-data motifbreakR
###
##############################################################################
##############################################################################


* checking for file 'motifbreakR/DESCRIPTION' ... OK
* preparing 'motifbreakR':
* checking DESCRIPTION meta-information ... OK
* installing the package to build vignettes
* creating vignettes ... OK
* checking for LF line-endings in source and make files and shell scripts
* checking for empty or unneeded directories
* looking to see if a 'data/datalist' file should be added
* building 'motifbreakR_2.10.0.tar.gz'