Back to Multiple platform build/check report for BioC 3.15
ABCDEFGHIJKLMNOPQRSTU[V]WXYZ

This page was generated on 2022-08-12 13:22:27 -0400 (Fri, 12 Aug 2022).

HostnameOSArch (*)R versionInstalled pkgs
nebbiolo1Linux (Ubuntu 20.04.4 LTS)x86_644.2.1 (2022-06-23) -- "Funny-Looking Kid" 4364
palomino3Windows Server 2022 Datacenterx644.2.1 (2022-06-23 ucrt) -- "Funny-Looking Kid" 4117
merida1macOS 10.14.6 Mojavex86_644.2.1 (2022-06-23) -- "Funny-Looking Kid" 4182
Click on any hostname to see more info about the system (e.g. compilers)      (*) as reported by 'uname -p', except on Windows and Mac OS X

BUILD BIN results for VariantAnnotation on palomino3


To the developers/maintainers of the VariantAnnotation package:
- Please allow up to 24 hours (and sometimes 48 hours) for your latest push to git@git.bioconductor.org:packages/VariantAnnotation.git to
reflect on this report. See How and When does the builder pull? When will my changes propagate? for more information.
- Make sure to use the following settings in order to reproduce any error or warning you see on this page.

raw results

Package 2094/2140HostnameOS / ArchINSTALLBUILDCHECKBUILD BIN
VariantAnnotation 1.42.1  (landing page)
Bioconductor Package Maintainer
Snapshot Date: 2022-08-11 13:55:06 -0400 (Thu, 11 Aug 2022)
git_url: https://git.bioconductor.org/packages/VariantAnnotation
git_branch: RELEASE_3_15
git_last_commit: d112169
git_last_commit_date: 2022-05-12 10:10:58 -0400 (Thu, 12 May 2022)
nebbiolo1Linux (Ubuntu 20.04.4 LTS) / x86_64  OK    OK    OK  UNNEEDED, same version is already published
palomino3Windows Server 2022 Datacenter / x64  OK    OK    OK    OK  UNNEEDED, same version is already published
merida1macOS 10.14.6 Mojave / x86_64  OK    OK    OK    OK  UNNEEDED, same version is already published

Summary

Package: VariantAnnotation
Version: 1.42.1
Command: rm -rf VariantAnnotation.buildbin-libdir && mkdir VariantAnnotation.buildbin-libdir && F:\biocbuild\bbs-3.15-bioc\R\bin\R.exe CMD INSTALL --build --library=VariantAnnotation.buildbin-libdir VariantAnnotation_1.42.1.tar.gz
StartedAt: 2022-08-12 07:20:17 -0400 (Fri, 12 Aug 2022)
EndedAt: 2022-08-12 07:22:25 -0400 (Fri, 12 Aug 2022)
EllapsedTime: 127.9 seconds
RetCode: 0
Status:   OK  
PackageFile: VariantAnnotation_1.42.1.zip
PackageFileSize: 6.691 MiB

Command output

##############################################################################
##############################################################################
###
### Running command:
###
###   rm -rf VariantAnnotation.buildbin-libdir && mkdir VariantAnnotation.buildbin-libdir && F:\biocbuild\bbs-3.15-bioc\R\bin\R.exe CMD INSTALL --build --library=VariantAnnotation.buildbin-libdir VariantAnnotation_1.42.1.tar.gz
###
##############################################################################
##############################################################################


* installing *source* package 'VariantAnnotation' ...
** using staged installation
** libs
gcc  -I"F:/biocbuild/bbs-3.15-bioc/R/include" -DNDEBUG -D_FILE_OFFSET_BITS=64 -I'F:/biocbuild/bbs-3.15-bioc/R/library/S4Vectors/include' -I'F:/biocbuild/bbs-3.15-bioc/R/library/IRanges/include' -I'F:/biocbuild/bbs-3.15-bioc/R/library/XVector/include' -I'F:/biocbuild/bbs-3.15-bioc/R/library/Biostrings/include' -I'F:/biocbuild/bbs-3.15-bioc/R/library/Rhtslib/include'   -I"C:/rtools42/x86_64-w64-mingw32.static.posix/include"     -O2 -Wall  -std=gnu99 -mfpmath=sse -msse2 -mstackrealign  -c Biostrings_stubs.c -o Biostrings_stubs.o
gcc  -I"F:/biocbuild/bbs-3.15-bioc/R/include" -DNDEBUG -D_FILE_OFFSET_BITS=64 -I'F:/biocbuild/bbs-3.15-bioc/R/library/S4Vectors/include' -I'F:/biocbuild/bbs-3.15-bioc/R/library/IRanges/include' -I'F:/biocbuild/bbs-3.15-bioc/R/library/XVector/include' -I'F:/biocbuild/bbs-3.15-bioc/R/library/Biostrings/include' -I'F:/biocbuild/bbs-3.15-bioc/R/library/Rhtslib/include'   -I"C:/rtools42/x86_64-w64-mingw32.static.posix/include"     -O2 -Wall  -std=gnu99 -mfpmath=sse -msse2 -mstackrealign  -c IRanges_stubs.c -o IRanges_stubs.o
gcc  -I"F:/biocbuild/bbs-3.15-bioc/R/include" -DNDEBUG -D_FILE_OFFSET_BITS=64 -I'F:/biocbuild/bbs-3.15-bioc/R/library/S4Vectors/include' -I'F:/biocbuild/bbs-3.15-bioc/R/library/IRanges/include' -I'F:/biocbuild/bbs-3.15-bioc/R/library/XVector/include' -I'F:/biocbuild/bbs-3.15-bioc/R/library/Biostrings/include' -I'F:/biocbuild/bbs-3.15-bioc/R/library/Rhtslib/include'   -I"C:/rtools42/x86_64-w64-mingw32.static.posix/include"     -O2 -Wall  -std=gnu99 -mfpmath=sse -msse2 -mstackrealign  -c R_init_VariantAnnotation.c -o R_init_VariantAnnotation.o
gcc  -I"F:/biocbuild/bbs-3.15-bioc/R/include" -DNDEBUG -D_FILE_OFFSET_BITS=64 -I'F:/biocbuild/bbs-3.15-bioc/R/library/S4Vectors/include' -I'F:/biocbuild/bbs-3.15-bioc/R/library/IRanges/include' -I'F:/biocbuild/bbs-3.15-bioc/R/library/XVector/include' -I'F:/biocbuild/bbs-3.15-bioc/R/library/Biostrings/include' -I'F:/biocbuild/bbs-3.15-bioc/R/library/Rhtslib/include'   -I"C:/rtools42/x86_64-w64-mingw32.static.posix/include"     -O2 -Wall  -std=gnu99 -mfpmath=sse -msse2 -mstackrealign  -c XVector_stubs.c -o XVector_stubs.o
gcc  -I"F:/biocbuild/bbs-3.15-bioc/R/include" -DNDEBUG -D_FILE_OFFSET_BITS=64 -I'F:/biocbuild/bbs-3.15-bioc/R/library/S4Vectors/include' -I'F:/biocbuild/bbs-3.15-bioc/R/library/IRanges/include' -I'F:/biocbuild/bbs-3.15-bioc/R/library/XVector/include' -I'F:/biocbuild/bbs-3.15-bioc/R/library/Biostrings/include' -I'F:/biocbuild/bbs-3.15-bioc/R/library/Rhtslib/include'   -I"C:/rtools42/x86_64-w64-mingw32.static.posix/include"     -O2 -Wall  -std=gnu99 -mfpmath=sse -msse2 -mstackrealign  -c dna_hash.c -o dna_hash.o
gcc  -I"F:/biocbuild/bbs-3.15-bioc/R/include" -DNDEBUG -D_FILE_OFFSET_BITS=64 -I'F:/biocbuild/bbs-3.15-bioc/R/library/S4Vectors/include' -I'F:/biocbuild/bbs-3.15-bioc/R/library/IRanges/include' -I'F:/biocbuild/bbs-3.15-bioc/R/library/XVector/include' -I'F:/biocbuild/bbs-3.15-bioc/R/library/Biostrings/include' -I'F:/biocbuild/bbs-3.15-bioc/R/library/Rhtslib/include'   -I"C:/rtools42/x86_64-w64-mingw32.static.posix/include"     -O2 -Wall  -std=gnu99 -mfpmath=sse -msse2 -mstackrealign  -c rle.c -o rle.o
gcc  -I"F:/biocbuild/bbs-3.15-bioc/R/include" -DNDEBUG -D_FILE_OFFSET_BITS=64 -I'F:/biocbuild/bbs-3.15-bioc/R/library/S4Vectors/include' -I'F:/biocbuild/bbs-3.15-bioc/R/library/IRanges/include' -I'F:/biocbuild/bbs-3.15-bioc/R/library/XVector/include' -I'F:/biocbuild/bbs-3.15-bioc/R/library/Biostrings/include' -I'F:/biocbuild/bbs-3.15-bioc/R/library/Rhtslib/include'   -I"C:/rtools42/x86_64-w64-mingw32.static.posix/include"     -O2 -Wall  -std=gnu99 -mfpmath=sse -msse2 -mstackrealign  -c strhash.c -o strhash.o
gcc  -I"F:/biocbuild/bbs-3.15-bioc/R/include" -DNDEBUG -D_FILE_OFFSET_BITS=64 -I'F:/biocbuild/bbs-3.15-bioc/R/library/S4Vectors/include' -I'F:/biocbuild/bbs-3.15-bioc/R/library/IRanges/include' -I'F:/biocbuild/bbs-3.15-bioc/R/library/XVector/include' -I'F:/biocbuild/bbs-3.15-bioc/R/library/Biostrings/include' -I'F:/biocbuild/bbs-3.15-bioc/R/library/Rhtslib/include'   -I"C:/rtools42/x86_64-w64-mingw32.static.posix/include"     -O2 -Wall  -std=gnu99 -mfpmath=sse -msse2 -mstackrealign  -c utilities.c -o utilities.o
gcc  -I"F:/biocbuild/bbs-3.15-bioc/R/include" -DNDEBUG -D_FILE_OFFSET_BITS=64 -I'F:/biocbuild/bbs-3.15-bioc/R/library/S4Vectors/include' -I'F:/biocbuild/bbs-3.15-bioc/R/library/IRanges/include' -I'F:/biocbuild/bbs-3.15-bioc/R/library/XVector/include' -I'F:/biocbuild/bbs-3.15-bioc/R/library/Biostrings/include' -I'F:/biocbuild/bbs-3.15-bioc/R/library/Rhtslib/include'   -I"C:/rtools42/x86_64-w64-mingw32.static.posix/include"     -O2 -Wall  -std=gnu99 -mfpmath=sse -msse2 -mstackrealign  -c vcffile.c -o vcffile.o
gcc  -I"F:/biocbuild/bbs-3.15-bioc/R/include" -DNDEBUG -D_FILE_OFFSET_BITS=64 -I'F:/biocbuild/bbs-3.15-bioc/R/library/S4Vectors/include' -I'F:/biocbuild/bbs-3.15-bioc/R/library/IRanges/include' -I'F:/biocbuild/bbs-3.15-bioc/R/library/XVector/include' -I'F:/biocbuild/bbs-3.15-bioc/R/library/Biostrings/include' -I'F:/biocbuild/bbs-3.15-bioc/R/library/Rhtslib/include'   -I"C:/rtools42/x86_64-w64-mingw32.static.posix/include"     -O2 -Wall  -std=gnu99 -mfpmath=sse -msse2 -mstackrealign  -c vcftype.c -o vcftype.o
gcc  -I"F:/biocbuild/bbs-3.15-bioc/R/include" -DNDEBUG -D_FILE_OFFSET_BITS=64 -I'F:/biocbuild/bbs-3.15-bioc/R/library/S4Vectors/include' -I'F:/biocbuild/bbs-3.15-bioc/R/library/IRanges/include' -I'F:/biocbuild/bbs-3.15-bioc/R/library/XVector/include' -I'F:/biocbuild/bbs-3.15-bioc/R/library/Biostrings/include' -I'F:/biocbuild/bbs-3.15-bioc/R/library/Rhtslib/include'   -I"C:/rtools42/x86_64-w64-mingw32.static.posix/include"     -O2 -Wall  -std=gnu99 -mfpmath=sse -msse2 -mstackrealign  -c writevcf.c -o writevcf.o
gcc -shared -s -static-libgcc -o VariantAnnotation.dll tmp.def Biostrings_stubs.o IRanges_stubs.o R_init_VariantAnnotation.o XVector_stubs.o dna_hash.o rle.o strhash.o utilities.o vcffile.o vcftype.o writevcf.o F:/biocbuild/bbs-3.15-bioc/R/library/Rhtslib/usrlib/x64/libhts.a -LC:/rtools42/x86_64-w64-mingw32.static.posix/lib/x64 -lsbml-static -lwinmm -lwldap32 -lgdi32 -lbz2 -lcurl -lrtmp -lssl -lssh2 -lidn2 -lunistring -lcharset -lintl -liconv -lgcrypt -lcrypto -lgpg-error -lws2_32 -llzma -lz -lzstd -lmincore -LC:/rtools42/x86_64-w64-mingw32.static.posix/lib/x64 -LC:/rtools42/x86_64-w64-mingw32.static.posix/lib -LF:/biocbuild/bbs-3.15-bioc/R/bin/x64 -lR
installing to F:/biocbuild/bbs-3.15-bioc/meat/VariantAnnotation.buildbin-libdir/00LOCK-VariantAnnotation/00new/VariantAnnotation/libs/x64
** R
** inst
** byte-compile and prepare package for lazy loading
Creating a new generic function for 'tabulate' in package 'VariantAnnotation'
** help
*** installing help indices
** building package indices
** installing vignettes
** testing if installed package can be loaded from temporary location
** testing if installed package can be loaded from final location
** testing if installed package keeps a record of temporary installation path
* MD5 sums
packaged installation of 'VariantAnnotation' as VariantAnnotation_1.42.1.zip
* DONE (VariantAnnotation)