Back to Multiple platform build/check report for BioC 3.15
ABCDEFGHIJKLMNO[P]QRSTUVWXYZ

This page was generated on 2022-05-18 12:07:14 -0400 (Wed, 18 May 2022).

HostnameOSArch (*)R versionInstalled pkgs
nebbiolo1Linux (Ubuntu 20.04.4 LTS)x86_644.2.0 (2022-04-22) -- "Vigorous Calisthenics" 4379
palomino3Windows Server 2022 Datacenterx644.2.0 (2022-04-22 ucrt) -- "Vigorous Calisthenics" 4154
merida1macOS 10.14.6 Mojavex86_644.2.0 (2022-04-22) -- "Vigorous Calisthenics" 4220
Click on any hostname to see more info about the system (e.g. compilers)      (*) as reported by 'uname -p', except on Windows and Mac OS X

BUILD results for Pi on palomino3


To the developers/maintainers of the Pi package:
- Please allow up to 24 hours (and sometimes 48 hours) for your latest push to git@git.bioconductor.org:packages/Pi.git to
reflect on this report. See How and When does the builder pull? When will my changes propagate? for more information.
- Make sure to use the following settings in order to reproduce any error or warning you see on this page.

raw results

Package 1454/2140HostnameOS / ArchINSTALLBUILDCHECKBUILD BIN
Pi 2.8.0  (landing page)
Hai Fang
Snapshot Date: 2022-05-17 13:55:01 -0400 (Tue, 17 May 2022)
git_url: https://git.bioconductor.org/packages/Pi
git_branch: RELEASE_3_15
git_last_commit: 019a211
git_last_commit_date: 2022-04-26 11:35:45 -0400 (Tue, 26 Apr 2022)
nebbiolo1Linux (Ubuntu 20.04.4 LTS) / x86_64  OK    OK    WARNINGS  UNNEEDED, same version is already published
palomino3Windows Server 2022 Datacenter / x64  OK    OK    WARNINGS    OK  UNNEEDED, same version is already published
merida1macOS 10.14.6 Mojave / x86_64  OK    OK    WARNINGS    OK  UNNEEDED, same version is already published

Summary

Package: Pi
Version: 2.8.0
Command: chmod a+r Pi -R && F:\biocbuild\bbs-3.15-bioc\R\bin\R.exe CMD build --keep-empty-dirs --no-resave-data Pi
StartedAt: 2022-05-17 20:01:40 -0400 (Tue, 17 May 2022)
EndedAt: 2022-05-17 20:02:47 -0400 (Tue, 17 May 2022)
EllapsedTime: 66.7 seconds
RetCode: 0
Status:   OK  
PackageFile: Pi_2.8.0.tar.gz
PackageFileSize: 2.895 MiB

Command output

##############################################################################
##############################################################################
###
### Running command:
###
###   chmod a+r Pi -R && F:\biocbuild\bbs-3.15-bioc\R\bin\R.exe CMD build --keep-empty-dirs --no-resave-data Pi
###
##############################################################################
##############################################################################


* checking for file 'Pi/DESCRIPTION' ... OK
* preparing 'Pi':
* checking DESCRIPTION meta-information ... OK
* installing the package to build vignettes
* creating vignettes ... OK
* checking for LF line-endings in source and make files and shell scripts
* checking for empty or unneeded directories
* building 'Pi_2.8.0.tar.gz'