Back to Multiple platform build/check report for BioC 3.15
ABCDEFGHIJKLMNOPQ[R]STUVWXYZ

This page was generated on 2022-08-15 13:22:04 -0400 (Mon, 15 Aug 2022).

HostnameOSArch (*)R versionInstalled pkgs
nebbiolo1Linux (Ubuntu 20.04.4 LTS)x86_644.2.1 (2022-06-23) -- "Funny-Looking Kid" 4365
palomino3Windows Server 2022 Datacenterx644.2.1 (2022-06-23 ucrt) -- "Funny-Looking Kid" 4118
merida1macOS 10.14.6 Mojavex86_644.2.1 (2022-06-23) -- "Funny-Looking Kid" 4183
Click on any hostname to see more info about the system (e.g. compilers)      (*) as reported by 'uname -p', except on Windows and Mac OS X

CHECK results for RiboCrypt on palomino3


To the developers/maintainers of the RiboCrypt package:
- Please allow up to 24 hours (and sometimes 48 hours) for your latest push to git@git.bioconductor.org:packages/RiboCrypt.git to
reflect on this report. See How and When does the builder pull? When will my changes propagate? for more information.
- Make sure to use the following settings in order to reproduce any error or warning you see on this page.

raw results

Package 1648/2140HostnameOS / ArchINSTALLBUILDCHECKBUILD BIN
RiboCrypt 1.2.0  (landing page)
Michal Swirski
Snapshot Date: 2022-08-14 13:55:13 -0400 (Sun, 14 Aug 2022)
git_url: https://git.bioconductor.org/packages/RiboCrypt
git_branch: RELEASE_3_15
git_last_commit: d80a3e1
git_last_commit_date: 2022-04-26 12:19:48 -0400 (Tue, 26 Apr 2022)
nebbiolo1Linux (Ubuntu 20.04.4 LTS) / x86_64  OK    OK    OK  UNNEEDED, same version is already published
palomino3Windows Server 2022 Datacenter / x64  OK    OK    OK    OK  UNNEEDED, same version is already published
merida1macOS 10.14.6 Mojave / x86_64  OK    OK    OK    OK  UNNEEDED, same version is already published

Summary

Package: RiboCrypt
Version: 1.2.0
Command: F:\biocbuild\bbs-3.15-bioc\R\bin\R.exe CMD check --no-multiarch --install=check:RiboCrypt.install-out.txt --library=F:\biocbuild\bbs-3.15-bioc\R\library --no-vignettes --timings RiboCrypt_1.2.0.tar.gz
StartedAt: 2022-08-15 04:05:38 -0400 (Mon, 15 Aug 2022)
EndedAt: 2022-08-15 04:11:24 -0400 (Mon, 15 Aug 2022)
EllapsedTime: 346.3 seconds
RetCode: 0
Status:   OK  
CheckDir: RiboCrypt.Rcheck
Warnings: 0

Command output

##############################################################################
##############################################################################
###
### Running command:
###
###   F:\biocbuild\bbs-3.15-bioc\R\bin\R.exe CMD check --no-multiarch --install=check:RiboCrypt.install-out.txt --library=F:\biocbuild\bbs-3.15-bioc\R\library --no-vignettes --timings RiboCrypt_1.2.0.tar.gz
###
##############################################################################
##############################################################################


* using log directory 'F:/biocbuild/bbs-3.15-bioc/meat/RiboCrypt.Rcheck'
* using R version 4.2.1 (2022-06-23 ucrt)
* using platform: x86_64-w64-mingw32 (64-bit)
* using session charset: UTF-8
* using option '--no-vignettes'
* checking for file 'RiboCrypt/DESCRIPTION' ... OK
* checking extension type ... Package
* this is package 'RiboCrypt' version '1.2.0'
* package encoding: UTF-8
* checking package namespace information ... OK
* checking package dependencies ... OK
* checking if this is a source package ... OK
* checking if there is a namespace ... OK
* checking for hidden files and directories ... OK
* checking for portable file names ... OK
* checking whether package 'RiboCrypt' can be installed ... OK
* checking installed package size ... OK
* checking package directory ... OK
* checking 'build' directory ... OK
* checking DESCRIPTION meta-information ... OK
* checking top-level files ... OK
* checking for left-over files ... OK
* checking index information ... OK
* checking package subdirectories ... OK
* checking R files for non-ASCII characters ... OK
* checking R files for syntax errors ... OK
* checking whether the package can be loaded ... OK
* checking whether the package can be loaded with stated dependencies ... OK
* checking whether the package can be unloaded cleanly ... OK
* checking whether the namespace can be loaded with stated dependencies ... OK
* checking whether the namespace can be unloaded cleanly ... OK
* checking dependencies in R code ... OK
* checking S3 generic/method consistency ... OK
* checking replacement functions ... OK
* checking foreign function calls ... OK
* checking R code for possible problems ... NOTE
createSinglePlot: no visible binding for global variable 'position'
createSinglePlot: no visible binding for global variable 'frame'
getIndexes: no visible global function definition for 'nrun'
getPlotAnimate: no visible binding for global variable 'position'
getPlotAnimate: no visible binding for global variable 'frame'
getRelativeFrames: no visible binding for global variable 'cum_width'
getRelativeFrames: no visible binding for global variable 'rel_frame'
getRiboProfile: no visible binding for global variable 'frame'
getStackProfile: no visible global function definition for '.'
getStackProfile: no visible binding for global variable 'position'
getStackProfile: no visible binding for global variable 'frame'
multiOmicsPlot_animate: no visible global function definition for
  'wmsg'
multiOmicsPlot_animate: no visible global function definition for 'is'
multiOmicsPlot_list: no visible global function definition for 'wmsg'
multiOmicsPlot_list: no visible global function definition for 'is'
nt_bar: no visible binding for global variable 'y'
Undefined global functions or variables:
  . cum_width frame is nrun position rel_frame wmsg y
Consider adding
  importFrom("graphics", "frame")
  importFrom("methods", "is")
to your NAMESPACE file (and ensure that your DESCRIPTION Imports field
contains 'methods').
* checking Rd files ... OK
* checking Rd metadata ... OK
* checking Rd cross-references ... OK
* checking for missing documentation entries ... OK
* checking for code/documentation mismatches ... OK
* checking Rd \usage sections ... OK
* checking Rd contents ... OK
* checking for unstated dependencies in examples ... OK
* checking files in 'vignettes' ... OK
* checking examples ... OK
Examples with CPU (user + system) or elapsed time > 5s
                        user system elapsed
multiOmicsPlot_ORFikExp 5.56   0.09   33.42
multiOmicsPlot_animate  3.58   0.17   31.36
multiOmicsPlot_list     3.37   0.11   31.45
* checking for unstated dependencies in vignettes ... OK
* checking package vignettes in 'inst/doc' ... OK
* checking running R code from vignettes ... SKIPPED
* checking re-building of vignette outputs ... SKIPPED
* checking PDF version of manual ... OK
* DONE

Status: 1 NOTE
See
  'F:/biocbuild/bbs-3.15-bioc/meat/RiboCrypt.Rcheck/00check.log'
for details.



Installation output

RiboCrypt.Rcheck/00install.out

##############################################################################
##############################################################################
###
### Running command:
###
###   F:\biocbuild\bbs-3.15-bioc\R\bin\R.exe CMD INSTALL RiboCrypt
###
##############################################################################
##############################################################################


* installing to library 'F:/biocbuild/bbs-3.15-bioc/R/library'
* installing *source* package 'RiboCrypt' ...
** using staged installation
** R
** inst
** byte-compile and prepare package for lazy loading
** help
*** installing help indices
** building package indices
** installing vignettes
** testing if installed package can be loaded from temporary location
** testing if installed package can be loaded from final location
** testing if installed package keeps a record of temporary installation path
* DONE (RiboCrypt)

Tests output


Example timings

RiboCrypt.Rcheck/RiboCrypt-Ex.timings

nameusersystemelapsed
RiboCrypt.template.experiment0.500.060.56
multiOmicsPlot_ORFikExp 5.56 0.0933.42
multiOmicsPlot_animate 3.58 0.1731.36
multiOmicsPlot_list 3.37 0.1131.45