Back to Multiple platform build/check report for BioC 3.15
ABCDEFGHIJKLMNOPQRSTU[V]WXYZ

This page was generated on 2022-08-15 13:19:51 -0400 (Mon, 15 Aug 2022).

HostnameOSArch (*)R versionInstalled pkgs
nebbiolo1Linux (Ubuntu 20.04.4 LTS)x86_644.2.1 (2022-06-23) -- "Funny-Looking Kid" 4365
palomino3Windows Server 2022 Datacenterx644.2.1 (2022-06-23 ucrt) -- "Funny-Looking Kid" 4118
merida1macOS 10.14.6 Mojavex86_644.2.1 (2022-06-23) -- "Funny-Looking Kid" 4183
Click on any hostname to see more info about the system (e.g. compilers)      (*) as reported by 'uname -p', except on Windows and Mac OS X

All results for package VariantAnnotation


To the developers/maintainers of the VariantAnnotation package:
- Please allow up to 24 hours (and sometimes 48 hours) for your latest push to git@git.bioconductor.org:packages/VariantAnnotation.git to
reflect on this report. See How and When does the builder pull? When will my changes propagate? for more information.
- Make sure to use the following settings in order to reproduce any error or warning you see on this page.

raw results

Package 2094/2140HostnameOS / ArchINSTALLBUILDCHECKBUILD BIN
VariantAnnotation 1.42.1  (landing page)
Bioconductor Package Maintainer
Snapshot Date: 2022-08-14 13:55:13 -0400 (Sun, 14 Aug 2022)
git_url: https://git.bioconductor.org/packages/VariantAnnotation
git_branch: RELEASE_3_15
git_last_commit: d112169
git_last_commit_date: 2022-05-12 10:10:58 -0400 (Thu, 12 May 2022)
nebbiolo1Linux (Ubuntu 20.04.4 LTS) / x86_64  OK    OK    OK  UNNEEDED, same version is already published
palomino3Windows Server 2022 Datacenter / x64  OK    OK    OK    OK  UNNEEDED, same version is already published
merida1macOS 10.14.6 Mojave / x86_64  OK    OK    OK    OK  UNNEEDED, same version is already published

Results for Bioconductor software packages that depend directly on package VariantAnnotation

QUICK STATSOS / ArchINSTALLBUILDCHECKBUILD BIN
nebbiolo1Linux (Ubuntu 20.04.4 LTS) / x86_64
0162
0360
011346
palomino3Windows Server 2022 Datacenter / x64
0157
0256
001442
0056
merida1macOS 10.14.6 Mojave / x86_64
0161
0359
001247
0059
Package 1/63HostnameOS / ArchINSTALLBUILDCHECKBUILD BIN
AllelicImbalance 1.34.0  (landing page)
Jesper R Gadin
git_last_commit: 290708c
git_last_commit_date: 2022-04-26 11:16:30 -0400
nebbiolo1Linux (Ubuntu 20.04.4 LTS) / x86_64  OK    OK    OK  UNNEEDED, same version is already published
palomino3Windows Server 2022 Datacenter / x64  OK    OK    OK    OK  UNNEEDED, same version is already published
merida1macOS 10.14.6 Mojave / x86_64  OK    OK    OK    OK  UNNEEDED, same version is already published
Package 2/63HostnameOS / ArchINSTALLBUILDCHECKBUILD BIN
APAlyzer 1.10.0  (landing page)
Ruijia Wang
git_last_commit: 0545bb5
git_last_commit_date: 2022-04-26 11:58:10 -0400
nebbiolo1Linux (Ubuntu 20.04.4 LTS) / x86_64  OK    OK    WARNINGS  UNNEEDED, same version is already published
palomino3Windows Server 2022 Datacenter / x64  OK    OK    WARNINGS    OK  UNNEEDED, same version is already published
merida1macOS 10.14.6 Mojave / x86_64  OK    OK    WARNINGS    OK  UNNEEDED, same version is already published
Package 3/63HostnameOS / ArchINSTALLBUILDCHECKBUILD BIN
appreci8R 1.14.0  (landing page)
Sarah Sandmann
git_last_commit: 8f23d88
git_last_commit_date: 2022-04-26 11:49:59 -0400
nebbiolo1Linux (Ubuntu 20.04.4 LTS) / x86_64  OK    OK    OK  UNNEEDED, same version is already published
palomino3Windows Server 2022 Datacenter / x64  OK    OK    OK    OK  UNNEEDED, same version is already published
merida1macOS 10.14.6 Mojave / x86_64  OK    OK    OK    OK  UNNEEDED, same version is already published
Package 4/63HostnameOS / ArchINSTALLBUILDCHECKBUILD BIN
BadRegionFinder 1.24.0  (landing page)
Sarah Sandmann
git_last_commit: e2d9a3f
git_last_commit_date: 2022-04-26 11:31:18 -0400
nebbiolo1Linux (Ubuntu 20.04.4 LTS) / x86_64  OK    OK    OK  UNNEEDED, same version is already published
palomino3Windows Server 2022 Datacenter / x64  OK    OK    OK    OK  UNNEEDED, same version is already published
merida1macOS 10.14.6 Mojave / x86_64  OK    OK    OK    OK  UNNEEDED, same version is already published
Package 5/63HostnameOS / ArchINSTALLBUILDCHECKBUILD BIN
BBCAnalyzer 1.26.0  (landing page)
Sarah Sandmann
git_last_commit: 5f8f335
git_last_commit_date: 2022-04-26 11:26:53 -0400
nebbiolo1Linux (Ubuntu 20.04.4 LTS) / x86_64  OK    OK    OK  UNNEEDED, same version is already published
palomino3Windows Server 2022 Datacenter / x64  OK    OK    WARNINGS    OK  UNNEEDED, same version is already published
merida1macOS 10.14.6 Mojave / x86_64  OK    OK    OK    OK  UNNEEDED, same version is already published
Package 6/63HostnameOS / ArchINSTALLBUILDCHECKBUILD BIN
biovizBase 1.44.0  (landing page)
Michael Lawrence
git_last_commit: a8f05c5
git_last_commit_date: 2022-04-26 11:09:05 -0400
nebbiolo1Linux (Ubuntu 20.04.4 LTS) / x86_64  OK    OK    WARNINGS  UNNEEDED, same version is already published
palomino3Windows Server 2022 Datacenter / x64  OK    OK    WARNINGS    OK  UNNEEDED, same version is already published
merida1macOS 10.14.6 Mojave / x86_64  OK    OK    WARNINGS    OK  UNNEEDED, same version is already published
Package 7/63HostnameOS / ArchINSTALLBUILDCHECKBUILD BIN
biscuiteer 1.10.0  (landing page)
Jacob Morrison
git_last_commit: 4e21745
git_last_commit_date: 2022-04-26 12:00:38 -0400
nebbiolo1Linux (Ubuntu 20.04.4 LTS) / x86_64  OK    OK    WARNINGS  UNNEEDED, same version is already published
palomino3Windows Server 2022 Datacenter / x64  OK    OK    WARNINGS    OK  UNNEEDED, same version is already published
merida1macOS 10.14.6 Mojave / x86_64  OK    OK    WARNINGS    OK  UNNEEDED, same version is already published
Package 8/63HostnameOS / ArchINSTALLBUILDCHECKBUILD BIN
CNVfilteR 1.10.0  (landing page)
Jose Marcos Moreno-Cabrera
git_last_commit: 67b24ff
git_last_commit_date: 2022-04-26 12:00:01 -0400
nebbiolo1Linux (Ubuntu 20.04.4 LTS) / x86_64  OK    OK    OK  UNNEEDED, same version is already published
palomino3Windows Server 2022 Datacenter / x64  OK    OK    OK    OK  UNNEEDED, same version is already published
merida1macOS 10.14.6 Mojave / x86_64  OK    OK    OK    OK  UNNEEDED, same version is already published
Package 9/63HostnameOS / ArchINSTALLBUILDCHECKBUILD BIN
CNVrd2 1.34.0  (landing page)
Hoang Tan Nguyen
git_last_commit: f8660c3
git_last_commit_date: 2022-04-26 11:17:03 -0400
nebbiolo1Linux (Ubuntu 20.04.4 LTS) / x86_64  OK    OK    OK  UNNEEDED, same version is already published
palomino3Windows Server 2022 Datacenter / x64  OK    OK    OK    OK  UNNEEDED, same version is already published
merida1macOS 10.14.6 Mojave / x86_64  OK    OK    OK    OK  UNNEEDED, same version is already published
Package 10/63HostnameOS / ArchINSTALLBUILDCHECKBUILD BIN
CopyNumberPlots 1.12.0  (landing page)
Bernat Gel
git_last_commit: b6a4fde
git_last_commit_date: 2022-04-26 11:55:13 -0400
nebbiolo1Linux (Ubuntu 20.04.4 LTS) / x86_64  OK    OK    OK  UNNEEDED, same version is already published
palomino3Windows Server 2022 Datacenter / x64  OK    OK    OK    OK  UNNEEDED, same version is already published
merida1macOS 10.14.6 Mojave / x86_64  OK    OK    OK    OK  UNNEEDED, same version is already published
Package 11/63HostnameOS / ArchINSTALLBUILDCHECKBUILD BIN
customProDB 1.36.0  (landing page)
Xiaojing Wang
git_last_commit: cf3989d
git_last_commit_date: 2022-04-26 11:15:11 -0400
nebbiolo1Linux (Ubuntu 20.04.4 LTS) / x86_64  OK    OK    OK  UNNEEDED, same version is already published
palomino3Windows Server 2022 Datacenter / x64  OK    OK    OK    OK  UNNEEDED, same version is already published
merida1macOS 10.14.6 Mojave / x86_64  OK    OK    OK    OK  UNNEEDED, same version is already published
Package 12/63HostnameOS / ArchINSTALLBUILDCHECKBUILD BIN
DAMEfinder 1.8.0  (landing page)
Stephany Orjuela
git_last_commit: 5a0777b
git_last_commit_date: 2022-04-26 12:02:10 -0400
nebbiolo1Linux (Ubuntu 20.04.4 LTS) / x86_64  OK    OK    OK  UNNEEDED, same version is already published
palomino3Windows Server 2022 Datacenter / x64  OK    OK    OK    OK  UNNEEDED, same version is already published
merida1macOS 10.14.6 Mojave / x86_64  OK    OK    OK    OK  UNNEEDED, same version is already published
Package 13/63HostnameOS / ArchINSTALLBUILDCHECKBUILD BIN
decompTumor2Sig 2.12.0  (landing page)
Rosario M. Piro
git_last_commit: 8b41d1c
git_last_commit_date: 2022-04-26 11:52:21 -0400
nebbiolo1Linux (Ubuntu 20.04.4 LTS) / x86_64  OK    OK    OK  UNNEEDED, same version is already published
palomino3Windows Server 2022 Datacenter / x64  OK    OK    OK    OK  UNNEEDED, same version is already published
merida1macOS 10.14.6 Mojave / x86_64  OK    OK    OK    OK  UNNEEDED, same version is already published
Package 14/63HostnameOS / ArchINSTALLBUILDCHECKBUILD BIN
deepSNV 1.42.1  (landing page)
Moritz Gerstung
git_last_commit: 9800af9
git_last_commit_date: 2022-05-31 16:26:03 -0400
nebbiolo1Linux (Ubuntu 20.04.4 LTS) / x86_64  OK    OK    OK  UNNEEDED, same version is already published
palomino3Windows Server 2022 Datacenter / x64  OK    OK    OK    OK  UNNEEDED, same version is already published
merida1macOS 10.14.6 Mojave / x86_64  OK    OK    OK    OK  UNNEEDED, same version is already published
Package 15/63HostnameOS / ArchINSTALLBUILDCHECKBUILD BIN
DominoEffect 1.16.0  (landing page)
Marija Buljan
git_last_commit: 0b764f9
git_last_commit_date: 2022-04-26 11:47:32 -0400
nebbiolo1Linux (Ubuntu 20.04.4 LTS) / x86_64  OK    OK    OK  UNNEEDED, same version is already published
palomino3Windows Server 2022 Datacenter / x64  OK    OK    OK    OK  UNNEEDED, same version is already published
merida1macOS 10.14.6 Mojave / x86_64  OK    OK    OK    OK  UNNEEDED, same version is already published
Package 16/63HostnameOS / ArchINSTALLBUILDCHECKBUILD BIN
ensemblVEP 1.38.0  (landing page)
Bioconductor Package Maintainer
git_last_commit: 8d6b5a9
git_last_commit_date: 2022-04-26 11:13:02 -0400
nebbiolo1Linux (Ubuntu 20.04.4 LTS) / x86_64  OK    ERROR  skipped
palomino3Windows Server 2022 Datacenter / x64... NOT SUPPORTED ...
merida1macOS 10.14.6 Mojave / x86_64  OK    ERROR  skippedskipped
Package 17/63HostnameOS / ArchINSTALLBUILDCHECKBUILD BIN
epialleleR 1.4.0  (landing page)
Oleksii Nikolaienko
git_last_commit: 74145ed
git_last_commit_date: 2022-04-26 12:15:55 -0400
nebbiolo1Linux (Ubuntu 20.04.4 LTS) / x86_64  OK    OK    WARNINGS  UNNEEDED, same version is already published
palomino3Windows Server 2022 Datacenter / x64  OK    OK    WARNINGS    OK  UNNEEDED, same version is already published
merida1macOS 10.14.6 Mojave / x86_64  OK    OK    OK    OK  UNNEEDED, same version is already published
Package 18/63HostnameOS / ArchINSTALLBUILDCHECKBUILD BIN
fcScan 1.10.0  (landing page)
Pierre Khoueiry Abdullah El-Kurdi
git_last_commit: a393868
git_last_commit_date: 2022-04-26 11:58:13 -0400
nebbiolo1Linux (Ubuntu 20.04.4 LTS) / x86_64  OK    OK    OK  UNNEEDED, same version is already published
palomino3Windows Server 2022 Datacenter / x64  OK    OK    OK    OK  UNNEEDED, same version is already published
merida1macOS 10.14.6 Mojave / x86_64  OK    OK    OK    OK  UNNEEDED, same version is already published
Package 19/63HostnameOS / ArchINSTALLBUILDCHECKBUILD BIN
GA4GHclient 1.20.0  (landing page)
Welliton Souza
git_last_commit: 22ed961
git_last_commit_date: 2022-04-26 11:39:48 -0400
nebbiolo1Linux (Ubuntu 20.04.4 LTS) / x86_64  OK    OK    OK  UNNEEDED, same version is already published
palomino3Windows Server 2022 Datacenter / x64  OK    OK    OK    OK  UNNEEDED, same version is already published
merida1macOS 10.14.6 Mojave / x86_64  OK    OK    OK    OK  UNNEEDED, same version is already published
Package 20/63HostnameOS / ArchINSTALLBUILDCHECKBUILD BIN
genbankr 1.24.0  (landing page)
Gabriel Becker
git_last_commit: e4d05e1
git_last_commit_date: 2022-04-26 11:31:47 -0400
nebbiolo1Linux (Ubuntu 20.04.4 LTS) / x86_64  OK    OK    OK  UNNEEDED, same version is already published
palomino3Windows Server 2022 Datacenter / x64  OK    OK    OK    OK  UNNEEDED, same version is already published
merida1macOS 10.14.6 Mojave / x86_64  OK    OK    OK    OK  UNNEEDED, same version is already published
Package 21/63HostnameOS / ArchINSTALLBUILDCHECKBUILD BIN
GenomicFiles 1.32.1  (landing page)
Bioconductor Package Maintainer
git_last_commit: abe840c
git_last_commit_date: 2022-05-06 13:19:35 -0400
nebbiolo1Linux (Ubuntu 20.04.4 LTS) / x86_64  OK    OK    OK  UNNEEDED, same version is already published
palomino3Windows Server 2022 Datacenter / x64  OK    OK    OK    OK  UNNEEDED, same version is already published
merida1macOS 10.14.6 Mojave / x86_64  OK    OK    OK    OK  UNNEEDED, same version is already published
Package 22/63HostnameOS / ArchINSTALLBUILDCHECKBUILD BIN
genotypeeval 1.28.0  (landing page)
Jennifer Tom
git_last_commit: 7ffec7f
git_last_commit_date: 2022-04-26 11:26:16 -0400
nebbiolo1Linux (Ubuntu 20.04.4 LTS) / x86_64  OK    OK    WARNINGS  UNNEEDED, same version is already published
palomino3Windows Server 2022 Datacenter / x64  OK    OK    WARNINGS    OK  UNNEEDED, same version is already published
merida1macOS 10.14.6 Mojave / x86_64  OK    OK    WARNINGS    OK  UNNEEDED, same version is already published
Package 23/63HostnameOS / ArchINSTALLBUILDCHECKBUILD BIN
GenVisR 1.28.0  (landing page)
Zachary Skidmore
git_last_commit: c6c6b57
git_last_commit_date: 2022-04-26 11:29:04 -0400
nebbiolo1Linux (Ubuntu 20.04.4 LTS) / x86_64  ERROR    ERROR  skipped
palomino3Windows Server 2022 Datacenter / x64  ERROR    ERROR  skippedskipped
merida1macOS 10.14.6 Mojave / x86_64  ERROR    ERROR  skippedskipped
Package 24/63HostnameOS / ArchINSTALLBUILDCHECKBUILD BIN
ggbio 1.44.1  (landing page)
Michael Lawrence
git_last_commit: 0301d94
git_last_commit_date: 2022-06-22 15:18:55 -0400
nebbiolo1Linux (Ubuntu 20.04.4 LTS) / x86_64  OK    OK    WARNINGS  UNNEEDED, same version is already published
palomino3Windows Server 2022 Datacenter / x64  OK    OK    WARNINGS    OK  UNNEEDED, same version is already published
merida1macOS 10.14.6 Mojave / x86_64  OK    OK    WARNINGS    OK  UNNEEDED, same version is already published
Package 25/63HostnameOS / ArchINSTALLBUILDCHECKBUILD BIN
gmapR 1.38.0  (landing page)
Michael Lawrence
git_last_commit: f762532
git_last_commit_date: 2022-04-26 11:11:32 -0400
nebbiolo1Linux (Ubuntu 20.04.4 LTS) / x86_64  OK    OK    WARNINGS  UNNEEDED, same version is already published
palomino3Windows Server 2022 Datacenter / x64... NOT SUPPORTED ...
merida1macOS 10.14.6 Mojave / x86_64  OK    OK    WARNINGS    OK  UNNEEDED, same version is already published
Package 26/63HostnameOS / ArchINSTALLBUILDCHECKBUILD BIN
gwascat 2.28.1  (landing page)
VJ Carey
git_last_commit: 10f9469
git_last_commit_date: 2022-05-06 07:16:29 -0400
nebbiolo1Linux (Ubuntu 20.04.4 LTS) / x86_64  OK    OK    OK  UNNEEDED, same version is already published
palomino3Windows Server 2022 Datacenter / x64  OK    OK    OK    OK  UNNEEDED, same version is already published
merida1macOS 10.14.6 Mojave / x86_64  OK    OK    OK    OK  UNNEEDED, same version is already published
Package 27/63HostnameOS / ArchINSTALLBUILDCHECKBUILD BIN
gwasurvivr 1.14.0  (landing page)
Abbas Rizvi
git_last_commit: 221dd45
git_last_commit_date: 2022-04-26 11:49:41 -0400
nebbiolo1Linux (Ubuntu 20.04.4 LTS) / x86_64  OK    OK    OK  UNNEEDED, same version is already published
palomino3Windows Server 2022 Datacenter / x64  OK    OK    OK    OK  UNNEEDED, same version is already published
merida1macOS 10.14.6 Mojave / x86_64  OK    OK    OK    OK  UNNEEDED, same version is already published
Package 28/63HostnameOS / ArchINSTALLBUILDCHECKBUILD BIN
HelloRanges 1.22.0  (landing page)
Michael Lawrence
git_last_commit: 7a1e113
git_last_commit_date: 2022-04-26 11:36:49 -0400
nebbiolo1Linux (Ubuntu 20.04.4 LTS) / x86_64  OK    OK    OK  UNNEEDED, same version is already published
palomino3Windows Server 2022 Datacenter / x64  OK    OK    OK    OK  UNNEEDED, same version is already published
merida1macOS 10.14.6 Mojave / x86_64  OK    OK    OK    OK  UNNEEDED, same version is already published
Package 29/63HostnameOS / ArchINSTALLBUILDCHECKBUILD BIN
HTSeqGenie 4.26.0  (landing page)
Jens Reeder
git_last_commit: a3c4a34
git_last_commit_date: 2022-04-26 11:12:25 -0400
nebbiolo1Linux (Ubuntu 20.04.4 LTS) / x86_64  OK    OK    ERROR  
palomino3Windows Server 2022 Datacenter / x64... NOT SUPPORTED ...
merida1macOS 10.14.6 Mojave / x86_64... NOT SUPPORTED ...
Package 30/63HostnameOS / ArchINSTALLBUILDCHECKBUILD BIN
icetea 1.14.0  (landing page)
Vivek Bhardwaj
git_last_commit: 5220193
git_last_commit_date: 2022-04-26 11:49:42 -0400
nebbiolo1Linux (Ubuntu 20.04.4 LTS) / x86_64  OK    OK    OK  UNNEEDED, same version is already published
palomino3Windows Server 2022 Datacenter / x64  OK    OK    OK    OK  UNNEEDED, same version is already published
merida1macOS 10.14.6 Mojave / x86_64  OK    OK    OK    OK  UNNEEDED, same version is already published
Package 31/63HostnameOS / ArchINSTALLBUILDCHECKBUILD BIN
igvR 1.16.0  (landing page)
Paul Shannon
git_last_commit: 9b7541b
git_last_commit_date: 2022-04-26 11:48:52 -0400
nebbiolo1Linux (Ubuntu 20.04.4 LTS) / x86_64  OK    OK    WARNINGS  UNNEEDED, same version is already published
palomino3Windows Server 2022 Datacenter / x64  OK    OK    WARNINGS    OK  UNNEEDED, same version is already published
merida1macOS 10.14.6 Mojave / x86_64  OK    OK    WARNINGS    OK  UNNEEDED, same version is already published
Package 32/63HostnameOS / ArchINSTALLBUILDCHECKBUILD BIN
karyoploteR 1.22.0  (landing page)
Bernat Gel
git_last_commit: c0d3786
git_last_commit_date: 2022-04-26 11:38:43 -0400
nebbiolo1Linux (Ubuntu 20.04.4 LTS) / x86_64  OK    OK    OK  UNNEEDED, same version is already published
palomino3Windows Server 2022 Datacenter / x64  OK    OK    OK    OK  UNNEEDED, same version is already published
merida1macOS 10.14.6 Mojave / x86_64  OK    OK    OK    OK  UNNEEDED, same version is already published
Package 33/63HostnameOS / ArchINSTALLBUILDCHECKBUILD BIN
ldblock 1.26.0  (landing page)
VJ Carey
git_last_commit: 7a5cd9d
git_last_commit_date: 2022-04-26 11:27:01 -0400
nebbiolo1Linux (Ubuntu 20.04.4 LTS) / x86_64  OK    OK    OK  UNNEEDED, same version is already published
palomino3Windows Server 2022 Datacenter / x64  OK    OK    OK    OK  UNNEEDED, same version is already published
merida1macOS 10.14.6 Mojave / x86_64  OK    OK    OK    OK  UNNEEDED, same version is already published
Package 34/63HostnameOS / ArchINSTALLBUILDCHECKBUILD BIN
lineagespot 1.0.0  (landing page)
Nikolaos Pechlivanis
git_last_commit: 97c96e7
git_last_commit_date: 2022-04-26 12:21:13 -0400
nebbiolo1Linux (Ubuntu 20.04.4 LTS) / x86_64  OK    OK    OK  UNNEEDED, same version is already published
palomino3Windows Server 2022 Datacenter / x64  OK    OK    OK    OK  UNNEEDED, same version is already published
merida1macOS 10.14.6 Mojave / x86_64  OK    OK    OK    OK  UNNEEDED, same version is already published
Package 35/63HostnameOS / ArchINSTALLBUILDCHECKBUILD BIN
MADSEQ 1.22.0  (landing page)
Yu Kong
git_last_commit: 25b8bbd
git_last_commit_date: 2022-04-26 11:32:46 -0400
nebbiolo1Linux (Ubuntu 20.04.4 LTS) / x86_64  OK    OK    OK  UNNEEDED, same version is already published
palomino3Windows Server 2022 Datacenter / x64  OK    OK    OK    OK  UNNEEDED, same version is already published
merida1macOS 10.14.6 Mojave / x86_64  OK    OK    OK    OK  UNNEEDED, same version is already published
Package 36/63HostnameOS / ArchINSTALLBUILDCHECKBUILD BIN
MMAPPR2 1.10.0  (landing page)
Jonathon Hill
git_last_commit: bf96997
git_last_commit_date: 2022-04-26 11:56:54 -0400
nebbiolo1Linux (Ubuntu 20.04.4 LTS) / x86_64  OK    OK    OK  UNNEEDED, same version is already published
palomino3Windows Server 2022 Datacenter / x64... NOT SUPPORTED ...
merida1macOS 10.14.6 Mojave / x86_64  OK    OK    OK    OK  UNNEEDED, same version is already published
Package 37/63HostnameOS / ArchINSTALLBUILDCHECKBUILD BIN
motifbreakR 2.10.0  (landing page)
Simon Gert Coetzee
git_last_commit: 26aa0e4
git_last_commit_date: 2022-04-26 11:27:11 -0400
nebbiolo1Linux (Ubuntu 20.04.4 LTS) / x86_64  OK    OK    OK  UNNEEDED, same version is already published
palomino3Windows Server 2022 Datacenter / x64  OK    OK    WARNINGS    OK  UNNEEDED, same version is already published
merida1macOS 10.14.6 Mojave / x86_64  OK    OK    OK    OK  UNNEEDED, same version is already published
Package 38/63HostnameOS / ArchINSTALLBUILDCHECKBUILD BIN
MungeSumstats 1.4.5  (landing page)
Alan Murphy
git_last_commit: 0da13c2
git_last_commit_date: 2022-06-08 13:06:54 -0400
nebbiolo1Linux (Ubuntu 20.04.4 LTS) / x86_64  OK    OK    OK  UNNEEDED, same version is already published
palomino3Windows Server 2022 Datacenter / x64  OK    OK    OK    OK  UNNEEDED, same version is already published
merida1macOS 10.14.6 Mojave / x86_64  OK    OK    OK    OK  UNNEEDED, same version is already published
Package 39/63HostnameOS / ArchINSTALLBUILDCHECKBUILD BIN
musicatk 1.6.0  (landing page)
Aaron Chevalier
git_last_commit: a04eaa9
git_last_commit_date: 2022-04-26 12:09:57 -0400
nebbiolo1Linux (Ubuntu 20.04.4 LTS) / x86_64  OK    OK    OK  UNNEEDED, same version is already published
palomino3Windows Server 2022 Datacenter / x64  OK    OK    OK    OK  UNNEEDED, same version is already published
merida1macOS 10.14.6 Mojave / x86_64  OK    OK    OK    OK  UNNEEDED, same version is already published
Package 40/63HostnameOS / ArchINSTALLBUILDCHECKBUILD BIN
MutationalPatterns 3.6.0  (landing page)
Mark van Roosmalen
git_last_commit: 4908f42
git_last_commit_date: 2022-04-26 11:36:46 -0400
nebbiolo1Linux (Ubuntu 20.04.4 LTS) / x86_64  OK    OK    OK  UNNEEDED, same version is already published
palomino3Windows Server 2022 Datacenter / x64  OK    OK    OK    OK  UNNEEDED, same version is already published
merida1macOS 10.14.6 Mojave / x86_64  OK    OK    OK    OK  UNNEEDED, same version is already published
Package 41/63HostnameOS / ArchINSTALLBUILDCHECKBUILD BIN
myvariant 1.26.0  (landing page)
Adam Mark, Chunlei Wu
git_last_commit: 3930153
git_last_commit_date: 2022-04-26 11:26:57 -0400
nebbiolo1Linux (Ubuntu 20.04.4 LTS) / x86_64  OK    OK    OK  UNNEEDED, same version is already published
palomino3Windows Server 2022 Datacenter / x64  OK    OK    OK    OK  UNNEEDED, same version is already published
merida1macOS 10.14.6 Mojave / x86_64  OK    OK    OK    OK  UNNEEDED, same version is already published
Package 42/63HostnameOS / ArchINSTALLBUILDCHECKBUILD BIN
ProteoDisco 1.2.0  (landing page)
Job van Riet
git_last_commit: 80e3957
git_last_commit_date: 2022-04-26 12:18:02 -0400
nebbiolo1Linux (Ubuntu 20.04.4 LTS) / x86_64  OK    OK    WARNINGS  UNNEEDED, same version is already published
palomino3Windows Server 2022 Datacenter / x64  OK    OK    WARNINGS    OK  UNNEEDED, same version is already published
merida1macOS 10.14.6 Mojave / x86_64  OK    OK    WARNINGS    OK  UNNEEDED, same version is already published
Package 43/63HostnameOS / ArchINSTALLBUILDCHECKBUILD BIN
PureCN 2.2.0  (landing page)
Markus Riester
git_last_commit: 008f1dd
git_last_commit_date: 2022-04-26 11:31:56 -0400
nebbiolo1Linux (Ubuntu 20.04.4 LTS) / x86_64  OK    OK    OK  UNNEEDED, same version is already published
palomino3Windows Server 2022 Datacenter / x64  OK    OK    OK    OK  UNNEEDED, same version is already published
merida1macOS 10.14.6 Mojave / x86_64  OK    OK    OK    OK  UNNEEDED, same version is already published
Package 44/63HostnameOS / ArchINSTALLBUILDCHECKBUILD BIN
R453Plus1Toolbox 1.46.0  (landing page)
Hans-Ulrich Klein
git_last_commit: 6f7b330
git_last_commit_date: 2022-04-26 11:06:14 -0400
nebbiolo1Linux (Ubuntu 20.04.4 LTS) / x86_64  OK    OK    OK  UNNEEDED, same version is already published
palomino3Windows Server 2022 Datacenter / x64  OK    OK    OK    OK  UNNEEDED, same version is already published
merida1macOS 10.14.6 Mojave / x86_64  OK    OK    OK    OK  UNNEEDED, same version is already published
Package 45/63HostnameOS / ArchINSTALLBUILDCHECKBUILD BIN
RareVariantVis 2.24.0  (landing page)
Tomasz Stokowy
git_last_commit: 94a6f09
git_last_commit_date: 2022-04-26 11:25:47 -0400
nebbiolo1Linux (Ubuntu 20.04.4 LTS) / x86_64  OK    OK    OK  UNNEEDED, same version is already published
palomino3Windows Server 2022 Datacenter / x64  OK    OK    OK    OK  UNNEEDED, same version is already published
merida1macOS 10.14.6 Mojave / x86_64  OK    OK    OK    OK  UNNEEDED, same version is already published
Package 46/63HostnameOS / ArchINSTALLBUILDCHECKBUILD BIN
scoreInvHap 1.18.0  (landing page)
Dolors Pelegri-Siso
git_last_commit: 1725033
git_last_commit_date: 2022-04-26 11:41:36 -0400
nebbiolo1Linux (Ubuntu 20.04.4 LTS) / x86_64  OK    OK    OK  UNNEEDED, same version is already published
palomino3Windows Server 2022 Datacenter / x64  OK    OK    OK    OK  UNNEEDED, same version is already published
merida1macOS 10.14.6 Mojave / x86_64  OK    OK    OK    OK  UNNEEDED, same version is already published
Package 47/63HostnameOS / ArchINSTALLBUILDCHECKBUILD BIN
seqCAT 1.18.0  (landing page)
Erik Fasterius
git_last_commit: ed9e2ad
git_last_commit_date: 2022-04-26 11:43:28 -0400
nebbiolo1Linux (Ubuntu 20.04.4 LTS) / x86_64  OK    OK    OK  UNNEEDED, same version is already published
palomino3Windows Server 2022 Datacenter / x64  OK    OK    OK    OK  UNNEEDED, same version is already published
merida1macOS 10.14.6 Mojave / x86_64  OK    OK    OK    OK  UNNEEDED, same version is already published
Package 48/63HostnameOS / ArchINSTALLBUILDCHECKBUILD BIN
signeR 1.22.0  (landing page)
Renan Valieris
git_last_commit: 5b34ce0
git_last_commit_date: 2022-04-26 11:35:23 -0400
nebbiolo1Linux (Ubuntu 20.04.4 LTS) / x86_64  OK    OK    OK  UNNEEDED, same version is already published
palomino3Windows Server 2022 Datacenter / x64  OK    OK    OK    OK  UNNEEDED, same version is already published
merida1macOS 10.14.6 Mojave / x86_64  OK    OK    OK    OK  UNNEEDED, same version is already published
Package 49/63HostnameOS / ArchINSTALLBUILDCHECKBUILD BIN
SigsPack 1.10.0  (landing page)
Franziska Schumann
git_last_commit: 6e539d8
git_last_commit_date: 2022-04-26 11:58:20 -0400
nebbiolo1Linux (Ubuntu 20.04.4 LTS) / x86_64  OK    OK    OK  UNNEEDED, same version is already published
palomino3Windows Server 2022 Datacenter / x64  OK    OK    OK    OK  UNNEEDED, same version is already published
merida1macOS 10.14.6 Mojave / x86_64  OK    OK    OK    OK  UNNEEDED, same version is already published
Package 50/63HostnameOS / ArchINSTALLBUILDCHECKBUILD BIN
SNPhood 1.26.0  (landing page)
Christian Arnold
git_last_commit: 7c587a3
git_last_commit_date: 2022-04-26 11:27:57 -0400
nebbiolo1Linux (Ubuntu 20.04.4 LTS) / x86_64  OK    OK    OK  UNNEEDED, same version is already published
palomino3Windows Server 2022 Datacenter / x64  OK    OK    OK    OK  UNNEEDED, same version is already published
merida1macOS 10.14.6 Mojave / x86_64  OK    OK    OK    OK  UNNEEDED, same version is already published
Package 51/63HostnameOS / ArchINSTALLBUILDCHECKBUILD BIN
SomaticSignatures 2.32.0  (landing page)
Julian Gehring
git_last_commit: 444d376
git_last_commit_date: 2022-04-26 11:17:46 -0400
nebbiolo1Linux (Ubuntu 20.04.4 LTS) / x86_64  OK    OK    OK  UNNEEDED, same version is already published
palomino3Windows Server 2022 Datacenter / x64  OK    OK    OK    OK  UNNEEDED, same version is already published
merida1macOS 10.14.6 Mojave / x86_64  OK    OK    OK    OK  UNNEEDED, same version is already published
Package 52/63HostnameOS / ArchINSTALLBUILDCHECKBUILD BIN
StructuralVariantAnnotation 1.12.0  (landing page)
Daniel Cameron
git_last_commit: 3777c65
git_last_commit_date: 2022-04-26 11:56:16 -0400
nebbiolo1Linux (Ubuntu 20.04.4 LTS) / x86_64  OK    OK    OK  UNNEEDED, same version is already published
palomino3Windows Server 2022 Datacenter / x64  OK    OK    OK    OK  UNNEEDED, same version is already published
merida1macOS 10.14.6 Mojave / x86_64  OK    OK    OK    OK  UNNEEDED, same version is already published
Package 53/63HostnameOS / ArchINSTALLBUILDCHECKBUILD BIN
svaNUMT 1.2.0  (landing page)
Ruining Dong
git_last_commit: 19aac31
git_last_commit_date: 2022-04-26 12:16:59 -0400
nebbiolo1Linux (Ubuntu 20.04.4 LTS) / x86_64  OK    OK    OK  UNNEEDED, same version is already published
palomino3Windows Server 2022 Datacenter / x64  OK    OK    OK    OK  UNNEEDED, same version is already published
merida1macOS 10.14.6 Mojave / x86_64  OK    OK    OK    OK  UNNEEDED, same version is already published
Package 54/63HostnameOS / ArchINSTALLBUILDCHECKBUILD BIN
svaRetro 1.2.0  (landing page)
Ruining Dong
git_last_commit: 7ec810b
git_last_commit_date: 2022-04-26 12:17:57 -0400
nebbiolo1Linux (Ubuntu 20.04.4 LTS) / x86_64  OK    OK    OK  UNNEEDED, same version is already published
palomino3Windows Server 2022 Datacenter / x64  OK    OK    OK    OK  UNNEEDED, same version is already published
merida1macOS 10.14.6 Mojave / x86_64  OK    OK    OK    OK  UNNEEDED, same version is already published
Package 55/63HostnameOS / ArchINSTALLBUILDCHECKBUILD BIN
TitanCNA 1.34.0  (landing page)
Gavin Ha
git_last_commit: 6cb0738
git_last_commit_date: 2022-04-26 11:19:29 -0400
nebbiolo1Linux (Ubuntu 20.04.4 LTS) / x86_64  OK    OK    WARNINGS  UNNEEDED, same version is already published
palomino3Windows Server 2022 Datacenter / x64  OK    OK    WARNINGS    OK  UNNEEDED, same version is already published
merida1macOS 10.14.6 Mojave / x86_64  OK    OK    WARNINGS    OK  UNNEEDED, same version is already published
Package 56/63HostnameOS / ArchINSTALLBUILDCHECKBUILD BIN
tLOH 1.4.0  (landing page)
Michelle Webb
git_last_commit: 0d32a36
git_last_commit_date: 2022-04-26 12:15:15 -0400
nebbiolo1Linux (Ubuntu 20.04.4 LTS) / x86_64  OK    OK    OK  UNNEEDED, same version is already published
palomino3Windows Server 2022 Datacenter / x64  OK    OK    OK    OK  UNNEEDED, same version is already published
merida1macOS 10.14.6 Mojave / x86_64  OK    OK    OK    OK  UNNEEDED, same version is already published
Package 57/63HostnameOS / ArchINSTALLBUILDCHECKBUILD BIN
TVTB 1.22.0  (landing page)
Kevin Rue-Albrecht
git_last_commit: 19e4f04
git_last_commit_date: 2022-04-26 11:37:05 -0400
nebbiolo1Linux (Ubuntu 20.04.4 LTS) / x86_64  OK    OK    OK  UNNEEDED, same version is already published
palomino3Windows Server 2022 Datacenter / x64... NOT SUPPORTED ...
merida1macOS 10.14.6 Mojave / x86_64  OK    OK    OK    OK  UNNEEDED, same version is already published
Package 58/63HostnameOS / ArchINSTALLBUILDCHECKBUILD BIN
Uniquorn 2.16.0  (landing page)
'Raik Otto'
git_last_commit: c389295
git_last_commit_date: 2022-04-26 11:29:51 -0400
nebbiolo1Linux (Ubuntu 20.04.4 LTS) / x86_64  OK    OK    WARNINGS  UNNEEDED, same version is already published
palomino3Windows Server 2022 Datacenter / x64  OK    OK    WARNINGS    OK  UNNEEDED, same version is already published
merida1macOS 10.14.6 Mojave / x86_64  OK    OK    WARNINGS    OK  UNNEEDED, same version is already published
Package 59/63HostnameOS / ArchINSTALLBUILDCHECKBUILD BIN
VariantFiltering 1.32.0  (landing page)
Robert Castelo
git_last_commit: e5baf3d
git_last_commit_date: 2022-04-26 11:19:20 -0400
nebbiolo1Linux (Ubuntu 20.04.4 LTS) / x86_64  OK    OK    OK  UNNEEDED, same version is already published
palomino3Windows Server 2022 Datacenter / x64  OK    OK    OK    OK  UNNEEDED, same version is already published
merida1macOS 10.14.6 Mojave / x86_64  OK    OK    OK    OK  UNNEEDED, same version is already published
Package 60/63HostnameOS / ArchINSTALLBUILDCHECKBUILD BIN
VariantTools 1.38.0  (landing page)
Michael Lawrence
git_last_commit: 517f59a
git_last_commit_date: 2022-04-26 11:12:34 -0400
nebbiolo1Linux (Ubuntu 20.04.4 LTS) / x86_64  OK    OK    WARNINGS  UNNEEDED, same version is already published
palomino3Windows Server 2022 Datacenter / x64  OK    OK    WARNINGS    OK  UNNEEDED, same version is already published
merida1macOS 10.14.6 Mojave / x86_64  OK    OK    WARNINGS    OK  UNNEEDED, same version is already published
Package 61/63HostnameOS / ArchINSTALLBUILDCHECKBUILD BIN
VCFArray 1.12.0  (landing page)
Qian Liu
git_last_commit: 4468f9b
git_last_commit_date: 2022-04-26 11:52:31 -0400
nebbiolo1Linux (Ubuntu 20.04.4 LTS) / x86_64  OK    OK    OK  UNNEEDED, same version is already published
palomino3Windows Server 2022 Datacenter / x64  OK    OK    OK    OK  UNNEEDED, same version is already published
merida1macOS 10.14.6 Mojave / x86_64  OK    OK    OK    OK  UNNEEDED, same version is already published
Package 62/63HostnameOS / ArchINSTALLBUILDCHECKBUILD BIN
XCIR 1.10.0  (landing page)
Renan Sauteraud
git_last_commit: 6b1ca00
git_last_commit_date: 2022-04-26 11:56:30 -0400
nebbiolo1Linux (Ubuntu 20.04.4 LTS) / x86_64  OK    ERROR  skipped
palomino3Windows Server 2022 Datacenter / x64  OK    ERROR  skippedskipped
merida1macOS 10.14.6 Mojave / x86_64  OK    ERROR  skippedskipped
Package 63/63HostnameOS / ArchINSTALLBUILDCHECKBUILD BIN
YAPSA 1.22.0  (landing page)
Daniel Huebschmann
git_last_commit: 55c2886
git_last_commit_date: 2022-04-26 11:35:04 -0400
nebbiolo1Linux (Ubuntu 20.04.4 LTS) / x86_64  OK    OK    WARNINGS  UNNEEDED, same version is already published
palomino3Windows Server 2022 Datacenter / x64  OK    OK    WARNINGS    OK  UNNEEDED, same version is already published
merida1macOS 10.14.6 Mojave / x86_64  OK    OK    WARNINGS    OK  UNNEEDED, same version is already published