Back to Multiple platform build/check report for BioC 3.15
ABCDEFGHIJKLMNOPQ[R]STUVWXYZ

This page was generated on 2022-06-22 12:08:46 -0400 (Wed, 22 Jun 2022).

HostnameOSArch (*)R versionInstalled pkgs
nebbiolo1Linux (Ubuntu 20.04.4 LTS)x86_644.2.0 (2022-04-22) -- "Vigorous Calisthenics" 4380
palomino3Windows Server 2022 Datacenterx644.2.0 (2022-04-22 ucrt) -- "Vigorous Calisthenics" 4156
merida1macOS 10.14.6 Mojavex86_644.2.0 (2022-04-22) -- "Vigorous Calisthenics" 4221
Click on any hostname to see more info about the system (e.g. compilers)      (*) as reported by 'uname -p', except on Windows and Mac OS X

BUILD BIN results for recoup on merida1


To the developers/maintainers of the recoup package:
- Please allow up to 24 hours (and sometimes 48 hours) for your latest push to git@git.bioconductor.org:packages/recoup.git to
reflect on this report. See How and When does the builder pull? When will my changes propagate? for more information.
- Make sure to use the following settings in order to reproduce any error or warning you see on this page.

raw results

Package 1612/2140HostnameOS / ArchINSTALLBUILDCHECKBUILD BIN
recoup 1.24.0  (landing page)
Panagiotis Moulos
Snapshot Date: 2022-06-21 13:55:06 -0400 (Tue, 21 Jun 2022)
git_url: https://git.bioconductor.org/packages/recoup
git_branch: RELEASE_3_15
git_last_commit: 945741c
git_last_commit_date: 2022-04-26 11:30:44 -0400 (Tue, 26 Apr 2022)
nebbiolo1Linux (Ubuntu 20.04.4 LTS) / x86_64  OK    OK    OK  UNNEEDED, same version is already published
palomino3Windows Server 2022 Datacenter / x64  OK    OK    OK    OK  UNNEEDED, same version is already published
merida1macOS 10.14.6 Mojave / x86_64  OK    OK    OK    OK  UNNEEDED, same version is already published

Summary

Package: recoup
Version: 1.24.0
Command: rm -rf recoup.buildbin-libdir && mkdir recoup.buildbin-libdir && /Users/biocbuild/BBS/utils/build-universal.sh recoup_1.24.0.tar.gz /Library/Frameworks/R.framework/Resources/bin/R recoup.buildbin-libdir
StartedAt: 2022-06-22 11:09:09 -0400 (Wed, 22 Jun 2022)
EndedAt: 2022-06-22 11:10:38 -0400 (Wed, 22 Jun 2022)
EllapsedTime: 89.4 seconds
RetCode: 0
Status:   OK  
PackageFile: recoup_1.24.0.tgz
PackageFileSize: 2.678 MiB

Command output

##############################################################################
##############################################################################
###
### Running command:
###
###   rm -rf recoup.buildbin-libdir && mkdir recoup.buildbin-libdir && /Users/biocbuild/BBS/utils/build-universal.sh recoup_1.24.0.tar.gz /Library/Frameworks/R.framework/Resources/bin/R recoup.buildbin-libdir
###
##############################################################################
##############################################################################


>>>>>>> 
>>>>>>> INSTALLATION WITH 'R CMD INSTALL --preclean --no-multiarch --library=recoup.buildbin-libdir recoup_1.24.0.tar.gz'
>>>>>>> 

* installing *source* package ‘recoup’ ...
** using staged installation
** R
** data
*** moving datasets to lazyload DB
** inst
** byte-compile and prepare package for lazy loading
** help
*** installing help indices
** building package indices
** installing vignettes
** testing if installed package can be loaded from temporary location
** testing if installed package can be loaded from final location
** testing if installed package keeps a record of temporary installation path
* DONE (recoup)