Back to Multiple platform build/check report for BioC 3.15
ABCDEFG[H]IJKLMNOPQRSTUVWXYZ

This page was generated on 2022-05-27 12:08:10 -0400 (Fri, 27 May 2022).

HostnameOSArch (*)R versionInstalled pkgs
nebbiolo1Linux (Ubuntu 20.04.4 LTS)x86_644.2.0 (2022-04-22) -- "Vigorous Calisthenics" 4380
palomino3Windows Server 2022 Datacenterx644.2.0 (2022-04-22 ucrt) -- "Vigorous Calisthenics" 4156
merida1macOS 10.14.6 Mojavex86_644.2.0 (2022-04-22) -- "Vigorous Calisthenics" 4221
Click on any hostname to see more info about the system (e.g. compilers)      (*) as reported by 'uname -p', except on Windows and Mac OS X

CHECK results for HilbertCurve on merida1


To the developers/maintainers of the HilbertCurve package:
- Please allow up to 24 hours (and sometimes 48 hours) for your latest push to git@git.bioconductor.org:packages/HilbertCurve.git to
reflect on this report. See How and When does the builder pull? When will my changes propagate? for more information.
- Make sure to use the following settings in order to reproduce any error or warning you see on this page.

raw results

Package 896/2140HostnameOS / ArchINSTALLBUILDCHECKBUILD BIN
HilbertCurve 1.26.0  (landing page)
Zuguang Gu
Snapshot Date: 2022-05-26 13:55:15 -0400 (Thu, 26 May 2022)
git_url: https://git.bioconductor.org/packages/HilbertCurve
git_branch: RELEASE_3_15
git_last_commit: 0b7de6e
git_last_commit_date: 2022-04-26 11:26:28 -0400 (Tue, 26 Apr 2022)
nebbiolo1Linux (Ubuntu 20.04.4 LTS) / x86_64  OK    OK    OK  UNNEEDED, same version is already published
palomino3Windows Server 2022 Datacenter / x64  OK    OK    OK    OK  UNNEEDED, same version is already published
merida1macOS 10.14.6 Mojave / x86_64  OK    OK    OK    OK  UNNEEDED, same version is already published

Summary

Package: HilbertCurve
Version: 1.26.0
Command: /Library/Frameworks/R.framework/Resources/bin/R CMD check --install=check:HilbertCurve.install-out.txt --library=/Library/Frameworks/R.framework/Resources/library --no-vignettes --timings HilbertCurve_1.26.0.tar.gz
StartedAt: 2022-05-27 03:19:50 -0400 (Fri, 27 May 2022)
EndedAt: 2022-05-27 03:23:54 -0400 (Fri, 27 May 2022)
EllapsedTime: 243.8 seconds
RetCode: 0
Status:   OK  
CheckDir: HilbertCurve.Rcheck
Warnings: 0

Command output

##############################################################################
##############################################################################
###
### Running command:
###
###   /Library/Frameworks/R.framework/Resources/bin/R CMD check --install=check:HilbertCurve.install-out.txt --library=/Library/Frameworks/R.framework/Resources/library --no-vignettes --timings HilbertCurve_1.26.0.tar.gz
###
##############################################################################
##############################################################################


* using log directory ‘/Users/biocbuild/bbs-3.15-bioc/meat/HilbertCurve.Rcheck’
* using R version 4.2.0 (2022-04-22)
* using platform: x86_64-apple-darwin17.0 (64-bit)
* using session charset: UTF-8
* using option ‘--no-vignettes’
* checking for file ‘HilbertCurve/DESCRIPTION’ ... OK
* checking extension type ... Package
* this is package ‘HilbertCurve’ version ‘1.26.0’
* checking package namespace information ... OK
* checking package dependencies ... OK
* checking if this is a source package ... OK
* checking if there is a namespace ... OK
* checking for hidden files and directories ... OK
* checking for portable file names ... OK
* checking for sufficient/correct file permissions ... OK
* checking whether package ‘HilbertCurve’ can be installed ... OK
* checking installed package size ... OK
* checking package directory ... OK
* checking ‘build’ directory ... OK
* checking DESCRIPTION meta-information ... OK
* checking top-level files ... OK
* checking for left-over files ... OK
* checking index information ... OK
* checking package subdirectories ... OK
* checking R files for non-ASCII characters ... OK
* checking R files for syntax errors ... OK
* checking whether the package can be loaded ... OK
* checking whether the package can be loaded with stated dependencies ... OK
* checking whether the package can be unloaded cleanly ... OK
* checking whether the namespace can be loaded with stated dependencies ... OK
* checking whether the namespace can be unloaded cleanly ... OK
* checking dependencies in R code ... OK
* checking S3 generic/method consistency ... OK
* checking replacement functions ... OK
* checking foreign function calls ... OK
* checking R code for possible problems ... OK
* checking Rd files ... OK
* checking Rd metadata ... OK
* checking Rd cross-references ... OK
* checking for missing documentation entries ... OK
* checking for code/documentation mismatches ... OK
* checking Rd \usage sections ... OK
* checking Rd contents ... OK
* checking for unstated dependencies in examples ... OK
* checking installed files from ‘inst/doc’ ... OK
* checking files in ‘vignettes’ ... OK
* checking examples ... OK
Examples with CPU (user + system) or elapsed time > 5s
                                      user system elapsed
hc_layer-HilbertCurve-method        21.149  0.523  24.851
hc_layer-GenomicHilbertCurve-method 17.793  0.223  20.347
GenomicHilbertCurve                 15.195  0.161  18.120
hc_png-HilbertCurve-method           6.388  0.118   6.517
hc_map-GenomicHilbertCurve-method    6.205  0.076   6.292
* checking for unstated dependencies in ‘tests’ ... OK
* checking tests ...
  Running ‘test-all.R’
 OK
* checking for unstated dependencies in vignettes ... OK
* checking package vignettes in ‘inst/doc’ ... OK
* checking running R code from vignettes ... SKIPPED
* checking re-building of vignette outputs ... SKIPPED
* checking PDF version of manual ... OK
* DONE

Status: OK


Installation output

HilbertCurve.Rcheck/00install.out

##############################################################################
##############################################################################
###
### Running command:
###
###   /Library/Frameworks/R.framework/Resources/bin/R CMD INSTALL HilbertCurve
###
##############################################################################
##############################################################################


* installing to library ‘/Library/Frameworks/R.framework/Versions/4.2/Resources/library’
* installing *source* package ‘HilbertCurve’ ...
** using staged installation
** R
** inst
** byte-compile and prepare package for lazy loading
** help
*** installing help indices
** building package indices
** installing vignettes
** testing if installed package can be loaded from temporary location
** testing if installed package can be loaded from final location
** testing if installed package keeps a record of temporary installation path
* DONE (HilbertCurve)

Tests output

HilbertCurve.Rcheck/tests/test-all.Rout


R version 4.2.0 (2022-04-22) -- "Vigorous Calisthenics"
Copyright (C) 2022 The R Foundation for Statistical Computing
Platform: x86_64-apple-darwin17.0 (64-bit)

R is free software and comes with ABSOLUTELY NO WARRANTY.
You are welcome to redistribute it under certain conditions.
Type 'license()' or 'licence()' for distribution details.

R is a collaborative project with many contributors.
Type 'contributors()' for more information and
'citation()' on how to cite R or R packages in publications.

Type 'demo()' for some demos, 'help()' for on-line help, or
'help.start()' for an HTML browser interface to help.
Type 'q()' to quit R.

> library(testthat)
> suppressWarnings(suppressPackageStartupMessages(library(HilbertCurve)))
> 
> test_check("HilbertCurve")
[ FAIL 0 | WARN 0 | SKIP 0 | PASS 8 ]
> 
> proc.time()
   user  system elapsed 
  6.951   0.361   7.296 

Example timings

HilbertCurve.Rcheck/HilbertCurve-Ex.timings

nameusersystemelapsed
GenomicHilbertCurve-class0.0000.0000.001
GenomicHilbertCurve15.195 0.16118.120
HilbertCurve-class000
HilbertCurve0.9870.0311.683
default_overlay0.0010.0000.001
hc_centered_text-HilbertCurve-method0.2200.0010.346
hc_layer-GenomicHilbertCurve-method17.793 0.22320.347
hc_layer-HilbertCurve-method21.149 0.52324.851
hc_layer-dispatch000
hc_level-HilbertCurve-method0.0390.0020.040
hc_map-GenomicHilbertCurve-method6.2050.0766.292
hc_normal_points-HilbertCurve-method0.0000.0000.001
hc_offset-HilbertCurve-method0.0140.0030.016
hc_png-HilbertCurve-method6.3880.1186.517
hc_points-GenomicHilbertCurve-method0.6760.0110.689
hc_points-HilbertCurve-method1.0210.0201.043
hc_points-dispatch0.0000.0010.001
hc_polygon-GenomicHilbertCurve-method0.8240.0110.836
hc_polygon-HilbertCurve-method0.1800.0060.186
hc_polygon-dispatch000
hc_rect-GenomicHilbertCurve-method0.5600.0130.574
hc_rect-HilbertCurve-method0.1310.0070.138
hc_rect-dispatch000
hc_segmented_points-HilbertCurve-method0.0000.0000.001
hc_segments-GenomicHilbertCurve-method0.9800.0100.991
hc_segments-HilbertCurve-method0.1760.0060.183
hc_segments-dispatch0.0000.0000.001
hc_text-GenomicHilbertCurve-method0.4830.0170.501
hc_text-HilbertCurve-method0.1210.0050.126
hc_text-dispatch0.0000.0000.001
is_white000
show-HilbertCurve-method0.0120.0010.014
unzoom-HilbertCurve-method0.0110.0010.011
zoom-HilbertCurve-method0.0120.0010.013