Back to Multiple platform build/check report for BioC 3.15
ABCDEFGHIJKLMNOPQR[S]TUVWXYZ

This page was generated on 2022-06-22 12:08:52 -0400 (Wed, 22 Jun 2022).

HostnameOSArch (*)R versionInstalled pkgs
nebbiolo1Linux (Ubuntu 20.04.4 LTS)x86_644.2.0 (2022-04-22) -- "Vigorous Calisthenics" 4380
palomino3Windows Server 2022 Datacenterx644.2.0 (2022-04-22 ucrt) -- "Vigorous Calisthenics" 4156
merida1macOS 10.14.6 Mojavex86_644.2.0 (2022-04-22) -- "Vigorous Calisthenics" 4221
Click on any hostname to see more info about the system (e.g. compilers)      (*) as reported by 'uname -p', except on Windows and Mac OS X

BUILD BIN results for SCATE on merida1


To the developers/maintainers of the SCATE package:
- Please allow up to 24 hours (and sometimes 48 hours) for your latest push to git@git.bioconductor.org:packages/SCATE.git to
reflect on this report. See How and When does the builder pull? When will my changes propagate? for more information.
- Make sure to use the following settings in order to reproduce any error or warning you see on this page.

raw results

Package 1756/2140HostnameOS / ArchINSTALLBUILDCHECKBUILD BIN
SCATE 1.6.0  (landing page)
Wenpin Hou
Snapshot Date: 2022-06-21 13:55:06 -0400 (Tue, 21 Jun 2022)
git_url: https://git.bioconductor.org/packages/SCATE
git_branch: RELEASE_3_15
git_last_commit: 49cdb67
git_last_commit_date: 2022-04-26 12:07:48 -0400 (Tue, 26 Apr 2022)
nebbiolo1Linux (Ubuntu 20.04.4 LTS) / x86_64  OK    OK    OK  UNNEEDED, same version is already published
palomino3Windows Server 2022 Datacenter / x64  OK    OK    OK    OK  UNNEEDED, same version is already published
merida1macOS 10.14.6 Mojave / x86_64  OK    OK    OK    OK  UNNEEDED, same version is already published

Summary

Package: SCATE
Version: 1.6.0
Command: rm -rf SCATE.buildbin-libdir && mkdir SCATE.buildbin-libdir && /Users/biocbuild/BBS/utils/build-universal.sh SCATE_1.6.0.tar.gz /Library/Frameworks/R.framework/Resources/bin/R SCATE.buildbin-libdir
StartedAt: 2022-06-22 11:16:47 -0400 (Wed, 22 Jun 2022)
EndedAt: 2022-06-22 11:18:11 -0400 (Wed, 22 Jun 2022)
EllapsedTime: 83.5 seconds
RetCode: 0
Status:   OK  
PackageFile: SCATE_1.6.0.tgz
PackageFileSize: 317.7 KiB

Command output

##############################################################################
##############################################################################
###
### Running command:
###
###   rm -rf SCATE.buildbin-libdir && mkdir SCATE.buildbin-libdir && /Users/biocbuild/BBS/utils/build-universal.sh SCATE_1.6.0.tar.gz /Library/Frameworks/R.framework/Resources/bin/R SCATE.buildbin-libdir
###
##############################################################################
##############################################################################


>>>>>>> 
>>>>>>> INSTALLATION WITH 'R CMD INSTALL --preclean --no-multiarch --library=SCATE.buildbin-libdir SCATE_1.6.0.tar.gz'
>>>>>>> 

* installing *source* package ‘SCATE’ ...
** using staged installation
** R
** inst
** byte-compile and prepare package for lazy loading
snapshotDate(): 2022-04-26
** help
*** installing help indices
** building package indices
** installing vignettes
** testing if installed package can be loaded from temporary location
snapshotDate(): 2022-04-26
** testing if installed package can be loaded from final location
snapshotDate(): 2022-04-26
** testing if installed package keeps a record of temporary installation path
* DONE (SCATE)