Back to Multiple platform build/check report for BioC 3.15
ABCDEFGHIJKLM[N]OPQRSTUVWXYZ

This page was generated on 2022-08-15 13:20:34 -0400 (Mon, 15 Aug 2022).

HostnameOSArch (*)R versionInstalled pkgs
nebbiolo1Linux (Ubuntu 20.04.4 LTS)x86_644.2.1 (2022-06-23) -- "Funny-Looking Kid" 4365
palomino3Windows Server 2022 Datacenterx644.2.1 (2022-06-23 ucrt) -- "Funny-Looking Kid" 4118
merida1macOS 10.14.6 Mojavex86_644.2.1 (2022-06-23) -- "Funny-Looking Kid" 4183
Click on any hostname to see more info about the system (e.g. compilers)      (*) as reported by 'uname -p', except on Windows and Mac OS X

CHECK results for NxtIRFcore on nebbiolo1


To the developers/maintainers of the NxtIRFcore package:
- Please allow up to 24 hours (and sometimes 48 hours) for your latest push to git@git.bioconductor.org:packages/NxtIRFcore.git to
reflect on this report. See How and When does the builder pull? When will my changes propagate? for more information.
- Make sure to use the following settings in order to reproduce any error or warning you see on this page.

raw results

Package 1346/2140HostnameOS / ArchINSTALLBUILDCHECKBUILD BIN
NxtIRFcore 1.2.1  (landing page)
Alex Chit Hei Wong
Snapshot Date: 2022-08-14 13:55:13 -0400 (Sun, 14 Aug 2022)
git_url: https://git.bioconductor.org/packages/NxtIRFcore
git_branch: RELEASE_3_15
git_last_commit: b13e810
git_last_commit_date: 2022-06-22 07:29:58 -0400 (Wed, 22 Jun 2022)
nebbiolo1Linux (Ubuntu 20.04.4 LTS) / x86_64  OK    OK    OK  UNNEEDED, same version is already published
palomino3Windows Server 2022 Datacenter / x64  OK    OK    OK    OK  UNNEEDED, same version is already published
merida1macOS 10.14.6 Mojave / x86_64  OK    OK    OK    OK  UNNEEDED, same version is already published

Summary

Package: NxtIRFcore
Version: 1.2.1
Command: /home/biocbuild/bbs-3.15-bioc/R/bin/R CMD check --install=check:NxtIRFcore.install-out.txt --library=/home/biocbuild/bbs-3.15-bioc/R/library --no-vignettes --timings NxtIRFcore_1.2.1.tar.gz
StartedAt: 2022-08-14 21:03:36 -0400 (Sun, 14 Aug 2022)
EndedAt: 2022-08-14 21:09:54 -0400 (Sun, 14 Aug 2022)
EllapsedTime: 377.8 seconds
RetCode: 0
Status:   OK  
CheckDir: NxtIRFcore.Rcheck
Warnings: 0

Command output

##############################################################################
##############################################################################
###
### Running command:
###
###   /home/biocbuild/bbs-3.15-bioc/R/bin/R CMD check --install=check:NxtIRFcore.install-out.txt --library=/home/biocbuild/bbs-3.15-bioc/R/library --no-vignettes --timings NxtIRFcore_1.2.1.tar.gz
###
##############################################################################
##############################################################################


* using log directory ‘/home/biocbuild/bbs-3.15-bioc/meat/NxtIRFcore.Rcheck’
* using R version 4.2.1 (2022-06-23)
* using platform: x86_64-pc-linux-gnu (64-bit)
* using session charset: UTF-8
* using option ‘--no-vignettes’
* checking for file ‘NxtIRFcore/DESCRIPTION’ ... OK
* this is package ‘NxtIRFcore’ version ‘1.2.1’
* package encoding: UTF-8
* checking package namespace information ... OK
* checking package dependencies ... OK
* checking if this is a source package ... OK
* checking if there is a namespace ... OK
* checking for hidden files and directories ... OK
* checking for portable file names ... OK
* checking for sufficient/correct file permissions ... OK
* checking whether package ‘NxtIRFcore’ can be installed ... OK
* checking installed package size ... NOTE
  installed size is  6.9Mb
  sub-directories of 1Mb or more:
    R      1.5Mb
    libs   4.5Mb
* checking package directory ... OK
* checking ‘build’ directory ... OK
* checking DESCRIPTION meta-information ... OK
* checking top-level files ... OK
* checking for left-over files ... OK
* checking index information ... OK
* checking package subdirectories ... OK
* checking R files for non-ASCII characters ... OK
* checking R files for syntax errors ... OK
* checking whether the package can be loaded ... OK
* checking whether the package can be loaded with stated dependencies ... OK
* checking whether the package can be unloaded cleanly ... OK
* checking whether the namespace can be loaded with stated dependencies ... OK
* checking whether the namespace can be unloaded cleanly ... OK
* checking dependencies in R code ... OK
* checking S3 generic/method consistency ... OK
* checking replacement functions ... OK
* checking foreign function calls ... OK
* checking R code for possible problems ... OK
* checking Rd files ... OK
* checking Rd metadata ... OK
* checking Rd cross-references ... OK
* checking for missing documentation entries ... OK
* checking for code/documentation mismatches ... OK
* checking Rd \usage sections ... OK
* checking Rd contents ... OK
* checking for unstated dependencies in examples ... OK
* checking line endings in shell scripts ... OK
* checking line endings in C/C++/Fortran sources/headers ... OK
* checking line endings in Makefiles ... OK
* checking compilation flags in Makevars ... OK
* checking for GNU extensions in Makefiles ... OK
* checking for portable use of $(BLAS_LIBS) and $(LAPACK_LIBS) ... OK
* checking use of PKG_*FLAGS in Makefiles ... OK
* checking compiled code ... NOTE
Note: information on .o files is not available
* checking files in ‘vignettes’ ... OK
* checking examples ... OK
Examples with CPU (user + system) or elapsed time > 5s
                 user system elapsed
BuildReference 18.294  0.399  18.661
CollateData    13.933  0.410  14.388
* checking for unstated dependencies in ‘tests’ ... OK
* checking tests ...
  Running ‘testthat.R’
 OK
* checking for unstated dependencies in vignettes ... OK
* checking package vignettes in ‘inst/doc’ ... OK
* checking running R code from vignettes ... SKIPPED
* checking re-building of vignette outputs ... SKIPPED
* checking PDF version of manual ... OK
* DONE

Status: 2 NOTEs
See
  ‘/home/biocbuild/bbs-3.15-bioc/meat/NxtIRFcore.Rcheck/00check.log’
for details.



Installation output

NxtIRFcore.Rcheck/00install.out

##############################################################################
##############################################################################
###
### Running command:
###
###   /home/biocbuild/bbs-3.15-bioc/R/bin/R CMD INSTALL NxtIRFcore
###
##############################################################################
##############################################################################


* installing to library ‘/home/biocbuild/bbs-3.15-bioc/R/library’
* installing *source* package ‘NxtIRFcore’ ...
** using staged installation
** libs
g++ -std=gnu++11 -I"/home/biocbuild/bbs-3.15-bioc/R/include" -DNDEBUG  -I'/home/biocbuild/bbs-3.15-bioc/R/library/Rcpp/include' -I'/home/biocbuild/bbs-3.15-bioc/R/library/zlibbioc/include' -I'/home/biocbuild/bbs-3.15-bioc/R/library/RcppProgress/include' -I/usr/local/include  -fopenmp -DRNXTIRF -fpic  -g -O2  -Wall -c BAM2blocks.cpp -o BAM2blocks.o
g++ -std=gnu++11 -I"/home/biocbuild/bbs-3.15-bioc/R/include" -DNDEBUG  -I'/home/biocbuild/bbs-3.15-bioc/R/library/Rcpp/include' -I'/home/biocbuild/bbs-3.15-bioc/R/library/zlibbioc/include' -I'/home/biocbuild/bbs-3.15-bioc/R/library/RcppProgress/include' -I/usr/local/include  -fopenmp -DRNXTIRF -fpic  -g -O2  -Wall -c FastaReader.cpp -o FastaReader.o
g++ -std=gnu++11 -I"/home/biocbuild/bbs-3.15-bioc/R/include" -DNDEBUG  -I'/home/biocbuild/bbs-3.15-bioc/R/library/Rcpp/include' -I'/home/biocbuild/bbs-3.15-bioc/R/library/zlibbioc/include' -I'/home/biocbuild/bbs-3.15-bioc/R/library/RcppProgress/include' -I/usr/local/include  -fopenmp -DRNXTIRF -fpic  -g -O2  -Wall -c FragmentBlocks.cpp -o FragmentBlocks.o
g++ -std=gnu++11 -I"/home/biocbuild/bbs-3.15-bioc/R/include" -DNDEBUG  -I'/home/biocbuild/bbs-3.15-bioc/R/library/Rcpp/include' -I'/home/biocbuild/bbs-3.15-bioc/R/library/zlibbioc/include' -I'/home/biocbuild/bbs-3.15-bioc/R/library/RcppProgress/include' -I/usr/local/include  -fopenmp -DRNXTIRF -fpic  -g -O2  -Wall -c GZTools.cpp -o GZTools.o
g++ -std=gnu++11 -I"/home/biocbuild/bbs-3.15-bioc/R/include" -DNDEBUG  -I'/home/biocbuild/bbs-3.15-bioc/R/library/Rcpp/include' -I'/home/biocbuild/bbs-3.15-bioc/R/library/zlibbioc/include' -I'/home/biocbuild/bbs-3.15-bioc/R/library/RcppProgress/include' -I/usr/local/include  -fopenmp -DRNXTIRF -fpic  -g -O2  -Wall -c IRFinder.cpp -o IRFinder.o
g++ -std=gnu++11 -I"/home/biocbuild/bbs-3.15-bioc/R/include" -DNDEBUG  -I'/home/biocbuild/bbs-3.15-bioc/R/library/Rcpp/include' -I'/home/biocbuild/bbs-3.15-bioc/R/library/zlibbioc/include' -I'/home/biocbuild/bbs-3.15-bioc/R/library/RcppProgress/include' -I/usr/local/include  -fopenmp -DRNXTIRF -fpic  -g -O2  -Wall -c RcppExports.cpp -o RcppExports.o
g++ -std=gnu++11 -I"/home/biocbuild/bbs-3.15-bioc/R/include" -DNDEBUG  -I'/home/biocbuild/bbs-3.15-bioc/R/library/Rcpp/include' -I'/home/biocbuild/bbs-3.15-bioc/R/library/zlibbioc/include' -I'/home/biocbuild/bbs-3.15-bioc/R/library/RcppProgress/include' -I/usr/local/include  -fopenmp -DRNXTIRF -fpic  -g -O2  -Wall -c ReadBlockProcessor.cpp -o ReadBlockProcessor.o
g++ -std=gnu++11 -I"/home/biocbuild/bbs-3.15-bioc/R/include" -DNDEBUG  -I'/home/biocbuild/bbs-3.15-bioc/R/library/Rcpp/include' -I'/home/biocbuild/bbs-3.15-bioc/R/library/zlibbioc/include' -I'/home/biocbuild/bbs-3.15-bioc/R/library/RcppProgress/include' -I/usr/local/include  -fopenmp -DRNXTIRF -fpic  -g -O2  -Wall -c ReadBlockProcessor_CoverageBlocks.cpp -o ReadBlockProcessor_CoverageBlocks.o
g++ -std=gnu++11 -I"/home/biocbuild/bbs-3.15-bioc/R/include" -DNDEBUG  -I'/home/biocbuild/bbs-3.15-bioc/R/library/Rcpp/include' -I'/home/biocbuild/bbs-3.15-bioc/R/library/zlibbioc/include' -I'/home/biocbuild/bbs-3.15-bioc/R/library/RcppProgress/include' -I/usr/local/include  -fopenmp -DRNXTIRF -fpic  -g -O2  -Wall -c covTools.cpp -o covTools.o
g++ -std=gnu++11 -shared -L/home/biocbuild/bbs-3.15-bioc/R/lib -L/usr/local/lib -o NxtIRFcore.so BAM2blocks.o FastaReader.o FragmentBlocks.o GZTools.o IRFinder.o RcppExports.o ReadBlockProcessor.o ReadBlockProcessor_CoverageBlocks.o covTools.o -fopenmp -DRNXTIRF -L/home/biocbuild/bbs-3.15-bioc/R/lib -lR
installing to /home/biocbuild/bbs-3.15-bioc/R/library/00LOCK-NxtIRFcore/00new/NxtIRFcore/libs
** R
** inst
** byte-compile and prepare package for lazy loading
** help
*** installing help indices
** building package indices
** installing vignettes
** testing if installed package can be loaded from temporary location
** checking absolute paths in shared objects and dynamic libraries
** testing if installed package can be loaded from final location
** testing if installed package keeps a record of temporary installation path
* DONE (NxtIRFcore)

Tests output

NxtIRFcore.Rcheck/tests/testthat.Rout


R version 4.2.1 (2022-06-23) -- "Funny-Looking Kid"
Copyright (C) 2022 The R Foundation for Statistical Computing
Platform: x86_64-pc-linux-gnu (64-bit)

R is free software and comes with ABSOLUTELY NO WARRANTY.
You are welcome to redistribute it under certain conditions.
Type 'license()' or 'licence()' for distribution details.

R is a collaborative project with many contributors.
Type 'contributors()' for more information and
'citation()' on how to cite R or R packages in publications.

Type 'demo()' for some demos, 'help()' for on-line help, or
'help.start()' for an HTML browser interface to help.
Type 'q()' to quit R.

> library(testthat)
> library(NxtIRFcore)
Loading required package: NxtIRFdata
> 
> test_check("NxtIRFcore")
Aug 14 21:09:13 Reference generated without non-polyA reference
Aug 14 21:09:13 Reference generated without Mappability reference
Aug 14 21:09:13 Reference generated without Blacklist exclusion
Aug 14 21:09:13 Converting FASTA to local TwoBitFile...done
Aug 14 21:09:15 Connecting to genome TwoBitFile...done
Aug 14 21:09:15 Making local copy of GTF file...done
Aug 14 21:09:15 Reading source GTF file...done
Aug 14 21:09:15 Processing gtf file...
...genes
...transcripts
...CDS
...exons
done
Aug 14 21:09:18 Processing introns...
...data
...basic annotations
...splice motifs
...other info
...defining flanking exon islands
done
Aug 14 21:09:22 Generating IRFinder reference
...prepping data
...determining measurable introns (directional)
...determining measurable introns (non-directional)
...writing ref-cover.bed
...writing ref-ROI.bed
...writing ref-read-continues.ref
...writing ref-sj.ref
IRFinder reference generation completed
Aug 14 21:09:29 Predicting NMD transcripts from genome sequence
...exonic transcripts
...retained introns

  |                                                                            
  |                                                                      |   0%
  |                                                                            
  |======================================================================| 100%
done
Aug 14 21:09:31 Annotating Splice Events
Annotating Mutually-Exclusive-Exon Splice Events...done
Annotating Skipped-Exon Splice Events...done
Annotating Alternate 5' / 3' Splice Site Splice Events...done
Annotating Alternate First / Last Exon Splice Events...done
Annotating known retained introns...done
Aug 14 21:09:33 Splice Annotations Filtered
Aug 14 21:09:33 Translating Alternate Splice Peptides...done
Aug 14 21:09:34 Splice Annotations finished

Reference build finished
Aug 14 21:09:34 Running IRFinder
Reading reference file
Running IRFinder with OpenMP using 1 threads
/tmp/RtmpGO9zw9/02H003.bam processed
/tmp/RtmpGO9zw9/02H025.bam processed
/tmp/RtmpGO9zw9/02H026.bam processed
/tmp/RtmpGO9zw9/02H033.bam processed
/tmp/RtmpGO9zw9/02H043.bam processed
/tmp/RtmpGO9zw9/02H046.bam processed
Aug 14 21:09:37 Validating Experiment; checking COV files...
Aug 14 21:09:37 Using MulticoreParam 1 threads
Aug 14 21:09:37 Compiling Sample Stats
Aug 14 21:09:37 Compiling Junction List...merging...done
Aug 14 21:09:38 Compiling Intron Retention List...done
Aug 14 21:09:40 Tidying up splice junctions and intron retentions...
...annotating splice junctions
...grouping splice junctions
...grouping introns
...loading splice events
...saving annotations
...compiling rowEvents
done

Aug 14 21:09:42 Generating NxtIRF assays
Aug 14 21:09:42 Using MulticoreParam 1 threads

  |                                                                            
  |                                                                      |   0%
  |                                                                            
  |============                                                          |  17%
  |                                                                            
  |=======================                                               |  33%
  |                                                                            
  |===================================                                   |  50%
  |                                                                            
  |===============================================                       |  67%
  |                                                                            
  |==========================================================            |  83%
  |                                                                            
  |======================================================================| 100%

Building Final SummarizedExperiment Object

  |                                                                            
  |                                                                      |   0%
  |                                                                            
  |============                                                          |  17%
  |                                                                            
  |=======================                                               |  33%
  |                                                                            
  |===================================                                   |  50%
  |                                                                            
  |===============================================                       |  67%
  |                                                                            
  |==========================================================            |  83%
  |                                                                            
  |======================================================================| 100%
NxtIRF Collation Finished
Aug 14 21:09:47 Loading NxtSE object from file...done

Aug 14 21:09:47 Removing overlapping introns...
Aug 14 21:09:47 Iterating through IR events to determine introns of main isoforms
Aug 14 21:09:47 Iteration 1
Aug 14 21:09:47 Iteration 2
Aug 14 21:09:48 Running IRFinder
Reading reference file
Running IRFinder with OpenMP using 1 threads
Processing BAM file /tmp/RtmpGO9zw9/02H003.bam
0%   10   20   30   40   50   60   70   80   90   100%
[----|----|----|----|----|----|----|----|----|----|
**************************************************|
Performing final sort of fragment maps
Writing COV file
**************************************************|
0%   10   20   30   40   50   60   70   80   90   100%
[----|----|----|----|----|----|----|----|----|----|
**************************************************|
Writing output file
/tmp/RtmpGO9zw9/02H003.bam processed
Aug 14 21:09:49 Running IRFinder
Reading reference file
Running IRFinder with OpenMP using 2 threads
Processing BAM file /tmp/RtmpGO9zw9/02H003.bam
0%   10   20   30   40   50   60   70   80   90   100%
[----|----|----|----|----|----|----|----|----|----|
**************************************************|
Compiling data from threads
Performing final sort of fragment maps
Writing COV file
**************************************************|
0%   10   20   30   40   50   60   70   80   90   100%
[----|----|----|----|----|----|----|----|----|----|
**************************************************|
Writing output file
/tmp/RtmpGO9zw9/02H003.bam processed
[ FAIL 0 | WARN 0 | SKIP 0 | PASS 18 ]
> 
> # bump to trigger r cmd check
> 
> proc.time()
   user  system elapsed 
 52.624   2.699  55.108 

Example timings

NxtIRFcore.Rcheck/NxtIRFcore-Ex.timings

nameusersystemelapsed
ASE-methods0.6110.0520.664
BuildReference18.294 0.39918.661
CollateData13.933 0.41014.388
CoordToGR0.0170.0010.017
Coverage0.9210.0360.943
Find_Samples0.0060.0000.006
IRFinder2.3820.1452.542
IsCOV0.0020.0040.008
MakeSE1.3440.0181.381
Mappability-methods0.0490.0040.053
NxtFilter-class0.0710.0010.071
NxtSE-class2.5770.0712.666
Plot_Coverage4.1360.0524.057
Run_NxtIRF_Filters0.5210.0000.521
STAR-methods0.0050.0000.005
example-NxtIRF-data0.0080.0000.008
make_plot_data0.0350.0000.036
theme_white0.1320.0000.132