Back to Multiple platform build/check report for BioC 3.15
ABCD[E]FGHIJKLMNOPQRSTUVWXYZ

This page was generated on 2022-04-11 11:07:38 -0400 (Mon, 11 Apr 2022).

HostnameOSArch (*)R versionInstalled pkgs
nebbiolo1Linux (Ubuntu 20.04.4 LTS)x86_64R Under development (unstable) (2022-03-17 r81925) -- "Unsuffered Consequences" 4379
palomino3Windows Server 2022 Datacenterx64R Under development (unstable) (2022-03-17 r81925 ucrt) -- "Unsuffered Consequences" 4126
merida1macOS 10.14.6 Mojavex86_64R Under development (unstable) (2022-03-17 r81925) -- "Unsuffered Consequences" 4190
Click on any hostname to see more info about the system (e.g. compilers)      (*) as reported by 'uname -p', except on Windows and Mac OS X

BUILD BIN results for ensemblVEP on merida1


To the developers/maintainers of the ensemblVEP package:
- Please allow up to 24 hours (and sometimes 48 hours) for your latest push to git@git.bioconductor.org:packages/ensemblVEP.git to
reflect on this report. See How and When does the builder pull? When will my changes propagate? for more information.
- Make sure to use the following settings in order to reproduce any error or warning you see on this page.

raw results

Package 597/2113HostnameOS / ArchINSTALLBUILDCHECKBUILD BIN
ensemblVEP 1.37.1  (landing page)
Bioconductor Package Maintainer
Snapshot Date: 2022-04-10 13:55:10 -0400 (Sun, 10 Apr 2022)
git_url: https://git.bioconductor.org/packages/ensemblVEP
git_branch: master
git_last_commit: 51c5203
git_last_commit_date: 2022-03-29 15:09:36 -0400 (Tue, 29 Mar 2022)
nebbiolo1Linux (Ubuntu 20.04.4 LTS) / x86_64  OK    OK    OK  UNNEEDED, same version is already published
palomino3Windows Server 2022 Datacenter / x64... NOT SUPPORTED ...
merida1macOS 10.14.6 Mojave / x86_64  OK    OK    OK    OK  UNNEEDED, same version is already published

Summary

Package: ensemblVEP
Version: 1.37.1
Command: rm -rf ensemblVEP.buildbin-libdir && mkdir ensemblVEP.buildbin-libdir && /Users/biocbuild/BBS/utils/build-universal.sh ensemblVEP_1.37.1.tar.gz /Library/Frameworks/R.framework/Resources/bin/R ensemblVEP.buildbin-libdir
StartedAt: 2022-04-11 09:39:57 -0400 (Mon, 11 Apr 2022)
EndedAt: 2022-04-11 09:41:24 -0400 (Mon, 11 Apr 2022)
EllapsedTime: 87.2 seconds
RetCode: 0
Status:   OK  
PackageFile: ensemblVEP_1.37.1.tgz
PackageFileSize: 615.7 KiB

Command output

##############################################################################
##############################################################################
###
### Running command:
###
###   rm -rf ensemblVEP.buildbin-libdir && mkdir ensemblVEP.buildbin-libdir && /Users/biocbuild/BBS/utils/build-universal.sh ensemblVEP_1.37.1.tar.gz /Library/Frameworks/R.framework/Resources/bin/R ensemblVEP.buildbin-libdir
###
##############################################################################
##############################################################################


>>>>>>> 
>>>>>>> INSTALLATION WITH 'R CMD INSTALL --preclean --no-multiarch --library=ensemblVEP.buildbin-libdir ensemblVEP_1.37.1.tar.gz'
>>>>>>> 

* installing *source* package ‘ensemblVEP’ ...
** using staged installation
** R
** inst
** byte-compile and prepare package for lazy loading
** help
*** installing help indices
** building package indices
** installing vignettes
** testing if installed package can be loaded from temporary location
** testing if installed package can be loaded from final location
** testing if installed package keeps a record of temporary installation path
* DONE (ensemblVEP)