Back to Multiple platform build/check report for BioC 3.15
AB[C]DEFGHIJKLMNOPQRSTUVWXYZ

This page was generated on 2022-05-27 12:06:19 -0400 (Fri, 27 May 2022).

HostnameOSArch (*)R versionInstalled pkgs
nebbiolo1Linux (Ubuntu 20.04.4 LTS)x86_644.2.0 (2022-04-22) -- "Vigorous Calisthenics" 4380
palomino3Windows Server 2022 Datacenterx644.2.0 (2022-04-22 ucrt) -- "Vigorous Calisthenics" 4156
merida1macOS 10.14.6 Mojavex86_644.2.0 (2022-04-22) -- "Vigorous Calisthenics" 4221
Click on any hostname to see more info about the system (e.g. compilers)      (*) as reported by 'uname -p', except on Windows and Mac OS X

CHECK results for chromVAR on palomino3


To the developers/maintainers of the chromVAR package:
- Please allow up to 24 hours (and sometimes 48 hours) for your latest push to git@git.bioconductor.org:packages/chromVAR.git to
reflect on this report. See How and When does the builder pull? When will my changes propagate? for more information.
- Make sure to use the following settings in order to reproduce any error or warning you see on this page.

raw results

Package 324/2140HostnameOS / ArchINSTALLBUILDCHECKBUILD BIN
chromVAR 1.18.0  (landing page)
Alicia Schep
Snapshot Date: 2022-05-26 13:55:15 -0400 (Thu, 26 May 2022)
git_url: https://git.bioconductor.org/packages/chromVAR
git_branch: RELEASE_3_15
git_last_commit: 42d22d3
git_last_commit_date: 2022-04-26 11:43:56 -0400 (Tue, 26 Apr 2022)
nebbiolo1Linux (Ubuntu 20.04.4 LTS) / x86_64  OK    OK    OK  UNNEEDED, same version is already published
palomino3Windows Server 2022 Datacenter / x64  OK    OK    OK    OK  UNNEEDED, same version is already published
merida1macOS 10.14.6 Mojave / x86_64  OK    OK    OK    OK  UNNEEDED, same version is already published

Summary

Package: chromVAR
Version: 1.18.0
Command: F:\biocbuild\bbs-3.15-bioc\R\bin\R.exe CMD check --no-multiarch --install=check:chromVAR.install-out.txt --library=F:\biocbuild\bbs-3.15-bioc\R\library --no-vignettes --timings chromVAR_1.18.0.tar.gz
StartedAt: 2022-05-26 22:36:27 -0400 (Thu, 26 May 2022)
EndedAt: 2022-05-26 22:43:37 -0400 (Thu, 26 May 2022)
EllapsedTime: 430.4 seconds
RetCode: 0
Status:   OK  
CheckDir: chromVAR.Rcheck
Warnings: 0

Command output

##############################################################################
##############################################################################
###
### Running command:
###
###   F:\biocbuild\bbs-3.15-bioc\R\bin\R.exe CMD check --no-multiarch --install=check:chromVAR.install-out.txt --library=F:\biocbuild\bbs-3.15-bioc\R\library --no-vignettes --timings chromVAR_1.18.0.tar.gz
###
##############################################################################
##############################################################################


* using log directory 'F:/biocbuild/bbs-3.15-bioc/meat/chromVAR.Rcheck'
* using R version 4.2.0 (2022-04-22 ucrt)
* using platform: x86_64-w64-mingw32 (64-bit)
* using session charset: UTF-8
* using option '--no-vignettes'
* checking for file 'chromVAR/DESCRIPTION' ... OK
* checking extension type ... Package
* this is package 'chromVAR' version '1.18.0'
* checking package namespace information ... OK
* checking package dependencies ... OK
* checking if this is a source package ... OK
* checking if there is a namespace ... OK
* checking for hidden files and directories ... OK
* checking for portable file names ... OK
* checking whether package 'chromVAR' can be installed ... OK
* checking installed package size ... OK
* checking package directory ... OK
* checking 'build' directory ... OK
* checking DESCRIPTION meta-information ... OK
* checking top-level files ... OK
* checking for left-over files ... OK
* checking index information ... OK
* checking package subdirectories ... OK
* checking R files for non-ASCII characters ... OK
* checking R files for syntax errors ... OK
* checking whether the package can be loaded ... OK
* checking whether the package can be loaded with stated dependencies ... OK
* checking whether the package can be unloaded cleanly ... OK
* checking whether the namespace can be loaded with stated dependencies ... OK
* checking whether the namespace can be unloaded cleanly ... OK
* checking dependencies in R code ... OK
* checking S3 generic/method consistency ... OK
* checking replacement functions ... OK
* checking foreign function calls ... OK
* checking R code for possible problems ... NOTE
left_right_to_grglist: no visible global function definition for
  'GenomicRangesList'
Undefined global functions or variables:
  GenomicRangesList
* checking Rd files ... OK
* checking Rd metadata ... OK
* checking Rd cross-references ... OK
* checking for missing documentation entries ... OK
* checking for code/documentation mismatches ... OK
* checking Rd \usage sections ... OK
* checking Rd contents ... OK
* checking for unstated dependencies in examples ... OK
* checking contents of 'data' directory ... OK
* checking data for non-ASCII characters ... OK
* checking LazyData ... OK
* checking data for ASCII and uncompressed saves ... OK
* checking line endings in C/C++/Fortran sources/headers ... OK
* checking line endings in Makefiles ... OK
* checking compilation flags in Makevars ... OK
* checking for GNU extensions in Makefiles ... OK
* checking for portable use of $(BLAS_LIBS) and $(LAPACK_LIBS) ... OK
* checking use of PKG_*FLAGS in Makefiles ... OK
* checking compiled code ... NOTE
Note: information on .o files for x64 is not available
File 'F:/biocbuild/bbs-3.15-bioc/R/library/chromVAR/libs/x64/chromVAR.dll':
  Found 'abort', possibly from 'abort' (C), 'runtime' (Fortran)
  Found 'exit', possibly from 'exit' (C), 'stop' (Fortran)

Compiled code should not call entry points which might terminate R nor
write to stdout/stderr instead of to the console, nor use Fortran I/O
nor system RNGs. The detected symbols are linked into the code but
might come from libraries and not actually be called.

See 'Writing portable packages' in the 'Writing R Extensions' manual.
* checking files in 'vignettes' ... OK
* checking examples ... OK
Examples with CPU (user + system) or elapsed time > 5s
                         user system elapsed
deviationsCovariability 19.65   0.93   39.34
pwmDistance              7.23   0.33    7.58
getJasparMotifs          6.51   0.25    6.77
getCounts                5.06   1.19    6.40
plotVariability          5.25   0.01    5.26
* checking for unstated dependencies in 'tests' ... OK
* checking tests ...
  Running 'testthat.R'
 OK
* checking for unstated dependencies in vignettes ... OK
* checking package vignettes in 'inst/doc' ... OK
* checking running R code from vignettes ... SKIPPED
* checking re-building of vignette outputs ... SKIPPED
* checking PDF version of manual ... OK
* DONE

Status: 2 NOTEs
See
  'F:/biocbuild/bbs-3.15-bioc/meat/chromVAR.Rcheck/00check.log'
for details.



Installation output

chromVAR.Rcheck/00install.out

##############################################################################
##############################################################################
###
### Running command:
###
###   F:\biocbuild\bbs-3.15-bioc\R\bin\R.exe CMD INSTALL chromVAR
###
##############################################################################
##############################################################################


* installing to library 'F:/biocbuild/bbs-3.15-bioc/R/library'
* installing *source* package 'chromVAR' ...
** using staged installation
** libs
g++  -std=gnu++11 -I"F:/biocbuild/bbs-3.15-bioc/R/include" -DNDEBUG  -I'F:/biocbuild/bbs-3.15-bioc/R/library/Rcpp/include' -I'F:/biocbuild/bbs-3.15-bioc/R/library/RcppArmadillo/include'   -I"C:/rtools42/x86_64-w64-mingw32.static.posix/include"     -O2 -Wall  -mfpmath=sse -msse2 -mstackrealign  -c RcppExports.cpp -o RcppExports.o
g++  -std=gnu++11 -I"F:/biocbuild/bbs-3.15-bioc/R/include" -DNDEBUG  -I'F:/biocbuild/bbs-3.15-bioc/R/library/Rcpp/include' -I'F:/biocbuild/bbs-3.15-bioc/R/library/RcppArmadillo/include'   -I"C:/rtools42/x86_64-w64-mingw32.static.posix/include"     -O2 -Wall  -mfpmath=sse -msse2 -mstackrealign  -c pwm_similarity.cpp -o pwm_similarity.o
g++  -std=gnu++11 -I"F:/biocbuild/bbs-3.15-bioc/R/include" -DNDEBUG  -I'F:/biocbuild/bbs-3.15-bioc/R/library/Rcpp/include' -I'F:/biocbuild/bbs-3.15-bioc/R/library/RcppArmadillo/include'   -I"C:/rtools42/x86_64-w64-mingw32.static.posix/include"     -O2 -Wall  -mfpmath=sse -msse2 -mstackrealign  -c utils.cpp -o utils.o
utils.cpp: In function 'Rcpp::NumericVector row_sds(arma::mat&, bool)':
utils.cpp:12:21: warning: comparison of integer expressions of different signedness: 'int' and 'const uword' {aka 'const unsigned int'} [-Wsign-compare]
   12 |     for( int j=0; j < X.n_rows; j++ ) {
      |                   ~~^~~~~~~~~~
g++ -shared -s -static-libgcc -o chromVAR.dll tmp.def RcppExports.o pwm_similarity.o utils.o -LF:/biocbuild/bbs-3.15-bioc/R/bin/x64 -lRlapack -LF:/biocbuild/bbs-3.15-bioc/R/bin/x64 -lRblas -lgfortran -lm -lquadmath -LC:/rtools42/x86_64-w64-mingw32.static.posix/lib/x64 -LC:/rtools42/x86_64-w64-mingw32.static.posix/lib -LF:/biocbuild/bbs-3.15-bioc/R/bin/x64 -lR
installing to F:/biocbuild/bbs-3.15-bioc/R/library/00LOCK-chromVAR/00new/chromVAR/libs/x64
** R
** data
*** moving datasets to lazyload DB
** inst
** byte-compile and prepare package for lazy loading
** help
*** installing help indices
** building package indices
** installing vignettes
** testing if installed package can be loaded from temporary location
** testing if installed package can be loaded from final location
** testing if installed package keeps a record of temporary installation path
* DONE (chromVAR)

Tests output

chromVAR.Rcheck/tests/testthat.Rout


R version 4.2.0 (2022-04-22 ucrt) -- "Vigorous Calisthenics"
Copyright (C) 2022 The R Foundation for Statistical Computing
Platform: x86_64-w64-mingw32/x64 (64-bit)

R is free software and comes with ABSOLUTELY NO WARRANTY.
You are welcome to redistribute it under certain conditions.
Type 'license()' or 'licence()' for distribution details.

R is a collaborative project with many contributors.
Type 'contributors()' for more information and
'citation()' on how to cite R or R packages in publications.

Type 'demo()' for some demos, 'help()' for on-line help, or
'help.start()' for an HTML browser interface to help.
Type 'q()' to quit R.

> library(testthat)
> library(chromVAR)

> BiocParallel::register(BiocParallel::SerialParam())
> test_check("chromVAR")
[ FAIL 0 | WARN 0 | SKIP 0 | PASS 65 ]
> 
> proc.time()
   user  system elapsed 
  23.35    2.34   25.61 

Example timings

chromVAR.Rcheck/chromVAR-Ex.timings

nameusersystemelapsed
addGCBias0.610.070.67
annotationMatches0.010.000.01
chromVAR_theme0.030.000.03
computeDeviations3.810.063.87
computeExpectations0.010.000.01
computeVariability3.830.133.96
counts000
deviationScores0.020.000.02
deviations000
deviationsCovariability19.65 0.9339.34
deviationsTsne0.060.030.10
differentialDeviations0.020.000.01
differentialVariability0.020.000.02
example_counts000
filterPeaks0.200.030.23
filterSamples0.060.000.06
filterSamplesPlot0.10.00.1
getAnnotations0.430.060.50
getBackgroundPeaks1.310.061.38
getCisGroups0.110.000.11
getCounts5.061.196.40
getFragmentsPerPeak000
getFragmentsPerSample0.020.000.01
getJasparMotifs6.510.256.77
getPeaks0.180.020.17
getPermutedData2.340.042.39
getSampleCorrelation0.020.000.02
getSampleDepths0.120.000.12
getSampleDistance0.020.000.02
getTotalFragments0.010.000.01
makeBiasBins0.080.000.08
makePermutedSets1.090.161.27
matchKmers1.180.201.37
mini_counts0.000.020.02
mini_dev000
mini_ix000
plotVariability5.250.015.26
pwmDistance7.230.337.58
rbind-chromVARDeviations-method0.090.020.11