Back to Multiple platform build/check report for BioC 3.15
ABCDEF[G]HIJKLMNOPQRSTUVWXYZ

This page was generated on 2022-08-12 13:21:35 -0400 (Fri, 12 Aug 2022).

HostnameOSArch (*)R versionInstalled pkgs
nebbiolo1Linux (Ubuntu 20.04.4 LTS)x86_644.2.1 (2022-06-23) -- "Funny-Looking Kid" 4364
palomino3Windows Server 2022 Datacenterx644.2.1 (2022-06-23 ucrt) -- "Funny-Looking Kid" 4117
merida1macOS 10.14.6 Mojavex86_644.2.1 (2022-06-23) -- "Funny-Looking Kid" 4182
Click on any hostname to see more info about the system (e.g. compilers)      (*) as reported by 'uname -p', except on Windows and Mac OS X

CHECK results for Guitar on palomino3


To the developers/maintainers of the Guitar package:
- Please allow up to 24 hours (and sometimes 48 hours) for your latest push to git@git.bioconductor.org:packages/Guitar.git to
reflect on this report. See How and When does the builder pull? When will my changes propagate? for more information.
- Make sure to use the following settings in order to reproduce any error or warning you see on this page.

raw results

Package 867/2140HostnameOS / ArchINSTALLBUILDCHECKBUILD BIN
Guitar 2.12.0  (landing page)
Jia Meng
Snapshot Date: 2022-08-11 13:55:06 -0400 (Thu, 11 Aug 2022)
git_url: https://git.bioconductor.org/packages/Guitar
git_branch: RELEASE_3_15
git_last_commit: 864335b
git_last_commit_date: 2022-04-26 11:27:26 -0400 (Tue, 26 Apr 2022)
nebbiolo1Linux (Ubuntu 20.04.4 LTS) / x86_64  OK    OK    OK  UNNEEDED, same version is already published
palomino3Windows Server 2022 Datacenter / x64  OK    OK    OK    OK  UNNEEDED, same version is already published
merida1macOS 10.14.6 Mojave / x86_64  OK    OK    OK    OK  UNNEEDED, same version is already published

Summary

Package: Guitar
Version: 2.12.0
Command: F:\biocbuild\bbs-3.15-bioc\R\bin\R.exe CMD check --no-multiarch --install=check:Guitar.install-out.txt --library=F:\biocbuild\bbs-3.15-bioc\R\library --no-vignettes --timings Guitar_2.12.0.tar.gz
StartedAt: 2022-08-12 01:32:42 -0400 (Fri, 12 Aug 2022)
EndedAt: 2022-08-12 01:39:02 -0400 (Fri, 12 Aug 2022)
EllapsedTime: 379.8 seconds
RetCode: 0
Status:   OK  
CheckDir: Guitar.Rcheck
Warnings: 0

Command output

##############################################################################
##############################################################################
###
### Running command:
###
###   F:\biocbuild\bbs-3.15-bioc\R\bin\R.exe CMD check --no-multiarch --install=check:Guitar.install-out.txt --library=F:\biocbuild\bbs-3.15-bioc\R\library --no-vignettes --timings Guitar_2.12.0.tar.gz
###
##############################################################################
##############################################################################


* using log directory 'F:/biocbuild/bbs-3.15-bioc/meat/Guitar.Rcheck'
* using R version 4.2.1 (2022-06-23 ucrt)
* using platform: x86_64-w64-mingw32 (64-bit)
* using session charset: UTF-8
* using option '--no-vignettes'
* checking for file 'Guitar/DESCRIPTION' ... OK
* checking extension type ... Package
* this is package 'Guitar' version '2.12.0'
* package encoding: UTF-8
* checking package namespace information ... OK
* checking package dependencies ... NOTE
Depends: includes the non-default packages:
  'GenomicFeatures', 'rtracklayer', 'AnnotationDbi', 'GenomicRanges',
  'magrittr', 'ggplot2', 'knitr', 'dplyr'
Adding so many packages to the search path is excessive and importing
selectively is preferable.
* checking if this is a source package ... OK
* checking if there is a namespace ... OK
* checking for hidden files and directories ... OK
* checking for portable file names ... OK
* checking whether package 'Guitar' can be installed ... OK
* checking installed package size ... NOTE
  installed size is 15.8Mb
  sub-directories of 1Mb or more:
    extdata  15.7Mb
* checking package directory ... OK
* checking 'build' directory ... OK
* checking DESCRIPTION meta-information ... OK
* checking top-level files ... OK
* checking for left-over files ... OK
* checking index information ... OK
* checking package subdirectories ... OK
* checking R files for non-ASCII characters ... OK
* checking R files for syntax errors ... OK
* checking whether the package can be loaded ... OK
* checking whether the package can be loaded with stated dependencies ... OK
* checking whether the package can be unloaded cleanly ... OK
* checking whether the namespace can be loaded with stated dependencies ... OK
* checking whether the namespace can be unloaded cleanly ... OK
* checking dependencies in R code ... NOTE
Package in Depends field not imported from: 'knitr'
  These packages need to be imported from (in the NAMESPACE file)
  for when this namespace is loaded but not attached.
Unexported object imported by a ':::' call: 'GenomicRanges:::get_out_of_bound_index'
  See the note in ?`:::` about the use of this operator.
* checking S3 generic/method consistency ... OK
* checking replacement functions ... OK
* checking foreign function calls ... OK
* checking R code for possible problems ... NOTE
.extractComponent: no visible binding for global variable 'gene_id'
.generate_guitar_coordinates: no visible global function definition for
  'makeGuitarCoordsFromTxDb'
.generate_guitar_coordinates: no visible binding for global variable
  'noBins'
Undefined global functions or variables:
  gene_id makeGuitarCoordsFromTxDb noBins
* checking Rd files ... OK
* checking Rd metadata ... OK
* checking Rd cross-references ... OK
* checking for missing documentation entries ... OK
* checking for code/documentation mismatches ... OK
* checking Rd \usage sections ... OK
* checking Rd contents ... OK
* checking for unstated dependencies in examples ... OK
* checking sizes of PDF files under 'inst/doc' ... OK
* checking files in 'vignettes' ... OK
* checking examples ... OK
Examples with CPU (user + system) or elapsed time > 5s
                             user system elapsed
GuitarPlot                  34.49   1.06   35.54
GRangesListmapToTranscripts 15.97   0.28   17.41
normalize                   14.75   0.10   14.95
samplePoints                13.71   0.23   13.97
makeGuitarTxdb              11.64   0.11   11.75
* checking for unstated dependencies in vignettes ... OK
* checking package vignettes in 'inst/doc' ... OK
* checking running R code from vignettes ... SKIPPED
* checking re-building of vignette outputs ... SKIPPED
* checking PDF version of manual ... OK
* DONE

Status: 4 NOTEs
See
  'F:/biocbuild/bbs-3.15-bioc/meat/Guitar.Rcheck/00check.log'
for details.



Installation output

Guitar.Rcheck/00install.out

##############################################################################
##############################################################################
###
### Running command:
###
###   F:\biocbuild\bbs-3.15-bioc\R\bin\R.exe CMD INSTALL Guitar
###
##############################################################################
##############################################################################


* installing to library 'F:/biocbuild/bbs-3.15-bioc/R/library'
* installing *source* package 'Guitar' ...
** using staged installation
** R
** inst
** byte-compile and prepare package for lazy loading
** help
*** installing help indices
** building package indices
** installing vignettes
** testing if installed package can be loaded from temporary location
** testing if installed package can be loaded from final location
** testing if installed package keeps a record of temporary installation path
* DONE (Guitar)

Tests output


Example timings

Guitar.Rcheck/Guitar-Ex.timings

nameusersystemelapsed
GRangesListmapToTranscripts15.97 0.2817.41
GuitarPlot34.49 1.0635.54
makeGuitarTxdb11.64 0.1111.75
normalize14.75 0.1014.95
samplePoints13.71 0.2313.97