Back to Multiple platform build/check report for BioC 3.15
ABCDEFGHIJKLMNOPQ[R]STUVWXYZ

This page was generated on 2022-06-24 12:06:39 -0400 (Fri, 24 Jun 2022).

HostnameOSArch (*)R versionInstalled pkgs
nebbiolo1Linux (Ubuntu 20.04.4 LTS)x86_644.2.0 (2022-04-22) -- "Vigorous Calisthenics" 4380
palomino3Windows Server 2022 Datacenterx644.2.0 (2022-04-22 ucrt) -- "Vigorous Calisthenics" 4156
merida1macOS 10.14.6 Mojavex86_644.2.0 (2022-04-22) -- "Vigorous Calisthenics" 4221
Click on any hostname to see more info about the system (e.g. compilers)      (*) as reported by 'uname -p', except on Windows and Mac OS X

CHECK results for ribosomeProfilingQC on palomino3


To the developers/maintainers of the ribosomeProfilingQC package:
- Please allow up to 24 hours (and sometimes 48 hours) for your latest push to git@git.bioconductor.org:packages/ribosomeProfilingQC.git to
reflect on this report. See How and When does the builder pull? When will my changes propagate? for more information.
- Make sure to use the following settings in order to reproduce any error or warning you see on this page.

raw results

Package 1653/2140HostnameOS / ArchINSTALLBUILDCHECKBUILD BIN
ribosomeProfilingQC 1.8.0  (landing page)
Jianhong Ou
Snapshot Date: 2022-06-23 13:55:15 -0400 (Thu, 23 Jun 2022)
git_url: https://git.bioconductor.org/packages/ribosomeProfilingQC
git_branch: RELEASE_3_15
git_last_commit: 887822a
git_last_commit_date: 2022-04-26 12:02:49 -0400 (Tue, 26 Apr 2022)
nebbiolo1Linux (Ubuntu 20.04.4 LTS) / x86_64  OK    OK    OK  UNNEEDED, same version is already published
palomino3Windows Server 2022 Datacenter / x64  OK    OK    OK    OK  UNNEEDED, same version is already published
merida1macOS 10.14.6 Mojave / x86_64  OK    OK    OK    NA  

Summary

Package: ribosomeProfilingQC
Version: 1.8.0
Command: F:\biocbuild\bbs-3.15-bioc\R\bin\R.exe CMD check --no-multiarch --install=check:ribosomeProfilingQC.install-out.txt --library=F:\biocbuild\bbs-3.15-bioc\R\library --no-vignettes --timings ribosomeProfilingQC_1.8.0.tar.gz
StartedAt: 2022-06-24 04:14:19 -0400 (Fri, 24 Jun 2022)
EndedAt: 2022-06-24 04:22:18 -0400 (Fri, 24 Jun 2022)
EllapsedTime: 479.5 seconds
RetCode: 0
Status:   OK  
CheckDir: ribosomeProfilingQC.Rcheck
Warnings: 0

Command output

##############################################################################
##############################################################################
###
### Running command:
###
###   F:\biocbuild\bbs-3.15-bioc\R\bin\R.exe CMD check --no-multiarch --install=check:ribosomeProfilingQC.install-out.txt --library=F:\biocbuild\bbs-3.15-bioc\R\library --no-vignettes --timings ribosomeProfilingQC_1.8.0.tar.gz
###
##############################################################################
##############################################################################


* using log directory 'F:/biocbuild/bbs-3.15-bioc/meat/ribosomeProfilingQC.Rcheck'
* using R version 4.2.0 (2022-04-22 ucrt)
* using platform: x86_64-w64-mingw32 (64-bit)
* using session charset: UTF-8
* using option '--no-vignettes'
* checking for file 'ribosomeProfilingQC/DESCRIPTION' ... OK
* checking extension type ... Package
* this is package 'ribosomeProfilingQC' version '1.8.0'
* package encoding: UTF-8
* checking package namespace information ... OK
* checking package dependencies ... OK
* checking if this is a source package ... OK
* checking if there is a namespace ... OK
* checking for hidden files and directories ... OK
* checking for portable file names ... OK
* checking whether package 'ribosomeProfilingQC' can be installed ... OK
* checking installed package size ... OK
* checking package directory ... OK
* checking 'build' directory ... OK
* checking DESCRIPTION meta-information ... OK
* checking top-level files ... OK
* checking for left-over files ... OK
* checking index information ... OK
* checking package subdirectories ... OK
* checking R files for non-ASCII characters ... OK
* checking R files for syntax errors ... OK
* checking whether the package can be loaded ... OK
* checking whether the package can be loaded with stated dependencies ... OK
* checking whether the package can be unloaded cleanly ... OK
* checking whether the namespace can be loaded with stated dependencies ... OK
* checking whether the namespace can be unloaded cleanly ... OK
* checking dependencies in R code ... OK
* checking S3 generic/method consistency ... OK
* checking replacement functions ... OK
* checking foreign function calls ... OK
* checking R code for possible problems ... OK
* checking Rd files ... OK
* checking Rd metadata ... OK
* checking Rd cross-references ... OK
* checking for missing documentation entries ... OK
* checking for code/documentation mismatches ... OK
* checking Rd \usage sections ... OK
* checking Rd contents ... OK
* checking for unstated dependencies in examples ... OK
* checking files in 'vignettes' ... OK
* checking examples ... OK
Examples with CPU (user + system) or elapsed time > 5s
                  user system elapsed
readsDistribution 8.79   0.33    9.11
coverageRates     6.94   0.22    7.16
coverageDepth     6.08   0.17    6.25
countReads        5.14   0.28    8.41
readsEndPlot      4.89   0.34    5.24
FLOSS             3.72   0.10   70.61
* checking for unstated dependencies in 'tests' ... OK
* checking tests ...
  Running 'runTests.R'
 OK
* checking for unstated dependencies in vignettes ... OK
* checking package vignettes in 'inst/doc' ... OK
* checking running R code from vignettes ... SKIPPED
* checking re-building of vignette outputs ... SKIPPED
* checking PDF version of manual ... OK
* DONE

Status: OK


Installation output

ribosomeProfilingQC.Rcheck/00install.out

##############################################################################
##############################################################################
###
### Running command:
###
###   F:\biocbuild\bbs-3.15-bioc\R\bin\R.exe CMD INSTALL ribosomeProfilingQC
###
##############################################################################
##############################################################################


* installing to library 'F:/biocbuild/bbs-3.15-bioc/R/library'
* installing *source* package 'ribosomeProfilingQC' ...
** using staged installation
** R
** inst
** byte-compile and prepare package for lazy loading
** help
*** installing help indices
** building package indices
** installing vignettes
** testing if installed package can be loaded from temporary location
** testing if installed package can be loaded from final location
** testing if installed package keeps a record of temporary installation path
* DONE (ribosomeProfilingQC)

Tests output

ribosomeProfilingQC.Rcheck/tests/runTests.Rout


R version 4.2.0 (2022-04-22 ucrt) -- "Vigorous Calisthenics"
Copyright (C) 2022 The R Foundation for Statistical Computing
Platform: x86_64-w64-mingw32/x64 (64-bit)

R is free software and comes with ABSOLUTELY NO WARRANTY.
You are welcome to redistribute it under certain conditions.
Type 'license()' or 'licence()' for distribution details.

R is a collaborative project with many contributors.
Type 'contributors()' for more information and
'citation()' on how to cite R or R packages in publications.

Type 'demo()' for some demos, 'help()' for on-line help, or
'help.start()' for an HTML browser interface to help.
Type 'q()' to quit R.

> require("ribosomeProfilingQC") || stop("unable to load Package:ribosomeProfilingQC")
Loading required package: ribosomeProfilingQC
Loading required package: GenomicRanges
Loading required package: stats4
Loading required package: BiocGenerics

Attaching package: 'BiocGenerics'

The following objects are masked from 'package:stats':

    IQR, mad, sd, var, xtabs

The following objects are masked from 'package:base':

    Filter, Find, Map, Position, Reduce, anyDuplicated, append,
    as.data.frame, basename, cbind, colnames, dirname, do.call,
    duplicated, eval, evalq, get, grep, grepl, intersect, is.unsorted,
    lapply, mapply, match, mget, order, paste, pmax, pmax.int, pmin,
    pmin.int, rank, rbind, rownames, sapply, setdiff, sort, table,
    tapply, union, unique, unsplit, which.max, which.min

Loading required package: S4Vectors

Attaching package: 'S4Vectors'

The following objects are masked from 'package:base':

    I, expand.grid, unname

Loading required package: IRanges

Attaching package: 'IRanges'

The following object is masked from 'package:grDevices':

    windows

Loading required package: GenomeInfoDb

[1] TRUE
> require("GenomicRanges") || stop("unable to load Package::GenomicRanges")
[1] TRUE
> require("GenomicFeatures") || stop("unable to load Package::GenomicFeatures")
Loading required package: GenomicFeatures
Loading required package: AnnotationDbi
Loading required package: Biobase
Welcome to Bioconductor

    Vignettes contain introductory material; view with
    'browseVignettes()'. To cite Bioconductor, see
    'citation("Biobase")', and for packages 'citation("pkgname")'.

[1] TRUE
> require("GenomicAlignments") || stop("unalbe to load Package:GenomicAlignments")
Loading required package: GenomicAlignments
Loading required package: SummarizedExperiment
Loading required package: MatrixGenerics
Loading required package: matrixStats

Attaching package: 'matrixStats'

The following objects are masked from 'package:Biobase':

    anyMissing, rowMedians


Attaching package: 'MatrixGenerics'

The following objects are masked from 'package:matrixStats':

    colAlls, colAnyNAs, colAnys, colAvgsPerRowSet, colCollapse,
    colCounts, colCummaxs, colCummins, colCumprods, colCumsums,
    colDiffs, colIQRDiffs, colIQRs, colLogSumExps, colMadDiffs,
    colMads, colMaxs, colMeans2, colMedians, colMins, colOrderStats,
    colProds, colQuantiles, colRanges, colRanks, colSdDiffs, colSds,
    colSums2, colTabulates, colVarDiffs, colVars, colWeightedMads,
    colWeightedMeans, colWeightedMedians, colWeightedSds,
    colWeightedVars, rowAlls, rowAnyNAs, rowAnys, rowAvgsPerColSet,
    rowCollapse, rowCounts, rowCummaxs, rowCummins, rowCumprods,
    rowCumsums, rowDiffs, rowIQRDiffs, rowIQRs, rowLogSumExps,
    rowMadDiffs, rowMads, rowMaxs, rowMeans2, rowMedians, rowMins,
    rowOrderStats, rowProds, rowQuantiles, rowRanges, rowRanks,
    rowSdDiffs, rowSds, rowSums2, rowTabulates, rowVarDiffs, rowVars,
    rowWeightedMads, rowWeightedMeans, rowWeightedMedians,
    rowWeightedSds, rowWeightedVars

The following object is masked from 'package:Biobase':

    rowMedians

Loading required package: Biostrings
Loading required package: XVector

Attaching package: 'Biostrings'

The following object is masked from 'package:base':

    strsplit

Loading required package: Rsamtools
[1] TRUE
> require("utils") || stop("unable to load Package:utils")
[1] TRUE
> require("AnnotationDbi") || stop("unable to load Package:AnnotationDbi")
[1] TRUE
> require("BSgenome.Drerio.UCSC.danRer10") || stop("unable to load Package:BSgenome.Drerio.UCSC.danRer10")
Loading required package: BSgenome.Drerio.UCSC.danRer10
Loading required package: BSgenome
Loading required package: rtracklayer
[1] TRUE
> require("Rsamtools") || stop("unable to load Rsamtools")
[1] TRUE
> require("rtracklayer") || stop("unable to load rtracklayer")
[1] TRUE
> require("testthat") || stop("unable to load testthat")
Loading required package: testthat
[1] TRUE
> test_check("ribosomeProfilingQC")
[ FAIL 0 | WARN 11 | SKIP 0 | PASS 35 ]

[ FAIL 0 | WARN 11 | SKIP 0 | PASS 35 ]
> 
> proc.time()
   user  system elapsed 
  64.48    2.17   66.93 

Example timings

ribosomeProfilingQC.Rcheck/ribosomeProfilingQC-Ex.timings

nameusersystemelapsed
FLOSS 3.72 0.1070.61
PAmotif0.080.030.11
assignReadingFrame1.940.092.03
codonUsage0.540.021.71
countReads5.140.288.41
coverageDepth6.080.176.25
coverageRates6.940.227.16
cvgd-class0.030.000.03
estimatePsite2.270.142.40
filterCDS0.150.000.16
frameCounts0.100.000.09
getFPKM000
getORFscore0.030.000.04
getPsiteCoordinates0.450.020.46
ggBar0.140.000.14
metaPlot000
normByRUVs000
plotDistance2Codon0.030.000.04
plotFrameDensity0.210.010.25
plotSpliceEvent000
plotTE0.030.000.03
plotTranscript0.060.000.06
prepareCDS0.510.000.55
readsDistribution8.790.339.11
readsEndPlot4.890.345.24
readsLenToKeep0.030.000.03
ribosomeReleaseScore000
shiftReadsByFrame4.360.164.51
simulateRPF1.360.031.39
spliceEvent000
strandPlot3.130.083.20
summaryReadsLength0.110.000.11
translationalEfficiency000