Back to Build/check report for BioC 3.15
ABCDE[F]GHIJKLMNOPQRSTUVWXYZ

This page was generated on 2022-06-27 11:09:55 -0400 (Mon, 27 Jun 2022).

HostnameOSArch (*)R versionInstalled pkgs
nebbiolo1Linux (Ubuntu 20.04.4 LTS)x86_644.2.0 (2022-04-22) -- "Vigorous Calisthenics" 4380
Click on any hostname to see more info about the system (e.g. compilers)      (*) as reported by 'uname -p', except on Windows and Mac OS X

BUILD results for FunChIP on nebbiolo1


To the developers/maintainers of the FunChIP package:
- Please allow up to 24 hours (and sometimes 48 hours) for your latest push to git@git.bioconductor.org:packages/FunChIP.git to
reflect on this report. See How and When does the builder pull? When will my changes propagate? for more information.
- Make sure to use the following settings in order to reproduce any error or warning you see on this page.

raw results

Package 710/2140HostnameOS / ArchINSTALLBUILDCHECKBUILD BIN
FunChIP 1.22.0  (landing page)
Alice Parodi
Snapshot Date: 2022-06-26 13:55:11 -0400 (Sun, 26 Jun 2022)
git_url: https://git.bioconductor.org/packages/FunChIP
git_branch: RELEASE_3_15
git_last_commit: fa64a66
git_last_commit_date: 2022-04-26 11:32:41 -0400 (Tue, 26 Apr 2022)
nebbiolo1Linux (Ubuntu 20.04.4 LTS) / x86_64  OK    OK    WARNINGS  UNNEEDED, same version is already published

Summary

Package: FunChIP
Version: 1.22.0
Command: /home/biocbuild/bbs-3.15-bioc/R/bin/R CMD build --keep-empty-dirs --no-resave-data FunChIP
StartedAt: 2022-06-26 16:27:38 -0400 (Sun, 26 Jun 2022)
EndedAt: 2022-06-26 16:30:34 -0400 (Sun, 26 Jun 2022)
EllapsedTime: 175.8 seconds
RetCode: 0
Status:   OK  
PackageFile: FunChIP_1.22.0.tar.gz
PackageFileSize: 22.99 MiB

Command output

##############################################################################
##############################################################################
###
### Running command:
###
###   /home/biocbuild/bbs-3.15-bioc/R/bin/R CMD build --keep-empty-dirs --no-resave-data FunChIP
###
##############################################################################
##############################################################################


* checking for file ‘FunChIP/DESCRIPTION’ ... OK
* preparing ‘FunChIP’:
* checking DESCRIPTION meta-information ... OK
* cleaning src
* installing the package to build vignettes
* creating vignettes ... OK
* cleaning src
* checking for LF line-endings in source and make files and shell scripts
* checking for empty or unneeded directories
  NB: this package now depends on R (>= 3.5.0)
  WARNING: Added dependency on R >= 3.5.0 because serialized objects in
  serialize/load version 3 cannot be read in older versions of R.
  File(s) containing such objects:
    ‘FunChIP/data/GR100.rda’ ‘FunChIP/data/peaks.rda’
* building ‘FunChIP_1.22.0.tar.gz’