Back to Multiple platform build/check report for BioC 3.15
AB[C]DEFGHIJKLMNOPQRSTUVWXYZ

This page was generated on 2022-06-24 12:07:12 -0400 (Fri, 24 Jun 2022).

HostnameOSArch (*)R versionInstalled pkgs
nebbiolo1Linux (Ubuntu 20.04.4 LTS)x86_644.2.0 (2022-04-22) -- "Vigorous Calisthenics" 4380
palomino3Windows Server 2022 Datacenterx644.2.0 (2022-04-22 ucrt) -- "Vigorous Calisthenics" 4156
merida1macOS 10.14.6 Mojavex86_644.2.0 (2022-04-22) -- "Vigorous Calisthenics" 4221
Click on any hostname to see more info about the system (e.g. compilers)      (*) as reported by 'uname -p', except on Windows and Mac OS X

BUILD results for chromstaR on merida1


To the developers/maintainers of the chromstaR package:
- Please allow up to 24 hours (and sometimes 48 hours) for your latest push to git@git.bioconductor.org:packages/chromstaR.git to
reflect on this report. See How and When does the builder pull? When will my changes propagate? for more information.
- Make sure to use the following settings in order to reproduce any error or warning you see on this page.

raw results

Package 322/2140HostnameOS / ArchINSTALLBUILDCHECKBUILD BIN
chromstaR 1.22.0  (landing page)
Aaron Taudt
Snapshot Date: 2022-06-23 13:55:15 -0400 (Thu, 23 Jun 2022)
git_url: https://git.bioconductor.org/packages/chromstaR
git_branch: RELEASE_3_15
git_last_commit: 5f6ba7e
git_last_commit_date: 2022-04-26 11:33:04 -0400 (Tue, 26 Apr 2022)
nebbiolo1Linux (Ubuntu 20.04.4 LTS) / x86_64  OK    OK    OK  UNNEEDED, same version is already published
palomino3Windows Server 2022 Datacenter / x64  OK    OK    OK    OK  UNNEEDED, same version is already published
merida1macOS 10.14.6 Mojave / x86_64  OK    OK    OK    OK  UNNEEDED, same version is already published

Summary

Package: chromstaR
Version: 1.22.0
Command: /Library/Frameworks/R.framework/Resources/bin/R CMD build --keep-empty-dirs --no-resave-data chromstaR
StartedAt: 2022-06-23 17:26:11 -0400 (Thu, 23 Jun 2022)
EndedAt: 2022-06-23 17:33:38 -0400 (Thu, 23 Jun 2022)
EllapsedTime: 446.9 seconds
RetCode: 0
Status:   OK  
PackageFile: chromstaR_1.22.0.tar.gz
PackageFileSize: 6.67 MiB

Command output

##############################################################################
##############################################################################
###
### Running command:
###
###   /Library/Frameworks/R.framework/Resources/bin/R CMD build --keep-empty-dirs --no-resave-data chromstaR
###
##############################################################################
##############################################################################


* checking for file ‘chromstaR/DESCRIPTION’ ... OK
* preparing ‘chromstaR’:
* checking DESCRIPTION meta-information ... OK
* cleaning src
* installing the package to build vignettes
* creating vignettes ... OK
* cleaning src
* checking for LF line-endings in source and make files and shell scripts
* checking for empty or unneeded directories
* looking to see if a ‘data/datalist’ file should be added
  NB: this package now depends on R (>= 3.5.0)
  WARNING: Added dependency on R >= 3.5.0 because serialized objects in
  serialize/load version 3 cannot be read in older versions of R.
  File(s) containing such objects:
    ‘chromstaR/tests/testthat/stateswap/H3K27Ac_GMP_Rep1_SRR1521798.bam_binsize_1000_chr_chr14.RData’
* building ‘chromstaR_1.22.0.tar.gz’