Back to Multiple platform build/check report for BioC 3.15
ABCDEFGHIJKLMNOPQ[R]STUVWXYZ

This page was generated on 2022-08-15 13:23:27 -0400 (Mon, 15 Aug 2022).

HostnameOSArch (*)R versionInstalled pkgs
nebbiolo1Linux (Ubuntu 20.04.4 LTS)x86_644.2.1 (2022-06-23) -- "Funny-Looking Kid" 4365
palomino3Windows Server 2022 Datacenterx644.2.1 (2022-06-23 ucrt) -- "Funny-Looking Kid" 4118
merida1macOS 10.14.6 Mojavex86_644.2.1 (2022-06-23) -- "Funny-Looking Kid" 4183
Click on any hostname to see more info about the system (e.g. compilers)      (*) as reported by 'uname -p', except on Windows and Mac OS X

CHECK results for RCAS on merida1


To the developers/maintainers of the RCAS package:
- Please allow up to 24 hours (and sometimes 48 hours) for your latest push to git@git.bioconductor.org:packages/RCAS.git to
reflect on this report. See How and When does the builder pull? When will my changes propagate? for more information.
- Make sure to use the following settings in order to reproduce any error or warning you see on this page.

raw results

Package 1584/2140HostnameOS / ArchINSTALLBUILDCHECKBUILD BIN
RCAS 1.22.0  (landing page)
Bora Uyar
Snapshot Date: 2022-08-14 13:55:13 -0400 (Sun, 14 Aug 2022)
git_url: https://git.bioconductor.org/packages/RCAS
git_branch: RELEASE_3_15
git_last_commit: 3841e30
git_last_commit_date: 2022-04-26 11:33:58 -0400 (Tue, 26 Apr 2022)
nebbiolo1Linux (Ubuntu 20.04.4 LTS) / x86_64  OK    OK    ERROR  
palomino3Windows Server 2022 Datacenter / x64  OK    OK    OK    OK  UNNEEDED, same version is already published
merida1macOS 10.14.6 Mojave / x86_64  OK    OK    OK    OK  UNNEEDED, same version is already published

Summary

Package: RCAS
Version: 1.22.0
Command: /Library/Frameworks/R.framework/Resources/bin/R CMD check --install=check:RCAS.install-out.txt --library=/Library/Frameworks/R.framework/Resources/library --no-vignettes --timings RCAS_1.22.0.tar.gz
StartedAt: 2022-08-15 06:37:47 -0400 (Mon, 15 Aug 2022)
EndedAt: 2022-08-15 06:54:29 -0400 (Mon, 15 Aug 2022)
EllapsedTime: 1002.0 seconds
RetCode: 0
Status:   OK  
CheckDir: RCAS.Rcheck
Warnings: 0

Command output

##############################################################################
##############################################################################
###
### Running command:
###
###   /Library/Frameworks/R.framework/Resources/bin/R CMD check --install=check:RCAS.install-out.txt --library=/Library/Frameworks/R.framework/Resources/library --no-vignettes --timings RCAS_1.22.0.tar.gz
###
##############################################################################
##############################################################################


* using log directory ‘/Users/biocbuild/bbs-3.15-bioc/meat/RCAS.Rcheck’
* using R version 4.2.1 (2022-06-23)
* using platform: x86_64-apple-darwin17.0 (64-bit)
* using session charset: UTF-8
* using option ‘--no-vignettes’
* checking for file ‘RCAS/DESCRIPTION’ ... OK
* checking extension type ... Package
* this is package ‘RCAS’ version ‘1.22.0’
* checking package namespace information ... OK
* checking package dependencies ... OK
* checking if this is a source package ... OK
* checking if there is a namespace ... OK
* checking for hidden files and directories ... OK
* checking for portable file names ... OK
* checking for sufficient/correct file permissions ... OK
* checking whether package ‘RCAS’ can be installed ... OK
* checking installed package size ... OK
* checking package directory ... OK
* checking ‘build’ directory ... OK
* checking DESCRIPTION meta-information ... OK
* checking top-level files ... OK
* checking for left-over files ... OK
* checking index information ... OK
* checking package subdirectories ... OK
* checking R files for non-ASCII characters ... OK
* checking R files for syntax errors ... OK
* checking whether the package can be loaded ... OK
* checking whether the package can be loaded with stated dependencies ... OK
* checking whether the package can be unloaded cleanly ... OK
* checking whether the namespace can be loaded with stated dependencies ... OK
* checking whether the namespace can be unloaded cleanly ... OK
* checking dependencies in R code ... OK
* checking S3 generic/method consistency ... OK
* checking replacement functions ... OK
* checking foreign function calls ... OK
* checking R code for possible problems ... OK
* checking Rd files ... OK
* checking Rd metadata ... OK
* checking Rd cross-references ... OK
* checking for missing documentation entries ... OK
* checking for code/documentation mismatches ... OK
* checking Rd \usage sections ... OK
* checking Rd contents ... OK
* checking for unstated dependencies in examples ... OK
* checking contents of ‘data’ directory ... OK
* checking data for non-ASCII characters ... OK
* checking LazyData ... OK
* checking data for ASCII and uncompressed saves ... OK
* checking files in ‘vignettes’ ... OK
* checking examples ... OK
Examples with CPU (user + system) or elapsed time > 5s
                                  user system elapsed
runMotifDiscovery               74.732  0.507  66.698
getFeatureBoundaryCoverageMulti 25.991  0.993  27.033
getMotifSummaryTable            25.548  0.561 138.605
calculateCoverageProfileList    21.819  0.753  22.667
calculateCoverageProfile        19.262  0.624  19.953
findDifferentialMotifs          17.905  0.266  21.067
getTargetedGenesTable           15.939  0.341  16.571
summarizeQueryRegionsMulti      14.462  0.298  39.453
getTxdbFeaturesFromGRanges      14.169  0.259  14.454
summarizeQueryRegions           13.896  0.291  14.214
getFeatureBoundaryCoverageBin    9.337  0.174   9.534
plotFeatureBoundaryCoverage      8.666  0.163   8.872
getFeatureBoundaryCoverage       8.308  0.149   8.492
createDB                         6.466  0.165  31.630
* checking for unstated dependencies in ‘tests’ ... OK
* checking tests ...
  Running ‘testthat.R’
 OK
* checking for unstated dependencies in vignettes ... OK
* checking package vignettes in ‘inst/doc’ ... OK
* checking running R code from vignettes ... SKIPPED
* checking re-building of vignette outputs ... SKIPPED
* checking PDF version of manual ... OK
* DONE

Status: OK


Installation output

RCAS.Rcheck/00install.out

##############################################################################
##############################################################################
###
### Running command:
###
###   /Library/Frameworks/R.framework/Resources/bin/R CMD INSTALL RCAS
###
##############################################################################
##############################################################################


* installing to library ‘/Library/Frameworks/R.framework/Versions/4.2/Resources/library’
* installing *source* package ‘RCAS’ ...
** using staged installation
** R
** data
*** moving datasets to lazyload DB
** inst
** byte-compile and prepare package for lazy loading
Warning: replacing previous import ‘Biostrings::pattern’ by ‘grid::pattern’ when loading ‘genomation’
** help
*** installing help indices
** building package indices
** installing vignettes
** testing if installed package can be loaded from temporary location
Warning: replacing previous import ‘Biostrings::pattern’ by ‘grid::pattern’ when loading ‘genomation’
** testing if installed package can be loaded from final location
Warning: replacing previous import ‘Biostrings::pattern’ by ‘grid::pattern’ when loading ‘genomation’
** testing if installed package keeps a record of temporary installation path
* DONE (RCAS)

Tests output

RCAS.Rcheck/tests/testthat.Rout


R version 4.2.1 (2022-06-23) -- "Funny-Looking Kid"
Copyright (C) 2022 The R Foundation for Statistical Computing
Platform: x86_64-apple-darwin17.0 (64-bit)

R is free software and comes with ABSOLUTELY NO WARRANTY.
You are welcome to redistribute it under certain conditions.
Type 'license()' or 'licence()' for distribution details.

R is a collaborative project with many contributors.
Type 'contributors()' for more information and
'citation()' on how to cite R or R packages in publications.

Type 'demo()' for some demos, 'help()' for on-line help, or
'help.start()' for an HTML browser interface to help.
Type 'q()' to quit R.

> library(testthat)
> library(RCAS)
Loading required package: plotly
Loading required package: ggplot2

Attaching package: 'plotly'

The following object is masked from 'package:ggplot2':

    last_plot

The following object is masked from 'package:stats':

    filter

The following object is masked from 'package:graphics':

    layout

Loading required package: DT
Loading required package: data.table
Warning message:
replacing previous import 'Biostrings::pattern' by 'grid::pattern' when loading 'genomation' 
> 
> test_check("RCAS")
[ FAIL 0 | WARN 11 | SKIP 0 | PASS 48 ]

[ FAIL 0 | WARN 11 | SKIP 0 | PASS 48 ]
> 
> proc.time()
   user  system elapsed 
 69.824   2.614  76.462 

Example timings

RCAS.Rcheck/RCAS-Ex.timings

nameusersystemelapsed
calculateCoverageProfile19.262 0.62419.953
calculateCoverageProfileList21.819 0.75322.667
checkSeqDb0.6440.0261.078
createControlRegions0.6400.0060.660
createDB 6.466 0.16531.630
discoverFeatureSpecificMotifs000
extractSequences3.0080.1643.177
findDifferentialMotifs17.905 0.26621.067
findEnrichedFunctions1.0700.0224.993
generateKmers0.0000.0010.001
getFeatureBoundaryCoverage8.3080.1498.492
getFeatureBoundaryCoverageBin9.3370.1749.534
getFeatureBoundaryCoverageMulti25.991 0.99327.033
getIntervalOverlapMatrix1.9020.0482.440
getMotifSummaryTable 25.548 0.561138.605
getTargetedGenesTable15.939 0.34116.571
getTxdbFeaturesFromGRanges14.169 0.25914.454
importBed0.4800.0200.504
importBedFiles2.0230.0882.244
importGtf0.0000.0010.001
plotFeatureBoundaryCoverage8.6660.1638.872
queryGff1.0580.0141.076
runMotifDiscovery74.732 0.50766.698
runReport000
runReportMetaAnalysis1.6350.2042.036
summarizeQueryRegions13.896 0.29114.214
summarizeQueryRegionsMulti14.462 0.29839.453