Back to Multiple platform build/check report for BioC 3.15
ABCDEFGHIJKLMNOPQRS[T]UVWXYZ

This page was generated on 2022-07-01 12:06:01 -0400 (Fri, 01 Jul 2022).

HostnameOSArch (*)R versionInstalled pkgs
nebbiolo1Linux (Ubuntu 20.04.4 LTS)x86_644.2.0 (2022-04-22) -- "Vigorous Calisthenics" 4380
palomino3Windows Server 2022 Datacenterx644.2.0 (2022-04-22 ucrt) -- "Vigorous Calisthenics" 4156
merida1macOS 10.14.6 Mojavex86_644.2.0 (2022-04-22) -- "Vigorous Calisthenics" 4221
Click on any hostname to see more info about the system (e.g. compilers)      (*) as reported by 'uname -p', except on Windows and Mac OS X

CHECK results for TVTB on nebbiolo1


To the developers/maintainers of the TVTB package:
- Please allow up to 24 hours (and sometimes 48 hours) for your latest push to git@git.bioconductor.org:packages/TVTB.git to
reflect on this report. See How and When does the builder pull? When will my changes propagate? for more information.
- Make sure to use the following settings in order to reproduce any error or warning you see on this page.

raw results

Package 2071/2140HostnameOS / ArchINSTALLBUILDCHECKBUILD BIN
TVTB 1.22.0  (landing page)
Kevin Rue-Albrecht
Snapshot Date: 2022-06-30 13:55:04 -0400 (Thu, 30 Jun 2022)
git_url: https://git.bioconductor.org/packages/TVTB
git_branch: RELEASE_3_15
git_last_commit: 19e4f04
git_last_commit_date: 2022-04-26 11:37:05 -0400 (Tue, 26 Apr 2022)
nebbiolo1Linux (Ubuntu 20.04.4 LTS) / x86_64  OK    OK    OK  UNNEEDED, same version is already published
palomino3Windows Server 2022 Datacenter / x64... NOT SUPPORTED ...
merida1macOS 10.14.6 Mojave / x86_64  OK    OK    OK    OK  UNNEEDED, same version is already published

Summary

Package: TVTB
Version: 1.22.0
Command: /home/biocbuild/bbs-3.15-bioc/R/bin/R CMD check --install=check:TVTB.install-out.txt --library=/home/biocbuild/bbs-3.15-bioc/R/library --no-vignettes --timings TVTB_1.22.0.tar.gz
StartedAt: 2022-06-30 22:25:13 -0400 (Thu, 30 Jun 2022)
EndedAt: 2022-06-30 22:31:57 -0400 (Thu, 30 Jun 2022)
EllapsedTime: 404.0 seconds
RetCode: 0
Status:   OK  
CheckDir: TVTB.Rcheck
Warnings: 0

Command output

##############################################################################
##############################################################################
###
### Running command:
###
###   /home/biocbuild/bbs-3.15-bioc/R/bin/R CMD check --install=check:TVTB.install-out.txt --library=/home/biocbuild/bbs-3.15-bioc/R/library --no-vignettes --timings TVTB_1.22.0.tar.gz
###
##############################################################################
##############################################################################


* using log directory ‘/home/biocbuild/bbs-3.15-bioc/meat/TVTB.Rcheck’
* using R version 4.2.0 (2022-04-22)
* using platform: x86_64-pc-linux-gnu (64-bit)
* using session charset: UTF-8
* using option ‘--no-vignettes’
* checking for file ‘TVTB/DESCRIPTION’ ... OK
* checking extension type ... Package
* this is package ‘TVTB’ version ‘1.22.0’
* checking package namespace information ... OK
* checking package dependencies ... OK
* checking if this is a source package ... OK
* checking if there is a namespace ... OK
* checking for hidden files and directories ... OK
* checking for portable file names ... OK
* checking for sufficient/correct file permissions ... OK
* checking whether package ‘TVTB’ can be installed ... OK
* checking installed package size ... OK
* checking package directory ... OK
* checking ‘build’ directory ... OK
* checking DESCRIPTION meta-information ... OK
* checking top-level files ... OK
* checking for left-over files ... OK
* checking index information ... OK
* checking package subdirectories ... OK
* checking R files for non-ASCII characters ... OK
* checking R files for syntax errors ... OK
* checking whether the package can be loaded ... OK
* checking whether the package can be loaded with stated dependencies ... OK
* checking whether the package can be unloaded cleanly ... OK
* checking whether the namespace can be loaded with stated dependencies ... OK
* checking whether the namespace can be unloaded cleanly ... OK
* checking dependencies in R code ... OK
* checking S3 generic/method consistency ... OK
* checking replacement functions ... OK
* checking foreign function calls ... OK
* checking R code for possible problems ... OK
* checking Rd files ... OK
* checking Rd metadata ... OK
* checking Rd cross-references ... OK
* checking for missing documentation entries ... OK
* checking for code/documentation mismatches ... OK
* checking Rd \usage sections ... OK
* checking Rd contents ... OK
* checking for unstated dependencies in examples ... OK
* checking files in ‘vignettes’ ... OK
* checking examples ... OK
Examples with CPU (user + system) or elapsed time > 5s
                  user system elapsed
plotInfo-methods 8.784  0.603   9.408
* checking for unstated dependencies in ‘tests’ ... OK
* checking tests ...
  Running ‘testthat.R’
 OK
* checking for unstated dependencies in vignettes ... OK
* checking package vignettes in ‘inst/doc’ ... OK
* checking running R code from vignettes ... SKIPPED
* checking re-building of vignette outputs ... SKIPPED
* checking PDF version of manual ... OK
* DONE

Status: OK


Installation output

TVTB.Rcheck/00install.out

##############################################################################
##############################################################################
###
### Running command:
###
###   /home/biocbuild/bbs-3.15-bioc/R/bin/R CMD INSTALL TVTB
###
##############################################################################
##############################################################################


* installing to library ‘/home/biocbuild/bbs-3.15-bioc/R/library’
* installing *source* package ‘TVTB’ ...
** using staged installation
** R
** inst
** byte-compile and prepare package for lazy loading
** help
*** installing help indices
*** copying figures
** building package indices
** installing vignettes
** testing if installed package can be loaded from temporary location
** testing if installed package can be loaded from final location
** testing if installed package keeps a record of temporary installation path
* DONE (TVTB)

Tests output

TVTB.Rcheck/tests/testthat.Rout


R version 4.2.0 (2022-04-22) -- "Vigorous Calisthenics"
Copyright (C) 2022 The R Foundation for Statistical Computing
Platform: x86_64-pc-linux-gnu (64-bit)

R is free software and comes with ABSOLUTELY NO WARRANTY.
You are welcome to redistribute it under certain conditions.
Type 'license()' or 'licence()' for distribution details.

R is a collaborative project with many contributors.
Type 'contributors()' for more information and
'citation()' on how to cite R or R packages in publications.

Type 'demo()' for some demos, 'help()' for on-line help, or
'help.start()' for an HTML browser interface to help.
Type 'q()' to quit R.

> library(testthat)
> library(TVTB)
> 
> test_check("TVTB")
Class: Genotypes
  @ref (hom. ref.): "REF" {0/0}
  @het (heter.)   : "HET" {0/1, 1/0}
  @alt (hom. alt.): "ALT" {1/1}class: TVTBparam
@genos: class: Genotypes
    @ref (hom. ref.): "REF" {0|0}
    @het (heter.): "HET" {0|1, 1|0}
    @alt (hom. alt.): "ALT" {1|1}
  @ranges: 0 GRanges on 0 sequence(s)
  @aaf (alt. allele freq.): "AAF"
  @maf (minor allele freq.): "MAF"
  @vep (Ensembl VEP key): "CSQ"
  @svp: <ScanVcfParam object>
  @bp: <SerialParam object>
rs199764262 rs189224179 rs373895181 rs201294244 rs199841831 rs182642366 
       TRUE       FALSE       FALSE       FALSE       FALSE       FALSE 
  rs1426654 rs150379789 rs570906312 rs538198029 rs553496066 rs574775672 
       TRUE        TRUE       FALSE       FALSE        TRUE       FALSE 
rs140666229 rs556950130 rs575303689 rs147513140 rs187525777 rs192454382 
       TRUE       FALSE        TRUE        TRUE       FALSE       FALSE 
rs184818838 rs566886499 rs199924625 rs555872528 rs531820822 rs201353600 
      FALSE       FALSE       FALSE       FALSE       FALSE       FALSE 
rs550201688 rs565338261 rs201239799 rs200461129 rs146726548 
      FALSE       FALSE       FALSE       FALSE        TRUE 
rs199764262 rs189224179 rs373895181 rs201294244 rs199841831 rs182642366 
      FALSE       FALSE       FALSE       FALSE       FALSE       FALSE 
  rs1426654 rs150379789 rs570906312 rs538198029 rs553496066 rs574775672 
      FALSE       FALSE       FALSE       FALSE       FALSE       FALSE 
rs140666229 rs556950130 rs575303689 rs147513140 rs187525777 rs192454382 
      FALSE       FALSE       FALSE       FALSE       FALSE       FALSE 
rs184818838 rs566886499 rs199924625 rs555872528 rs531820822 rs201353600 
      FALSE       FALSE       FALSE       FALSE       FALSE       FALSE 
rs550201688 rs565338261 rs201239799 rs200461129 rs146726548 
      FALSE       FALSE       FALSE       FALSE       FALSE 
rs199764262 rs189224179 rs373895181 rs201294244 rs199841831 rs182642366 
       TRUE       FALSE       FALSE       FALSE       FALSE       FALSE 
  rs1426654 rs150379789 rs570906312 rs538198029 rs553496066 rs574775672 
       TRUE        TRUE       FALSE       FALSE        TRUE       FALSE 
rs140666229 rs556950130 rs575303689 rs147513140 rs187525777 rs192454382 
       TRUE       FALSE        TRUE        TRUE       FALSE       FALSE 
rs184818838 rs566886499 rs199924625 rs555872528 rs531820822 rs201353600 
      FALSE       FALSE       FALSE       FALSE       FALSE       FALSE 
rs550201688 rs565338261 rs201239799 rs200461129 rs146726548 
      FALSE       FALSE       FALSE       FALSE        TRUE 
[ FAIL 0 | WARN 0 | SKIP 2 | PASS 227 ]

══ Skipped tests ═══════════════════════════════════════════════════════════════
• empty test (2)

[ FAIL 0 | WARN 0 | SKIP 2 | PASS 227 ]
> 
> proc.time()
   user  system elapsed 
 45.898   2.784  48.673 

Example timings

TVTB.Rcheck/TVTB-Ex.timings

nameusersystemelapsed
Genotypes-class0.0020.0000.003
TVTBParam-class0.1760.0010.176
VcfBasicRules-class2.3670.2202.587
VcfFilterRules-class1.7340.1041.839
addCountGenos-methods0.7900.0950.884
addFrequencies-methods0.7550.1000.855
addOverallFrequencies-methods0.7160.0760.792
addPhenoLevelFrequencies-methods0.7530.1000.854
autodetectGenotypes0.6420.0840.726
countGenos-methods0.6270.1000.726
dropInfo-methods0.7460.1160.862
pairsInfo-methods1.3520.0801.432
plotInfo-methods8.7840.6039.408
readVcf-methods0.3810.0000.383
tSVE0.0010.0000.001
variantsInSamples-methods0.5700.0840.654
vepInPhenoLevel-methods2.2130.1202.333