Back to Multiple platform build/check report for BioC 3.15
ABCDEF[G]HIJKLMNOPQRSTUVWXYZ

This page was generated on 2022-08-12 13:19:25 -0400 (Fri, 12 Aug 2022).

HostnameOSArch (*)R versionInstalled pkgs
nebbiolo1Linux (Ubuntu 20.04.4 LTS)x86_644.2.1 (2022-06-23) -- "Funny-Looking Kid" 4364
palomino3Windows Server 2022 Datacenterx644.2.1 (2022-06-23 ucrt) -- "Funny-Looking Kid" 4117
merida1macOS 10.14.6 Mojavex86_644.2.1 (2022-06-23) -- "Funny-Looking Kid" 4182
Click on any hostname to see more info about the system (e.g. compilers)      (*) as reported by 'uname -p', except on Windows and Mac OS X

All results for package GenomicFeatures


To the developers/maintainers of the GenomicFeatures package:
- Please allow up to 24 hours (and sometimes 48 hours) for your latest push to git@git.bioconductor.org:packages/GenomicFeatures.git to
reflect on this report. See How and When does the builder pull? When will my changes propagate? for more information.
- Make sure to use the following settings in order to reproduce any error or warning you see on this page.

raw results

Package 772/2140HostnameOS / ArchINSTALLBUILDCHECKBUILD BIN
GenomicFeatures 1.48.3  (landing page)
Bioconductor Package Maintainer
Snapshot Date: 2022-08-11 13:55:06 -0400 (Thu, 11 Aug 2022)
git_url: https://git.bioconductor.org/packages/GenomicFeatures
git_branch: RELEASE_3_15
git_last_commit: b0ddea0
git_last_commit_date: 2022-05-31 12:25:31 -0400 (Tue, 31 May 2022)
nebbiolo1Linux (Ubuntu 20.04.4 LTS) / x86_64  OK    OK    OK  UNNEEDED, same version is already published
palomino3Windows Server 2022 Datacenter / x64  OK    OK    OK    OK  UNNEEDED, same version is already published
merida1macOS 10.14.6 Mojave / x86_64  OK    OK    OK    OK  UNNEEDED, same version is already published

Results for Bioconductor software packages that depend directly on package GenomicFeatures

QUICK STATSOS / ArchINSTALLBUILDCHECKBUILD BIN
nebbiolo1Linux (Ubuntu 20.04.4 LTS) / x86_64
03122
03122
012794
palomino3Windows Server 2022 Datacenter / x64
03120
04119
002792
00119
merida1macOS 10.14.6 Mojave / x86_64
03121
04120
002694
00120
Package 1/125HostnameOS / ArchINSTALLBUILDCHECKBUILD BIN
AllelicImbalance 1.34.0  (landing page)
Jesper R Gadin
git_last_commit: 290708c
git_last_commit_date: 2022-04-26 11:16:30 -0400
nebbiolo1Linux (Ubuntu 20.04.4 LTS) / x86_64  OK    OK    OK  UNNEEDED, same version is already published
palomino3Windows Server 2022 Datacenter / x64  OK    OK    OK    OK  UNNEEDED, same version is already published
merida1macOS 10.14.6 Mojave / x86_64  OK    OK    OK    OK  UNNEEDED, same version is already published
Package 2/125HostnameOS / ArchINSTALLBUILDCHECKBUILD BIN
alpine 1.22.0  (landing page)
Michael Love
git_last_commit: 6107a82
git_last_commit_date: 2022-04-26 11:34:53 -0400
nebbiolo1Linux (Ubuntu 20.04.4 LTS) / x86_64  OK    OK    OK  UNNEEDED, same version is already published
palomino3Windows Server 2022 Datacenter / x64  OK    OK    OK    OK  UNNEEDED, same version is already published
merida1macOS 10.14.6 Mojave / x86_64  OK    OK    OK    OK  UNNEEDED, same version is already published
Package 3/125HostnameOS / ArchINSTALLBUILDCHECKBUILD BIN
AnnotationHubData 1.26.1  (landing page)
Bioconductor Package Maintainer
git_last_commit: a04119c
git_last_commit_date: 2022-04-28 10:35:41 -0400
nebbiolo1Linux (Ubuntu 20.04.4 LTS) / x86_64  OK    OK    WARNINGS  UNNEEDED, same version is already published
palomino3Windows Server 2022 Datacenter / x64  OK    OK    WARNINGS    OK  UNNEEDED, same version is already published
merida1macOS 10.14.6 Mojave / x86_64  OK    OK    WARNINGS    OK  UNNEEDED, same version is already published
Package 4/125HostnameOS / ArchINSTALLBUILDCHECKBUILD BIN
annotatr 1.22.0  (landing page)
Raymond G. Cavalcante
git_last_commit: dde0987
git_last_commit_date: 2022-04-26 11:36:55 -0400
nebbiolo1Linux (Ubuntu 20.04.4 LTS) / x86_64  OK    OK    OK  UNNEEDED, same version is already published
palomino3Windows Server 2022 Datacenter / x64  OK    OK    OK    OK  UNNEEDED, same version is already published
merida1macOS 10.14.6 Mojave / x86_64  OK    OK    OK    OK  UNNEEDED, same version is already published
Package 5/125HostnameOS / ArchINSTALLBUILDCHECKBUILD BIN
APAlyzer 1.10.0  (landing page)
Ruijia Wang
git_last_commit: 0545bb5
git_last_commit_date: 2022-04-26 11:58:10 -0400
nebbiolo1Linux (Ubuntu 20.04.4 LTS) / x86_64  OK    OK    WARNINGS  UNNEEDED, same version is already published
palomino3Windows Server 2022 Datacenter / x64  OK    OK    WARNINGS    OK  UNNEEDED, same version is already published
merida1macOS 10.14.6 Mojave / x86_64  OK    OK    WARNINGS    OK  UNNEEDED, same version is already published
Package 6/125HostnameOS / ArchINSTALLBUILDCHECKBUILD BIN
appreci8R 1.14.0  (landing page)
Sarah Sandmann
git_last_commit: 8f23d88
git_last_commit_date: 2022-04-26 11:49:59 -0400
nebbiolo1Linux (Ubuntu 20.04.4 LTS) / x86_64  OK    OK    OK  UNNEEDED, same version is already published
palomino3Windows Server 2022 Datacenter / x64  OK    OK    OK    OK  UNNEEDED, same version is already published
merida1macOS 10.14.6 Mojave / x86_64  OK    OK    OK    OK  UNNEEDED, same version is already published
Package 7/125HostnameOS / ArchINSTALLBUILDCHECKBUILD BIN
ASpediaFI 1.10.0  (landing page)
Doyeong Yu
git_last_commit: d50ff1c
git_last_commit_date: 2022-04-26 12:00:28 -0400
nebbiolo1Linux (Ubuntu 20.04.4 LTS) / x86_64  ERROR    ERROR  skipped
palomino3Windows Server 2022 Datacenter / x64  ERROR    ERROR  skippedskipped
merida1macOS 10.14.6 Mojave / x86_64  ERROR    ERROR  skippedskipped
Package 8/125HostnameOS / ArchINSTALLBUILDCHECKBUILD BIN
ASpli 2.6.0  (landing page)
Estefania Mancini
git_last_commit: 4e2d897
git_last_commit_date: 2022-04-26 11:34:17 -0400
nebbiolo1Linux (Ubuntu 20.04.4 LTS) / x86_64  OK    OK    OK  UNNEEDED, same version is already published
palomino3Windows Server 2022 Datacenter / x64  OK    OK    OK    OK  UNNEEDED, same version is already published
merida1macOS 10.14.6 Mojave / x86_64  OK    OK    OK    OK  UNNEEDED, same version is already published
Package 9/125HostnameOS / ArchINSTALLBUILDCHECKBUILD BIN
bambu 2.2.0  (landing page)
Ying Chen
git_last_commit: 90b4168
git_last_commit_date: 2022-04-26 12:09:52 -0400
nebbiolo1Linux (Ubuntu 20.04.4 LTS) / x86_64  OK    OK    OK  UNNEEDED, same version is already published
palomino3Windows Server 2022 Datacenter / x64  OK    OK    OK    OK  UNNEEDED, same version is already published
merida1macOS 10.14.6 Mojave / x86_64  OK    OK    OK    OK  UNNEEDED, same version is already published
Package 10/125HostnameOS / ArchINSTALLBUILDCHECKBUILD BIN
BgeeCall 1.12.1  (landing page)
Julien Wollbrett
git_last_commit: 77a4004
git_last_commit_date: 2022-05-19 09:21:50 -0400
nebbiolo1Linux (Ubuntu 20.04.4 LTS) / x86_64  OK    OK    OK  UNNEEDED, same version is already published
palomino3Windows Server 2022 Datacenter / x64  OK    OK    OK    OK  UNNEEDED, same version is already published
merida1macOS 10.14.6 Mojave / x86_64  OK    OK    OK    OK  UNNEEDED, same version is already published
Package 11/125HostnameOS / ArchINSTALLBUILDCHECKBUILD BIN
BiocOncoTK 1.16.0  (landing page)
VJ Carey
git_last_commit: fef8b96
git_last_commit_date: 2022-04-26 11:49:04 -0400
nebbiolo1Linux (Ubuntu 20.04.4 LTS) / x86_64  OK    OK    WARNINGS  UNNEEDED, same version is already published
palomino3Windows Server 2022 Datacenter / x64  OK    OK    WARNINGS    OK  UNNEEDED, same version is already published
merida1macOS 10.14.6 Mojave / x86_64  OK    OK    WARNINGS    OK  UNNEEDED, same version is already published
Package 12/125HostnameOS / ArchINSTALLBUILDCHECKBUILD BIN
biovizBase 1.44.0  (landing page)
Michael Lawrence
git_last_commit: a8f05c5
git_last_commit_date: 2022-04-26 11:09:05 -0400
nebbiolo1Linux (Ubuntu 20.04.4 LTS) / x86_64  OK    OK    WARNINGS  UNNEEDED, same version is already published
palomino3Windows Server 2022 Datacenter / x64  OK    OK    WARNINGS    OK  UNNEEDED, same version is already published
merida1macOS 10.14.6 Mojave / x86_64  OK    OK    WARNINGS    OK  UNNEEDED, same version is already published
Package 13/125HostnameOS / ArchINSTALLBUILDCHECKBUILD BIN
bumphunter 1.38.0  (landing page)
Tamilselvi Guharaj
git_last_commit: 06e2fa8
git_last_commit_date: 2022-04-26 11:12:56 -0400
nebbiolo1Linux (Ubuntu 20.04.4 LTS) / x86_64  OK    OK    OK  UNNEEDED, same version is already published
palomino3Windows Server 2022 Datacenter / x64  OK    OK    OK    OK  UNNEEDED, same version is already published
merida1macOS 10.14.6 Mojave / x86_64  OK    OK    OK    OK  UNNEEDED, same version is already published
Package 14/125HostnameOS / ArchINSTALLBUILDCHECKBUILD BIN
BUSpaRse 1.10.0  (landing page)
Lambda Moses
git_last_commit: ad2ccde
git_last_commit_date: 2022-04-26 11:58:37 -0400
nebbiolo1Linux (Ubuntu 20.04.4 LTS) / x86_64  OK    OK    OK  UNNEEDED, same version is already published
palomino3Windows Server 2022 Datacenter / x64  OK    OK    OK    OK  UNNEEDED, same version is already published
merida1macOS 10.14.6 Mojave / x86_64  OK    ERROR  skippedskipped
Package 15/125HostnameOS / ArchINSTALLBUILDCHECKBUILD BIN
CAGEfightR 1.16.0  (landing page)
Malte Thodberg
git_last_commit: 86ba129
git_last_commit_date: 2022-04-26 11:49:10 -0400
nebbiolo1Linux (Ubuntu 20.04.4 LTS) / x86_64  OK    OK    OK  UNNEEDED, same version is already published
palomino3Windows Server 2022 Datacenter / x64  OK    OK    OK    OK  UNNEEDED, same version is already published
merida1macOS 10.14.6 Mojave / x86_64  OK    OK    OK    OK  UNNEEDED, same version is already published
Package 16/125HostnameOS / ArchINSTALLBUILDCHECKBUILD BIN
casper 2.30.0  (landing page)
David Rossell
git_last_commit: 140c9ad
git_last_commit_date: 2022-04-26 11:13:19 -0400
nebbiolo1Linux (Ubuntu 20.04.4 LTS) / x86_64  OK    OK    WARNINGS  UNNEEDED, same version is already published
palomino3Windows Server 2022 Datacenter / x64  OK    OK    WARNINGS    OK  UNNEEDED, same version is already published
merida1macOS 10.14.6 Mojave / x86_64  OK    OK    WARNINGS    OK  UNNEEDED, same version is already published
Package 17/125HostnameOS / ArchINSTALLBUILDCHECKBUILD BIN
ChIPpeakAnno 3.30.1  (landing page)
Jianhong Ou
git_last_commit: f358fc5
git_last_commit_date: 2022-06-06 14:12:10 -0400
nebbiolo1Linux (Ubuntu 20.04.4 LTS) / x86_64  OK    OK    OK  UNNEEDED, same version is already published
palomino3Windows Server 2022 Datacenter / x64  OK    OK    OK    OK  UNNEEDED, same version is already published
merida1macOS 10.14.6 Mojave / x86_64  OK    OK    OK    OK  UNNEEDED, same version is already published
Package 18/125HostnameOS / ArchINSTALLBUILDCHECKBUILD BIN
ChIPQC 1.32.2  (landing page)
Tom Carroll , Rory Stark
git_last_commit: 6f49921
git_last_commit_date: 2022-08-08 12:36:30 -0400
nebbiolo1Linux (Ubuntu 20.04.4 LTS) / x86_64  OK    OK    WARNINGS  UNNEEDED, same version is already published
palomino3Windows Server 2022 Datacenter / x64  OK    OK    WARNINGS    OK  YES
merida1macOS 10.14.6 Mojave / x86_64  OK    OK    WARNINGS    OK  UNNEEDED, same version is already published
Package 19/125HostnameOS / ArchINSTALLBUILDCHECKBUILD BIN
ChIPseeker 1.32.0  (landing page)
Guangchuang Yu
git_last_commit: 78188dc
git_last_commit_date: 2022-04-26 11:19:42 -0400
nebbiolo1Linux (Ubuntu 20.04.4 LTS) / x86_64  OK    OK    OK  UNNEEDED, same version is already published
palomino3Windows Server 2022 Datacenter / x64  OK    OK    OK    OK  UNNEEDED, same version is already published
merida1macOS 10.14.6 Mojave / x86_64  OK    OK    OK    OK  UNNEEDED, same version is already published
Package 20/125HostnameOS / ArchINSTALLBUILDCHECKBUILD BIN
Cogito 1.2.0  (landing page)
Annika Bürger
git_last_commit: 111f482
git_last_commit_date: 2022-04-26 12:19:10 -0400
nebbiolo1Linux (Ubuntu 20.04.4 LTS) / x86_64  OK    OK    OK  UNNEEDED, same version is already published
palomino3Windows Server 2022 Datacenter / x64  OK    OK    OK    OK  UNNEEDED, same version is already published
merida1macOS 10.14.6 Mojave / x86_64  OK    OK    OK    OK  UNNEEDED, same version is already published
Package 21/125HostnameOS / ArchINSTALLBUILDCHECKBUILD BIN
compEpiTools 1.30.0  (landing page)
Kamal Kishore
git_last_commit: 4a6dc81
git_last_commit_date: 2022-04-26 11:21:05 -0400
nebbiolo1Linux (Ubuntu 20.04.4 LTS) / x86_64  OK    OK    WARNINGS  UNNEEDED, same version is already published
palomino3Windows Server 2022 Datacenter / x64  OK    OK    WARNINGS    OK  UNNEEDED, same version is already published
merida1macOS 10.14.6 Mojave / x86_64  OK    OK    WARNINGS    OK  UNNEEDED, same version is already published
Package 22/125HostnameOS / ArchINSTALLBUILDCHECKBUILD BIN
consensusDE 1.14.0  (landing page)
Ashley J. Waardenberg
git_last_commit: a3c3766
git_last_commit_date: 2022-04-26 11:51:54 -0400
nebbiolo1Linux (Ubuntu 20.04.4 LTS) / x86_64  OK    OK    OK  UNNEEDED, same version is already published
palomino3Windows Server 2022 Datacenter / x64  OK    OK    OK    OK  UNNEEDED, same version is already published
merida1macOS 10.14.6 Mojave / x86_64  OK    OK    OK    OK  UNNEEDED, same version is already published
Package 23/125HostnameOS / ArchINSTALLBUILDCHECKBUILD BIN
cpvSNP 1.28.0  (landing page)
Caitlin McHugh
git_last_commit: df0d6a8
git_last_commit_date: 2022-04-26 11:23:05 -0400
nebbiolo1Linux (Ubuntu 20.04.4 LTS) / x86_64  OK    OK    OK  UNNEEDED, same version is already published
palomino3Windows Server 2022 Datacenter / x64  OK    OK    OK    OK  UNNEEDED, same version is already published
merida1macOS 10.14.6 Mojave / x86_64  OK    OK    OK    OK  UNNEEDED, same version is already published
Package 24/125HostnameOS / ArchINSTALLBUILDCHECKBUILD BIN
crisprseekplus 1.22.0  (landing page)
Alper Kucukural
git_last_commit: f8bfdb4
git_last_commit_date: 2022-04-26 11:36:52 -0400
nebbiolo1Linux (Ubuntu 20.04.4 LTS) / x86_64  OK    OK    OK  UNNEEDED, same version is already published
palomino3Windows Server 2022 Datacenter / x64  OK    OK    OK    OK  UNNEEDED, same version is already published
merida1macOS 10.14.6 Mojave / x86_64  OK    OK    OK    OK  UNNEEDED, same version is already published
Package 25/125HostnameOS / ArchINSTALLBUILDCHECKBUILD BIN
CSSQ 1.8.0  (landing page)
Fan Lab at Georgia Institute of Technology
git_last_commit: 947dfe5
git_last_commit_date: 2022-04-26 12:01:38 -0400
nebbiolo1Linux (Ubuntu 20.04.4 LTS) / x86_64  OK    OK    OK  UNNEEDED, same version is already published
palomino3Windows Server 2022 Datacenter / x64  OK    OK    OK    OK  UNNEEDED, same version is already published
merida1macOS 10.14.6 Mojave / x86_64  OK    OK    OK    OK  UNNEEDED, same version is already published
Package 26/125HostnameOS / ArchINSTALLBUILDCHECKBUILD BIN
customProDB 1.36.0  (landing page)
Xiaojing Wang
git_last_commit: cf3989d
git_last_commit_date: 2022-04-26 11:15:11 -0400
nebbiolo1Linux (Ubuntu 20.04.4 LTS) / x86_64  OK    OK    OK  UNNEEDED, same version is already published
palomino3Windows Server 2022 Datacenter / x64  OK    OK    OK    OK  UNNEEDED, same version is already published
merida1macOS 10.14.6 Mojave / x86_64  OK    OK    OK    OK  UNNEEDED, same version is already published
Package 27/125HostnameOS / ArchINSTALLBUILDCHECKBUILD BIN
dasper 1.6.0  (landing page)
David Zhang
git_last_commit: 06e29e2
git_last_commit_date: 2022-04-26 12:10:37 -0400
nebbiolo1Linux (Ubuntu 20.04.4 LTS) / x86_64  OK    OK    OK  UNNEEDED, same version is already published
palomino3Windows Server 2022 Datacenter / x64  OK    OK    OK    OK  UNNEEDED, same version is already published
merida1macOS 10.14.6 Mojave / x86_64  OK    OK    OK    OK  UNNEEDED, same version is already published
Package 28/125HostnameOS / ArchINSTALLBUILDCHECKBUILD BIN
decompTumor2Sig 2.12.0  (landing page)
Rosario M. Piro
git_last_commit: 8b41d1c
git_last_commit_date: 2022-04-26 11:52:21 -0400
nebbiolo1Linux (Ubuntu 20.04.4 LTS) / x86_64  OK    OK    OK  UNNEEDED, same version is already published
palomino3Windows Server 2022 Datacenter / x64  OK    OK    OK    OK  UNNEEDED, same version is already published
merida1macOS 10.14.6 Mojave / x86_64  OK    OK    OK    OK  UNNEEDED, same version is already published
Package 29/125HostnameOS / ArchINSTALLBUILDCHECKBUILD BIN
DegNorm 1.6.1  (landing page)
Ji-Ping Wang
git_last_commit: 7279ff0
git_last_commit_date: 2022-06-25 08:11:18 -0400
nebbiolo1Linux (Ubuntu 20.04.4 LTS) / x86_64  OK    OK    OK  UNNEEDED, same version is already published
palomino3Windows Server 2022 Datacenter / x64  OK    OK    OK    OK  UNNEEDED, same version is already published
merida1macOS 10.14.6 Mojave / x86_64  OK    OK    OK    OK  UNNEEDED, same version is already published
Package 30/125HostnameOS / ArchINSTALLBUILDCHECKBUILD BIN
derfinder 1.30.0  (landing page)
Leonardo Collado-Torres
git_last_commit: 7dbc750
git_last_commit_date: 2022-04-26 11:21:49 -0400
nebbiolo1Linux (Ubuntu 20.04.4 LTS) / x86_64  OK    OK    OK  UNNEEDED, same version is already published
palomino3Windows Server 2022 Datacenter / x64  OK    OK    OK    OK  UNNEEDED, same version is already published
merida1macOS 10.14.6 Mojave / x86_64  OK    OK    OK    OK  UNNEEDED, same version is already published
Package 31/125HostnameOS / ArchINSTALLBUILDCHECKBUILD BIN
derfinderPlot 1.30.0  (landing page)
Leonardo Collado-Torres
git_last_commit: 4ebf7a9
git_last_commit_date: 2022-04-26 11:21:51 -0400
nebbiolo1Linux (Ubuntu 20.04.4 LTS) / x86_64  OK    OK    OK  UNNEEDED, same version is already published
palomino3Windows Server 2022 Datacenter / x64  OK    OK    OK    OK  UNNEEDED, same version is already published
merida1macOS 10.14.6 Mojave / x86_64  OK    OK    OK    OK  UNNEEDED, same version is already published
Package 32/125HostnameOS / ArchINSTALLBUILDCHECKBUILD BIN
EDASeq 2.30.0  (landing page)
Davide Risso
git_last_commit: 9a5dd9d
git_last_commit_date: 2022-04-26 11:08:56 -0400
nebbiolo1Linux (Ubuntu 20.04.4 LTS) / x86_64  OK    OK    OK  UNNEEDED, same version is already published
palomino3Windows Server 2022 Datacenter / x64  OK    OK    OK    OK  UNNEEDED, same version is already published
merida1macOS 10.14.6 Mojave / x86_64  OK    OK    OK    OK  UNNEEDED, same version is already published
Package 33/125HostnameOS / ArchINSTALLBUILDCHECKBUILD BIN
ELMER 2.20.0  (landing page)
Tiago Chedraoui Silva
git_last_commit: 414ba02
git_last_commit_date: 2022-04-26 11:25:44 -0400
nebbiolo1Linux (Ubuntu 20.04.4 LTS) / x86_64  OK    OK    WARNINGS  UNNEEDED, same version is already published
palomino3Windows Server 2022 Datacenter / x64  OK    OK    WARNINGS    OK  UNNEEDED, same version is already published
merida1macOS 10.14.6 Mojave / x86_64  OK    OK    WARNINGS    OK  UNNEEDED, same version is already published
Package 34/125HostnameOS / ArchINSTALLBUILDCHECKBUILD BIN
ensembldb 2.20.2  (landing page)
Johannes Rainer
git_last_commit: ac1fb83
git_last_commit_date: 2022-06-16 06:12:24 -0400
nebbiolo1Linux (Ubuntu 20.04.4 LTS) / x86_64  OK    OK    OK  UNNEEDED, same version is already published
palomino3Windows Server 2022 Datacenter / x64  OK    OK    OK    OK  UNNEEDED, same version is already published
merida1macOS 10.14.6 Mojave / x86_64  OK    OK    OK    OK  UNNEEDED, same version is already published
Package 35/125HostnameOS / ArchINSTALLBUILDCHECKBUILD BIN
epimutacions 1.0.3  (landing page)
Leire Abarrategui
git_last_commit: 546eb34
git_last_commit_date: 2022-06-20 15:59:10 -0400
nebbiolo1Linux (Ubuntu 20.04.4 LTS) / x86_64  OK    OK    OK  UNNEEDED, same version is already published
palomino3Windows Server 2022 Datacenter / x64  OK    OK    OK    OK  UNNEEDED, same version is already published
merida1macOS 10.14.6 Mojave / x86_64  OK    OK    OK    OK  UNNEEDED, same version is already published
Package 36/125HostnameOS / ArchINSTALLBUILDCHECKBUILD BIN
EpiTxDb 1.8.0  (landing page)
Felix G.M. Ernst
git_last_commit: 4192e54
git_last_commit_date: 2022-04-26 12:03:24 -0400
nebbiolo1Linux (Ubuntu 20.04.4 LTS) / x86_64  OK    OK    OK  UNNEEDED, same version is already published
palomino3Windows Server 2022 Datacenter / x64  OK    OK    OK    OK  UNNEEDED, same version is already published
merida1macOS 10.14.6 Mojave / x86_64  OK    OK    OK    OK  UNNEEDED, same version is already published
Package 37/125HostnameOS / ArchINSTALLBUILDCHECKBUILD BIN
epivizrData 1.24.0  (landing page)
Hector Corrada Bravo
git_last_commit: 8a48f19
git_last_commit_date: 2022-04-26 11:32:06 -0400
nebbiolo1Linux (Ubuntu 20.04.4 LTS) / x86_64  OK    OK    WARNINGS  UNNEEDED, same version is already published
palomino3Windows Server 2022 Datacenter / x64  OK    OK    WARNINGS    OK  UNNEEDED, same version is already published
merida1macOS 10.14.6 Mojave / x86_64  OK    OK    WARNINGS    OK  UNNEEDED, same version is already published
Package 38/125HostnameOS / ArchINSTALLBUILDCHECKBUILD BIN
epivizrStandalone 1.24.0  (landing page)
Hector Corrada Bravo
git_last_commit: 64f412f
git_last_commit_date: 2022-04-26 11:32:23 -0400
nebbiolo1Linux (Ubuntu 20.04.4 LTS) / x86_64  OK    OK    OK  UNNEEDED, same version is already published
palomino3Windows Server 2022 Datacenter / x64  OK    OK    OK    OK  UNNEEDED, same version is already published
merida1macOS 10.14.6 Mojave / x86_64  OK    OK    OK    OK  UNNEEDED, same version is already published
Package 39/125HostnameOS / ArchINSTALLBUILDCHECKBUILD BIN
esATAC 1.18.0  (landing page)
Zheng Wei
git_last_commit: c659773
git_last_commit_date: 2022-04-26 11:45:27 -0400
nebbiolo1Linux (Ubuntu 20.04.4 LTS) / x86_64  OK    OK    WARNINGS  UNNEEDED, same version is already published
palomino3Windows Server 2022 Datacenter / x64  OK    OK    WARNINGS    OK  UNNEEDED, same version is already published
merida1macOS 10.14.6 Mojave / x86_64  OK    OK    WARNINGS    OK  UNNEEDED, same version is already published
Package 40/125HostnameOS / ArchINSTALLBUILDCHECKBUILD BIN
EventPointer 3.4.1  (landing page)
Juan A. Ferrer-Bonsoms
git_last_commit: d5f1044
git_last_commit_date: 2022-06-09 03:20:13 -0400
nebbiolo1Linux (Ubuntu 20.04.4 LTS) / x86_64  OK    OK    OK  UNNEEDED, same version is already published
palomino3Windows Server 2022 Datacenter / x64  OK    OK    OK    OK  UNNEEDED, same version is already published
merida1macOS 10.14.6 Mojave / x86_64  OK    OK    OK    OK  UNNEEDED, same version is already published
Package 41/125HostnameOS / ArchINSTALLBUILDCHECKBUILD BIN
exomePeak2 1.8.1  (landing page)
Zhen Wei
git_last_commit: 497ed5b
git_last_commit_date: 2022-05-18 22:23:10 -0400
nebbiolo1Linux (Ubuntu 20.04.4 LTS) / x86_64  OK    OK    OK  UNNEEDED, same version is already published
palomino3Windows Server 2022 Datacenter / x64  OK    OK    OK    OK  UNNEEDED, same version is already published
merida1macOS 10.14.6 Mojave / x86_64  OK    OK    OK    OK  UNNEEDED, same version is already published
Package 42/125HostnameOS / ArchINSTALLBUILDCHECKBUILD BIN
FindIT2 1.2.3  (landing page)
Guandong Shang
git_last_commit: 17dec46
git_last_commit_date: 2022-05-25 06:53:22 -0400
nebbiolo1Linux (Ubuntu 20.04.4 LTS) / x86_64  OK    OK    OK  UNNEEDED, same version is already published
palomino3Windows Server 2022 Datacenter / x64  OK    OK    OK    OK  UNNEEDED, same version is already published
merida1macOS 10.14.6 Mojave / x86_64  OK    OK    OK    OK  UNNEEDED, same version is already published
Package 43/125HostnameOS / ArchINSTALLBUILDCHECKBUILD BIN
FLAMES 1.2.2  (landing page)
Voogd Oliver
git_last_commit: 2d5808d
git_last_commit_date: 2022-08-06 23:11:02 -0400
nebbiolo1Linux (Ubuntu 20.04.4 LTS) / x86_64  OK    OK    OK  UNNEEDED, same version is already published
palomino3Windows Server 2022 Datacenter / x64  OK    OK    OK    OK  YES
merida1macOS 10.14.6 Mojave / x86_64  OK    OK    OK    OK  UNNEEDED, same version is already published
Package 44/125HostnameOS / ArchINSTALLBUILDCHECKBUILD BIN
FRASER 1.8.1  (landing page)
Christian Mertes
git_last_commit: 8cf91e1
git_last_commit_date: 2022-06-28 17:38:57 -0400
nebbiolo1Linux (Ubuntu 20.04.4 LTS) / x86_64  OK    OK    OK  UNNEEDED, same version is already published
palomino3Windows Server 2022 Datacenter / x64  OK    OK    OK    OK  UNNEEDED, same version is already published
merida1macOS 10.14.6 Mojave / x86_64  OK    OK    OK    OK  UNNEEDED, same version is already published
Package 45/125HostnameOS / ArchINSTALLBUILDCHECKBUILD BIN
GA4GHshiny 1.18.0  (landing page)
Welliton Souza
git_last_commit: c86a8b8
git_last_commit_date: 2022-04-26 11:41:05 -0400
nebbiolo1Linux (Ubuntu 20.04.4 LTS) / x86_64  OK    OK    OK  UNNEEDED, same version is already published
palomino3Windows Server 2022 Datacenter / x64  OK    OK    OK    OK  UNNEEDED, same version is already published
merida1macOS 10.14.6 Mojave / x86_64  OK    OK    OK    OK  UNNEEDED, same version is already published
Package 46/125HostnameOS / ArchINSTALLBUILDCHECKBUILD BIN
genbankr 1.24.0  (landing page)
Gabriel Becker
git_last_commit: e4d05e1
git_last_commit_date: 2022-04-26 11:31:47 -0400
nebbiolo1Linux (Ubuntu 20.04.4 LTS) / x86_64  OK    OK    OK  UNNEEDED, same version is already published
palomino3Windows Server 2022 Datacenter / x64  OK    OK    OK    OK  UNNEEDED, same version is already published
merida1macOS 10.14.6 Mojave / x86_64  OK    OK    OK    OK  UNNEEDED, same version is already published
Package 47/125HostnameOS / ArchINSTALLBUILDCHECKBUILD BIN
geneAttribution 1.22.0  (landing page)
Arthur Wuster
git_last_commit: bd28194
git_last_commit_date: 2022-04-26 11:35:08 -0400
nebbiolo1Linux (Ubuntu 20.04.4 LTS) / x86_64  OK    OK    OK  UNNEEDED, same version is already published
palomino3Windows Server 2022 Datacenter / x64  OK    OK    OK    OK  UNNEEDED, same version is already published
merida1macOS 10.14.6 Mojave / x86_64  OK    OK    OK    OK  UNNEEDED, same version is already published
Package 48/125HostnameOS / ArchINSTALLBUILDCHECKBUILD BIN
GenomicInteractionNodes 1.0.0  (landing page)
Jianhong Ou
git_last_commit: 1f9082e
git_last_commit_date: 2022-04-26 12:22:49 -0400
nebbiolo1Linux (Ubuntu 20.04.4 LTS) / x86_64  OK    OK    OK  UNNEEDED, same version is already published
palomino3Windows Server 2022 Datacenter / x64  OK    OK    OK    OK  UNNEEDED, same version is already published
merida1macOS 10.14.6 Mojave / x86_64  OK    OK    OK    OK  UNNEEDED, same version is already published
Package 49/125HostnameOS / ArchINSTALLBUILDCHECKBUILD BIN
GenVisR 1.28.0  (landing page)
Zachary Skidmore
git_last_commit: c6c6b57
git_last_commit_date: 2022-04-26 11:29:04 -0400
nebbiolo1Linux (Ubuntu 20.04.4 LTS) / x86_64  ERROR    ERROR  skipped
palomino3Windows Server 2022 Datacenter / x64  ERROR    ERROR  skippedskipped
merida1macOS 10.14.6 Mojave / x86_64  ERROR    ERROR  skippedskipped
Package 50/125HostnameOS / ArchINSTALLBUILDCHECKBUILD BIN
ggbio 1.44.1  (landing page)
Michael Lawrence
git_last_commit: 0301d94
git_last_commit_date: 2022-06-22 15:18:55 -0400
nebbiolo1Linux (Ubuntu 20.04.4 LTS) / x86_64  OK    OK    WARNINGS  UNNEEDED, same version is already published
palomino3Windows Server 2022 Datacenter / x64  OK    OK    WARNINGS    OK  UNNEEDED, same version is already published
merida1macOS 10.14.6 Mojave / x86_64  OK    OK    WARNINGS    OK  UNNEEDED, same version is already published
Package 51/125HostnameOS / ArchINSTALLBUILDCHECKBUILD BIN
gmapR 1.38.0  (landing page)
Michael Lawrence
git_last_commit: f762532
git_last_commit_date: 2022-04-26 11:11:32 -0400
nebbiolo1Linux (Ubuntu 20.04.4 LTS) / x86_64  OK    OK    WARNINGS  UNNEEDED, same version is already published
palomino3Windows Server 2022 Datacenter / x64... NOT SUPPORTED ...
merida1macOS 10.14.6 Mojave / x86_64  OK    OK    WARNINGS    OK  UNNEEDED, same version is already published
Package 52/125HostnameOS / ArchINSTALLBUILDCHECKBUILD BIN
gmoviz 1.8.0  (landing page)
Kathleen Zeglinski
git_last_commit: 0b320c6
git_last_commit_date: 2022-04-26 12:03:37 -0400
nebbiolo1Linux (Ubuntu 20.04.4 LTS) / x86_64  OK    OK    OK  UNNEEDED, same version is already published
palomino3Windows Server 2022 Datacenter / x64  OK    OK    OK    OK  UNNEEDED, same version is already published
merida1macOS 10.14.6 Mojave / x86_64  OK    OK    OK    OK  UNNEEDED, same version is already published
Package 53/125HostnameOS / ArchINSTALLBUILDCHECKBUILD BIN
GSReg 1.30.0  (landing page)
Bahman Afsari , Elana J. Fertig
git_last_commit: 69afe4a
git_last_commit_date: 2022-04-26 11:20:30 -0400
nebbiolo1Linux (Ubuntu 20.04.4 LTS) / x86_64  OK    OK    WARNINGS  UNNEEDED, same version is already published
palomino3Windows Server 2022 Datacenter / x64  OK    OK    WARNINGS    OK  UNNEEDED, same version is already published
merida1macOS 10.14.6 Mojave / x86_64  OK    OK    WARNINGS    OK  UNNEEDED, same version is already published
Package 54/125HostnameOS / ArchINSTALLBUILDCHECKBUILD BIN
GUIDEseq 1.26.0  (landing page)
Lihua Julie Zhu
git_last_commit: 46778e1
git_last_commit_date: 2022-04-26 11:27:51 -0400
nebbiolo1Linux (Ubuntu 20.04.4 LTS) / x86_64  OK    OK    OK  UNNEEDED, same version is already published
palomino3Windows Server 2022 Datacenter / x64  OK    OK    OK    OK  UNNEEDED, same version is already published
merida1macOS 10.14.6 Mojave / x86_64  OK    OK    OK    OK  UNNEEDED, same version is already published
Package 55/125HostnameOS / ArchINSTALLBUILDCHECKBUILD BIN
Guitar 2.12.0  (landing page)
Jia Meng
git_last_commit: 864335b
git_last_commit_date: 2022-04-26 11:27:26 -0400
nebbiolo1Linux (Ubuntu 20.04.4 LTS) / x86_64  OK    OK    OK  UNNEEDED, same version is already published
palomino3Windows Server 2022 Datacenter / x64  OK    OK    OK    OK  UNNEEDED, same version is already published
merida1macOS 10.14.6 Mojave / x86_64  OK    OK    OK    OK  UNNEEDED, same version is already published
Package 56/125HostnameOS / ArchINSTALLBUILDCHECKBUILD BIN
Gviz 1.40.1  (landing page)
Robert Ivanek
git_last_commit: d218437
git_last_commit_date: 2022-05-03 13:45:39 -0400
nebbiolo1Linux (Ubuntu 20.04.4 LTS) / x86_64  OK    OK    OK  UNNEEDED, same version is already published
palomino3Windows Server 2022 Datacenter / x64  OK    OK    OK    OK  UNNEEDED, same version is already published
merida1macOS 10.14.6 Mojave / x86_64  OK    OK    OK    OK  UNNEEDED, same version is already published
Package 57/125HostnameOS / ArchINSTALLBUILDCHECKBUILD BIN
gwascat 2.28.1  (landing page)
VJ Carey
git_last_commit: 10f9469
git_last_commit_date: 2022-05-06 07:16:29 -0400
nebbiolo1Linux (Ubuntu 20.04.4 LTS) / x86_64  OK    OK    OK  UNNEEDED, same version is already published
palomino3Windows Server 2022 Datacenter / x64  OK    OK    OK    OK  UNNEEDED, same version is already published
merida1macOS 10.14.6 Mojave / x86_64  OK    OK    OK    OK  UNNEEDED, same version is already published
Package 58/125HostnameOS / ArchINSTALLBUILDCHECKBUILD BIN
HelloRanges 1.22.0  (landing page)
Michael Lawrence
git_last_commit: 7a1e113
git_last_commit_date: 2022-04-26 11:36:49 -0400
nebbiolo1Linux (Ubuntu 20.04.4 LTS) / x86_64  OK    OK    OK  UNNEEDED, same version is already published
palomino3Windows Server 2022 Datacenter / x64  OK    OK    OK    OK  UNNEEDED, same version is already published
merida1macOS 10.14.6 Mojave / x86_64  OK    OK    OK    OK  UNNEEDED, same version is already published
Package 59/125HostnameOS / ArchINSTALLBUILDCHECKBUILD BIN
HiLDA 1.10.0  (landing page)
Zhi Yang
git_last_commit: 3956244
git_last_commit_date: 2022-04-26 11:57:36 -0400
nebbiolo1Linux (Ubuntu 20.04.4 LTS) / x86_64  OK    OK    OK  UNNEEDED, same version is already published
palomino3Windows Server 2022 Datacenter / x64  OK    OK    OK    OK  UNNEEDED, same version is already published
merida1macOS 10.14.6 Mojave / x86_64  OK    OK    OK    OK  UNNEEDED, same version is already published
Package 60/125HostnameOS / ArchINSTALLBUILDCHECKBUILD BIN
HTSeqGenie 4.26.0  (landing page)
Jens Reeder
git_last_commit: a3c4a34
git_last_commit_date: 2022-04-26 11:12:25 -0400
nebbiolo1Linux (Ubuntu 20.04.4 LTS) / x86_64  OK    OK    ERROR  
palomino3Windows Server 2022 Datacenter / x64... NOT SUPPORTED ...
merida1macOS 10.14.6 Mojave / x86_64... NOT SUPPORTED ...
Package 61/125HostnameOS / ArchINSTALLBUILDCHECKBUILD BIN
icetea 1.14.0  (landing page)
Vivek Bhardwaj
git_last_commit: 5220193
git_last_commit_date: 2022-04-26 11:49:42 -0400
nebbiolo1Linux (Ubuntu 20.04.4 LTS) / x86_64  OK    OK    OK  UNNEEDED, same version is already published
palomino3Windows Server 2022 Datacenter / x64  OK    OK    OK    OK  UNNEEDED, same version is already published
merida1macOS 10.14.6 Mojave / x86_64  OK    OK    OK    OK  UNNEEDED, same version is already published
Package 62/125HostnameOS / ArchINSTALLBUILDCHECKBUILD BIN
IMAS 1.20.0  (landing page)
Seonggyun Han
git_last_commit: 9121197
git_last_commit_date: 2022-04-26 11:40:23 -0400
nebbiolo1Linux (Ubuntu 20.04.4 LTS) / x86_64  OK    OK    OK  UNNEEDED, same version is already published
palomino3Windows Server 2022 Datacenter / x64  OK    OK    OK    OK  UNNEEDED, same version is already published
merida1macOS 10.14.6 Mojave / x86_64  OK    OK    OK    OK  UNNEEDED, same version is already published
Package 63/125HostnameOS / ArchINSTALLBUILDCHECKBUILD BIN
InPAS 2.4.0  (landing page)
Jianhong Ou
git_last_commit: 2de589d
git_last_commit_date: 2022-04-26 11:24:21 -0400
nebbiolo1Linux (Ubuntu 20.04.4 LTS) / x86_64  OK    OK    OK  UNNEEDED, same version is already published
palomino3Windows Server 2022 Datacenter / x64  OK    OK    OK    OK  UNNEEDED, same version is already published
merida1macOS 10.14.6 Mojave / x86_64  OK    OK    OK    OK  UNNEEDED, same version is already published
Package 64/125HostnameOS / ArchINSTALLBUILDCHECKBUILD BIN
INSPEcT 1.26.0  (landing page)
Stefano de Pretis
git_last_commit: 8ba12ec
git_last_commit_date: 2022-04-26 11:26:03 -0400
nebbiolo1Linux (Ubuntu 20.04.4 LTS) / x86_64  OK    OK    OK  UNNEEDED, same version is already published
palomino3Windows Server 2022 Datacenter / x64  OK    OK    OK    OK  UNNEEDED, same version is already published
merida1macOS 10.14.6 Mojave / x86_64  OK    OK    OK    OK  UNNEEDED, same version is already published
Package 65/125HostnameOS / ArchINSTALLBUILDCHECKBUILD BIN
IntEREst 1.20.0  (landing page)
Ali Oghabian , Mikko Frilander
git_last_commit: 0a7909c
git_last_commit_date: 2022-04-26 11:39:28 -0400
nebbiolo1Linux (Ubuntu 20.04.4 LTS) / x86_64  OK    OK    OK  UNNEEDED, same version is already published
palomino3Windows Server 2022 Datacenter / x64  OK    OK    OK    OK  UNNEEDED, same version is already published
merida1macOS 10.14.6 Mojave / x86_64  OK    OK    OK    OK  UNNEEDED, same version is already published
Package 66/125HostnameOS / ArchINSTALLBUILDCHECKBUILD BIN
IVAS 2.16.0  (landing page)
Seonggyun Han
git_last_commit: efada2b
git_last_commit_date: 2022-04-26 11:23:37 -0400
nebbiolo1Linux (Ubuntu 20.04.4 LTS) / x86_64  OK    OK    WARNINGS  UNNEEDED, same version is already published
palomino3Windows Server 2022 Datacenter / x64  OK    OK    WARNINGS    OK  UNNEEDED, same version is already published
merida1macOS 10.14.6 Mojave / x86_64  OK    OK    WARNINGS    OK  UNNEEDED, same version is already published
Package 67/125HostnameOS / ArchINSTALLBUILDCHECKBUILD BIN
karyoploteR 1.22.0  (landing page)
Bernat Gel
git_last_commit: c0d3786
git_last_commit_date: 2022-04-26 11:38:43 -0400
nebbiolo1Linux (Ubuntu 20.04.4 LTS) / x86_64  OK    OK    OK  UNNEEDED, same version is already published
palomino3Windows Server 2022 Datacenter / x64  OK    OK    OK    OK  UNNEEDED, same version is already published
merida1macOS 10.14.6 Mojave / x86_64  OK    OK    OK    OK  UNNEEDED, same version is already published
Package 68/125HostnameOS / ArchINSTALLBUILDCHECKBUILD BIN
lumi 2.48.0  (landing page)
Lei Huang
git_last_commit: 1f988ff
git_last_commit_date: 2022-04-26 10:59:08 -0400
nebbiolo1Linux (Ubuntu 20.04.4 LTS) / x86_64  OK    OK    WARNINGS  UNNEEDED, same version is already published
palomino3Windows Server 2022 Datacenter / x64  OK    OK    WARNINGS    OK  UNNEEDED, same version is already published
merida1macOS 10.14.6 Mojave / x86_64  OK    OK    WARNINGS    OK  UNNEEDED, same version is already published
Package 69/125HostnameOS / ArchINSTALLBUILDCHECKBUILD BIN
mCSEA 1.16.0  (landing page)
Jordi Martorell-Marugán
git_last_commit: a472086
git_last_commit_date: 2022-04-26 11:46:27 -0400
nebbiolo1Linux (Ubuntu 20.04.4 LTS) / x86_64  OK    OK    OK  UNNEEDED, same version is already published
palomino3Windows Server 2022 Datacenter / x64  OK    OK    OK    OK  UNNEEDED, same version is already published
merida1macOS 10.14.6 Mojave / x86_64  OK    OK    OK    OK  UNNEEDED, same version is already published
Package 70/125HostnameOS / ArchINSTALLBUILDCHECKBUILD BIN
metagene 2.28.0  (landing page)
Charles Joly Beauparlant
git_last_commit: 7b0217b
git_last_commit_date: 2022-04-26 11:20:50 -0400
nebbiolo1Linux (Ubuntu 20.04.4 LTS) / x86_64  ERROR    ERROR  skipped
palomino3Windows Server 2022 Datacenter / x64  ERROR    ERROR  skippedskipped
merida1macOS 10.14.6 Mojave / x86_64  ERROR    ERROR  skippedskipped
Package 71/125HostnameOS / ArchINSTALLBUILDCHECKBUILD BIN
metaseqR2 1.8.2  (landing page)
Panagiotis Moulos
git_last_commit: 2576302
git_last_commit_date: 2022-07-08 15:46:55 -0400
nebbiolo1Linux (Ubuntu 20.04.4 LTS) / x86_64  OK    OK    WARNINGS  UNNEEDED, same version is already published
palomino3Windows Server 2022 Datacenter / x64  OK    OK    WARNINGS    OK  NO, package depends on 'DSS' which is not available
merida1macOS 10.14.6 Mojave / x86_64  OK    OK    WARNINGS    OK  UNNEEDED, same version is already published
Package 72/125HostnameOS / ArchINSTALLBUILDCHECKBUILD BIN
methylumi 2.42.0  (landing page)
Sean Davis
git_last_commit: 73e9c7f
git_last_commit_date: 2022-04-26 11:03:01 -0400
nebbiolo1Linux (Ubuntu 20.04.4 LTS) / x86_64  OK    OK    OK  UNNEEDED, same version is already published
palomino3Windows Server 2022 Datacenter / x64  OK    OK    OK    OK  UNNEEDED, same version is already published
merida1macOS 10.14.6 Mojave / x86_64  OK    OK    OK    OK  UNNEEDED, same version is already published
Package 73/125HostnameOS / ArchINSTALLBUILDCHECKBUILD BIN
msgbsR 1.20.0  (landing page)
Benjamin Mayne
git_last_commit: acb23f0
git_last_commit_date: 2022-04-26 11:40:59 -0400
nebbiolo1Linux (Ubuntu 20.04.4 LTS) / x86_64  OK    OK    OK  UNNEEDED, same version is already published
palomino3Windows Server 2022 Datacenter / x64  OK    OK    OK    OK  UNNEEDED, same version is already published
merida1macOS 10.14.6 Mojave / x86_64  OK    OK    OK    OK  UNNEEDED, same version is already published
Package 74/125HostnameOS / ArchINSTALLBUILDCHECKBUILD BIN
multicrispr 1.6.0  (landing page)
Aditya Bhagwat
git_last_commit: 0f3e6be
git_last_commit_date: 2022-04-26 12:05:55 -0400
nebbiolo1Linux (Ubuntu 20.04.4 LTS) / x86_64  OK    OK    OK  UNNEEDED, same version is already published
palomino3Windows Server 2022 Datacenter / x64  OK    OK    OK    OK  UNNEEDED, same version is already published
merida1macOS 10.14.6 Mojave / x86_64  OK    OK    OK    OK  UNNEEDED, same version is already published
Package 75/125HostnameOS / ArchINSTALLBUILDCHECKBUILD BIN
musicatk 1.6.0  (landing page)
Aaron Chevalier
git_last_commit: a04eaa9
git_last_commit_date: 2022-04-26 12:09:57 -0400
nebbiolo1Linux (Ubuntu 20.04.4 LTS) / x86_64  OK    OK    OK  UNNEEDED, same version is already published
palomino3Windows Server 2022 Datacenter / x64  OK    OK    OK    OK  UNNEEDED, same version is already published
merida1macOS 10.14.6 Mojave / x86_64  OK    OK    OK    OK  UNNEEDED, same version is already published
Package 76/125HostnameOS / ArchINSTALLBUILDCHECKBUILD BIN
mygene 1.32.0  (landing page)
Adam Mark, Cyrus Afrasiabi, Chunlei Wu
git_last_commit: a9dfdfc
git_last_commit_date: 2022-04-26 11:22:50 -0400
nebbiolo1Linux (Ubuntu 20.04.4 LTS) / x86_64  OK    OK    OK  UNNEEDED, same version is already published
palomino3Windows Server 2022 Datacenter / x64  OK    OK    OK    OK  UNNEEDED, same version is already published
merida1macOS 10.14.6 Mojave / x86_64  OK    OK    OK    OK  UNNEEDED, same version is already published
Package 77/125HostnameOS / ArchINSTALLBUILDCHECKBUILD BIN
NoRCE 1.8.0  (landing page)
Gulden Olgun
git_last_commit: ffeef02
git_last_commit_date: 2022-04-26 12:03:27 -0400
nebbiolo1Linux (Ubuntu 20.04.4 LTS) / x86_64  OK    OK    OK  UNNEEDED, same version is already published
palomino3Windows Server 2022 Datacenter / x64  OK    OK    OK    OK  UNNEEDED, same version is already published
merida1macOS 10.14.6 Mojave / x86_64  OK    OK    OK    OK  UNNEEDED, same version is already published
Package 78/125HostnameOS / ArchINSTALLBUILDCHECKBUILD BIN
ORFik 1.16.3  (landing page)
Haakon Tjeldnes
git_last_commit: 362e64f
git_last_commit_date: 2022-07-20 09:49:06 -0400
nebbiolo1Linux (Ubuntu 20.04.4 LTS) / x86_64  OK    OK    OK  UNNEEDED, same version is already published
palomino3Windows Server 2022 Datacenter / x64  OK    OK    OK    OK  UNNEEDED, same version is already published
merida1macOS 10.14.6 Mojave / x86_64  OK    OK    OK    OK  UNNEEDED, same version is already published
Package 79/125HostnameOS / ArchINSTALLBUILDCHECKBUILD BIN
Organism.dplyr 1.24.0  (landing page)
Martin Morgan
git_last_commit: 663cc68
git_last_commit_date: 2022-04-26 11:39:15 -0400
nebbiolo1Linux (Ubuntu 20.04.4 LTS) / x86_64  OK    OK    OK  UNNEEDED, same version is already published
palomino3Windows Server 2022 Datacenter / x64  OK    OK    OK    OK  UNNEEDED, same version is already published
merida1macOS 10.14.6 Mojave / x86_64  OK    OK    OK    OK  UNNEEDED, same version is already published
Package 80/125HostnameOS / ArchINSTALLBUILDCHECKBUILD BIN
OrganismDbi 1.38.1  (landing page)
Bioconductor Package Maintainer
git_last_commit: fa8da4d
git_last_commit_date: 2022-06-16 12:36:05 -0400
nebbiolo1Linux (Ubuntu 20.04.4 LTS) / x86_64  OK    OK    OK  UNNEEDED, same version is already published
palomino3Windows Server 2022 Datacenter / x64  OK    OK    OK    OK  UNNEEDED, same version is already published
merida1macOS 10.14.6 Mojave / x86_64  OK    OK    OK    OK  UNNEEDED, same version is already published
Package 81/125HostnameOS / ArchINSTALLBUILDCHECKBUILD BIN
OUTRIDER 1.14.0  (landing page)
Christian Mertes
git_last_commit: b1aff8f
git_last_commit_date: 2022-04-26 11:50:01 -0400
nebbiolo1Linux (Ubuntu 20.04.4 LTS) / x86_64  OK    OK    OK  UNNEEDED, same version is already published
palomino3Windows Server 2022 Datacenter / x64  OK    OK    OK    OK  UNNEEDED, same version is already published
merida1macOS 10.14.6 Mojave / x86_64  OK    OK    OK    OK  UNNEEDED, same version is already published
Package 82/125HostnameOS / ArchINSTALLBUILDCHECKBUILD BIN
proActiv 1.6.0  (landing page)
Joseph Lee
git_last_commit: e817eaa
git_last_commit_date: 2022-04-26 12:08:21 -0400
nebbiolo1Linux (Ubuntu 20.04.4 LTS) / x86_64  OK    OK    OK  UNNEEDED, same version is already published
palomino3Windows Server 2022 Datacenter / x64  OK    OK    OK    OK  UNNEEDED, same version is already published
merida1macOS 10.14.6 Mojave / x86_64  OK    OK    OK    OK  UNNEEDED, same version is already published
Package 83/125HostnameOS / ArchINSTALLBUILDCHECKBUILD BIN
proBAMr 1.30.0  (landing page)
Xiaojing Wang
git_last_commit: efcd524
git_last_commit_date: 2022-04-26 11:22:00 -0400
nebbiolo1Linux (Ubuntu 20.04.4 LTS) / x86_64  OK    OK    OK  UNNEEDED, same version is already published
palomino3Windows Server 2022 Datacenter / x64  OK    OK    OK    OK  UNNEEDED, same version is already published
merida1macOS 10.14.6 Mojave / x86_64  OK    OK    OK    OK  UNNEEDED, same version is already published
Package 84/125HostnameOS / ArchINSTALLBUILDCHECKBUILD BIN
profileplyr 1.12.0  (landing page)
Tom Carroll , Doug Barrows
git_last_commit: cabfef2
git_last_commit_date: 2022-04-26 11:54:38 -0400
nebbiolo1Linux (Ubuntu 20.04.4 LTS) / x86_64  OK    OK    OK  UNNEEDED, same version is already published
palomino3Windows Server 2022 Datacenter / x64  OK    OK    OK    OK  UNNEEDED, same version is already published
merida1macOS 10.14.6 Mojave / x86_64  OK    OK    OK    OK  UNNEEDED, same version is already published
Package 85/125HostnameOS / ArchINSTALLBUILDCHECKBUILD BIN
ProteoDisco 1.2.0  (landing page)
Job van Riet
git_last_commit: 80e3957
git_last_commit_date: 2022-04-26 12:18:02 -0400
nebbiolo1Linux (Ubuntu 20.04.4 LTS) / x86_64  OK    OK    WARNINGS  UNNEEDED, same version is already published
palomino3Windows Server 2022 Datacenter / x64  OK    OK    WARNINGS    OK  UNNEEDED, same version is already published
merida1macOS 10.14.6 Mojave / x86_64  OK    OK    WARNINGS    OK  UNNEEDED, same version is already published
Package 86/125HostnameOS / ArchINSTALLBUILDCHECKBUILD BIN
PureCN 2.2.0  (landing page)
Markus Riester
git_last_commit: 008f1dd
git_last_commit_date: 2022-04-26 11:31:56 -0400
nebbiolo1Linux (Ubuntu 20.04.4 LTS) / x86_64  OK    OK    OK  UNNEEDED, same version is already published
palomino3Windows Server 2022 Datacenter / x64  OK    OK    OK    OK  UNNEEDED, same version is already published
merida1macOS 10.14.6 Mojave / x86_64  OK    OK    OK    OK  UNNEEDED, same version is already published
Package 87/125HostnameOS / ArchINSTALLBUILDCHECKBUILD BIN
qpgraph 2.30.0  (landing page)
Robert Castelo
git_last_commit: 58c292b
git_last_commit_date: 2022-04-26 11:02:28 -0400
nebbiolo1Linux (Ubuntu 20.04.4 LTS) / x86_64  OK    OK    WARNINGS  UNNEEDED, same version is already published
palomino3Windows Server 2022 Datacenter / x64  OK    OK    WARNINGS    OK  UNNEEDED, same version is already published
merida1macOS 10.14.6 Mojave / x86_64  OK    OK    WARNINGS    OK  UNNEEDED, same version is already published
Package 88/125HostnameOS / ArchINSTALLBUILDCHECKBUILD BIN
QuasR 1.36.0  (landing page)
Michael Stadler
git_last_commit: e0383d7
git_last_commit_date: 2022-04-26 11:13:15 -0400
nebbiolo1Linux (Ubuntu 20.04.4 LTS) / x86_64  OK    OK    OK  UNNEEDED, same version is already published
palomino3Windows Server 2022 Datacenter / x64  OK    OK    OK    OK  UNNEEDED, same version is already published
merida1macOS 10.14.6 Mojave / x86_64  OK    OK    OK    OK  UNNEEDED, same version is already published
Package 89/125HostnameOS / ArchINSTALLBUILDCHECKBUILD BIN
RareVariantVis 2.24.0  (landing page)
Tomasz Stokowy
git_last_commit: 94a6f09
git_last_commit_date: 2022-04-26 11:25:47 -0400
nebbiolo1Linux (Ubuntu 20.04.4 LTS) / x86_64  OK    OK    OK  UNNEEDED, same version is already published
palomino3Windows Server 2022 Datacenter / x64  OK    OK    OK    OK  UNNEEDED, same version is already published
merida1macOS 10.14.6 Mojave / x86_64  OK    OK    OK    OK  UNNEEDED, same version is already published
Package 90/125HostnameOS / ArchINSTALLBUILDCHECKBUILD BIN
RCAS 1.22.0  (landing page)
Bora Uyar
git_last_commit: 3841e30
git_last_commit_date: 2022-04-26 11:33:58 -0400
nebbiolo1Linux (Ubuntu 20.04.4 LTS) / x86_64  OK    OK    OK  UNNEEDED, same version is already published
palomino3Windows Server 2022 Datacenter / x64  OK    OK    OK    OK  UNNEEDED, same version is already published
merida1macOS 10.14.6 Mojave / x86_64  OK    OK    OK    OK  UNNEEDED, same version is already published
Package 91/125HostnameOS / ArchINSTALLBUILDCHECKBUILD BIN
rCGH 1.26.0  (landing page)
Frederic Commo
git_last_commit: 2b9e639
git_last_commit_date: 2022-04-26 11:26:10 -0400
nebbiolo1Linux (Ubuntu 20.04.4 LTS) / x86_64  OK    OK    OK  UNNEEDED, same version is already published
palomino3Windows Server 2022 Datacenter / x64  OK    OK    OK    OK  UNNEEDED, same version is already published
merida1macOS 10.14.6 Mojave / x86_64  OK    OK    OK    OK  UNNEEDED, same version is already published
Package 92/125HostnameOS / ArchINSTALLBUILDCHECKBUILD BIN
recoup 1.24.0  (landing page)
Panagiotis Moulos
git_last_commit: 945741c
git_last_commit_date: 2022-04-26 11:30:44 -0400
nebbiolo1Linux (Ubuntu 20.04.4 LTS) / x86_64  OK    OK    OK  UNNEEDED, same version is already published
palomino3Windows Server 2022 Datacenter / x64  OK    OK    OK    OK  UNNEEDED, same version is already published
merida1macOS 10.14.6 Mojave / x86_64  OK    OK    OK    OK  UNNEEDED, same version is already published
Package 93/125HostnameOS / ArchINSTALLBUILDCHECKBUILD BIN
Rhisat2 1.12.0  (landing page)
Charlotte Soneson
git_last_commit: 8a93852
git_last_commit_date: 2022-04-26 11:52:48 -0400
nebbiolo1Linux (Ubuntu 20.04.4 LTS) / x86_64  OK    OK    WARNINGS  UNNEEDED, same version is already published
palomino3Windows Server 2022 Datacenter / x64  OK    OK    WARNINGS    OK  UNNEEDED, same version is already published
merida1macOS 10.14.6 Mojave / x86_64  OK    OK    OK    OK  UNNEEDED, same version is already published
Package 94/125HostnameOS / ArchINSTALLBUILDCHECKBUILD BIN
RiboCrypt 1.2.0  (landing page)
Michal Swirski
git_last_commit: d80a3e1
git_last_commit_date: 2022-04-26 12:19:48 -0400
nebbiolo1Linux (Ubuntu 20.04.4 LTS) / x86_64  OK    OK    OK  UNNEEDED, same version is already published
palomino3Windows Server 2022 Datacenter / x64  OK    OK    OK    OK  UNNEEDED, same version is already published
merida1macOS 10.14.6 Mojave / x86_64  OK    OK    OK    OK  UNNEEDED, same version is already published
Package 95/125HostnameOS / ArchINSTALLBUILDCHECKBUILD BIN
RiboDiPA 1.4.1  (landing page)
Ji-Ping Wang
git_last_commit: 6817f37
git_last_commit_date: 2022-06-25 08:41:30 -0400
nebbiolo1Linux (Ubuntu 20.04.4 LTS) / x86_64  OK    OK    OK  UNNEEDED, same version is already published
palomino3Windows Server 2022 Datacenter / x64  OK    OK    OK    OK  UNNEEDED, same version is already published
merida1macOS 10.14.6 Mojave / x86_64  OK    OK    OK    OK  UNNEEDED, same version is already published
Package 96/125HostnameOS / ArchINSTALLBUILDCHECKBUILD BIN
RiboProfiling 1.26.0  (landing page)
A. Popa
git_last_commit: 9f71470
git_last_commit_date: 2022-04-26 11:27:55 -0400
nebbiolo1Linux (Ubuntu 20.04.4 LTS) / x86_64  OK    OK    WARNINGS  UNNEEDED, same version is already published
palomino3Windows Server 2022 Datacenter / x64  OK    OK    WARNINGS    OK  UNNEEDED, same version is already published
merida1macOS 10.14.6 Mojave / x86_64  OK    OK    WARNINGS    OK  UNNEEDED, same version is already published
Package 97/125HostnameOS / ArchINSTALLBUILDCHECKBUILD BIN
ribosomeProfilingQC 1.8.0  (landing page)
Jianhong Ou
git_last_commit: 887822a
git_last_commit_date: 2022-04-26 12:02:49 -0400
nebbiolo1Linux (Ubuntu 20.04.4 LTS) / x86_64  OK    OK    OK  UNNEEDED, same version is already published
palomino3Windows Server 2022 Datacenter / x64  OK    OK    OK    OK  UNNEEDED, same version is already published
merida1macOS 10.14.6 Mojave / x86_64  OK    OK    OK    OK  UNNEEDED, same version is already published
Package 98/125HostnameOS / ArchINSTALLBUILDCHECKBUILD BIN
RITAN 1.20.0  (landing page)
Michael Zimmermann
git_last_commit: 3d2e50b
git_last_commit_date: 2022-04-26 11:40:54 -0400
nebbiolo1Linux (Ubuntu 20.04.4 LTS) / x86_64  OK    OK    WARNINGS  UNNEEDED, same version is already published
palomino3Windows Server 2022 Datacenter / x64  OK    OK    WARNINGS    OK  UNNEEDED, same version is already published
merida1macOS 10.14.6 Mojave / x86_64  OK    OK    WARNINGS    OK  UNNEEDED, same version is already published
Package 99/125HostnameOS / ArchINSTALLBUILDCHECKBUILD BIN
RLSeq 1.2.0  (landing page)
Henry Miller
git_last_commit: 7afa0ea
git_last_commit_date: 2022-04-26 12:20:01 -0400
nebbiolo1Linux (Ubuntu 20.04.4 LTS) / x86_64  OK    OK    OK  UNNEEDED, same version is already published
palomino3Windows Server 2022 Datacenter / x64  OK    OK    OK    OK  UNNEEDED, same version is already published
merida1macOS 10.14.6 Mojave / x86_64  OK    OK    OK    OK  UNNEEDED, same version is already published
Package 100/125HostnameOS / ArchINSTALLBUILDCHECKBUILD BIN
RNAmodR 1.10.0  (landing page)
Felix G.M. Ernst
git_last_commit: ad86538
git_last_commit_date: 2022-04-26 11:56:38 -0400
nebbiolo1Linux (Ubuntu 20.04.4 LTS) / x86_64  OK    OK    OK  UNNEEDED, same version is already published
palomino3Windows Server 2022 Datacenter / x64  OK    OK    OK    OK  UNNEEDED, same version is already published
merida1macOS 10.14.6 Mojave / x86_64  OK    OK    OK    OK  UNNEEDED, same version is already published
Package 101/125HostnameOS / ArchINSTALLBUILDCHECKBUILD BIN
scanMiRApp 1.2.0  (landing page)
Pierre-Luc Germain
git_last_commit: dc17bc4
git_last_commit_date: 2022-04-26 12:17:29 -0400
nebbiolo1Linux (Ubuntu 20.04.4 LTS) / x86_64  OK    OK    WARNINGS  UNNEEDED, same version is already published
palomino3Windows Server 2022 Datacenter / x64  OK    OK    WARNINGS    OK  UNNEEDED, same version is already published
merida1macOS 10.14.6 Mojave / x86_64  OK    OK    WARNINGS    OK  UNNEEDED, same version is already published
Package 102/125HostnameOS / ArchINSTALLBUILDCHECKBUILD BIN
scruff 1.14.0  (landing page)
Zhe Wang
git_last_commit: 9299a23
git_last_commit_date: 2022-04-26 11:50:08 -0400
nebbiolo1Linux (Ubuntu 20.04.4 LTS) / x86_64  OK    OK    OK  UNNEEDED, same version is already published
palomino3Windows Server 2022 Datacenter / x64  OK    OK    OK    OK  UNNEEDED, same version is already published
merida1macOS 10.14.6 Mojave / x86_64  OK    OK    OK    OK  UNNEEDED, same version is already published
Package 103/125HostnameOS / ArchINSTALLBUILDCHECKBUILD BIN
SGSeq 1.30.0  (landing page)
Leonard Goldstein
git_last_commit: a19e395
git_last_commit_date: 2022-04-26 11:22:24 -0400
nebbiolo1Linux (Ubuntu 20.04.4 LTS) / x86_64  OK    OK    OK  UNNEEDED, same version is already published
palomino3Windows Server 2022 Datacenter / x64  OK    OK    OK    OK  UNNEEDED, same version is already published
merida1macOS 10.14.6 Mojave / x86_64  OK    OK    OK    OK  UNNEEDED, same version is already published
Package 104/125HostnameOS / ArchINSTALLBUILDCHECKBUILD BIN
sitadela 1.4.0  (landing page)
Panagiotis Moulos
git_last_commit: 4d09305
git_last_commit_date: 2022-04-26 12:13:48 -0400
nebbiolo1Linux (Ubuntu 20.04.4 LTS) / x86_64  OK    OK    OK  UNNEEDED, same version is already published
palomino3Windows Server 2022 Datacenter / x64  OK    OK    OK    OK  UNNEEDED, same version is already published
merida1macOS 10.14.6 Mojave / x86_64  OK    OK    OK    OK  UNNEEDED, same version is already published
Package 105/125HostnameOS / ArchINSTALLBUILDCHECKBUILD BIN
spatzie 1.2.0  (landing page)
Jennifer Hammelman
git_last_commit: 0c97407
git_last_commit_date: 2022-04-26 12:17:27 -0400
nebbiolo1Linux (Ubuntu 20.04.4 LTS) / x86_64  OK    OK    OK  UNNEEDED, same version is already published
palomino3Windows Server 2022 Datacenter / x64  OK    OK    OK    OK  UNNEEDED, same version is already published
merida1macOS 10.14.6 Mojave / x86_64  OK    OK    OK    OK  UNNEEDED, same version is already published
Package 106/125HostnameOS / ArchINSTALLBUILDCHECKBUILD BIN
SplicingGraphs 1.36.0  (landing page)
H. Pagès
git_last_commit: 7151ba0
git_last_commit_date: 2022-04-26 11:14:47 -0400
nebbiolo1Linux (Ubuntu 20.04.4 LTS) / x86_64  OK    OK    WARNINGS  UNNEEDED, same version is already published
palomino3Windows Server 2022 Datacenter / x64  OK    OK    WARNINGS    OK  UNNEEDED, same version is already published
merida1macOS 10.14.6 Mojave / x86_64  OK    OK    WARNINGS    OK  UNNEEDED, same version is already published
Package 107/125HostnameOS / ArchINSTALLBUILDCHECKBUILD BIN
SPLINTER 1.22.0  (landing page)
Diana Low
git_last_commit: b0553c0
git_last_commit_date: 2022-04-26 11:35:57 -0400
nebbiolo1Linux (Ubuntu 20.04.4 LTS) / x86_64  OK    OK    OK  UNNEEDED, same version is already published
palomino3Windows Server 2022 Datacenter / x64  OK    OK    WARNINGS    OK  UNNEEDED, same version is already published
merida1macOS 10.14.6 Mojave / x86_64  OK    OK    OK    OK  UNNEEDED, same version is already published
Package 108/125HostnameOS / ArchINSTALLBUILDCHECKBUILD BIN
srnadiff 1.16.0  (landing page)
Zytnicki Matthias
git_last_commit: bbc1f73
git_last_commit_date: 2022-04-26 11:46:44 -0400
nebbiolo1Linux (Ubuntu 20.04.4 LTS) / x86_64  OK    OK    WARNINGS  UNNEEDED, same version is already published
palomino3Windows Server 2022 Datacenter / x64  OK    OK    WARNINGS    OK  UNNEEDED, same version is already published
merida1macOS 10.14.6 Mojave / x86_64  OK    OK    WARNINGS    OK  UNNEEDED, same version is already published
Package 109/125HostnameOS / ArchINSTALLBUILDCHECKBUILD BIN
StructuralVariantAnnotation 1.12.0  (landing page)
Daniel Cameron
git_last_commit: 3777c65
git_last_commit_date: 2022-04-26 11:56:16 -0400
nebbiolo1Linux (Ubuntu 20.04.4 LTS) / x86_64  OK    OK    OK  UNNEEDED, same version is already published
palomino3Windows Server 2022 Datacenter / x64  OK    OK    OK    OK  UNNEEDED, same version is already published
merida1macOS 10.14.6 Mojave / x86_64  OK    OK    OK    OK  UNNEEDED, same version is already published
Package 110/125HostnameOS / ArchINSTALLBUILDCHECKBUILD BIN
svaNUMT 1.2.0  (landing page)
Ruining Dong
git_last_commit: 19aac31
git_last_commit_date: 2022-04-26 12:16:59 -0400
nebbiolo1Linux (Ubuntu 20.04.4 LTS) / x86_64  OK    OK    OK  UNNEEDED, same version is already published
palomino3Windows Server 2022 Datacenter / x64  OK    OK    OK    OK  UNNEEDED, same version is already published
merida1macOS 10.14.6 Mojave / x86_64  OK    OK    OK    OK  UNNEEDED, same version is already published
Package 111/125HostnameOS / ArchINSTALLBUILDCHECKBUILD BIN
svaRetro 1.2.0  (landing page)
Ruining Dong
git_last_commit: 7ec810b
git_last_commit_date: 2022-04-26 12:17:57 -0400
nebbiolo1Linux (Ubuntu 20.04.4 LTS) / x86_64  OK    OK    OK  UNNEEDED, same version is already published
palomino3Windows Server 2022 Datacenter / x64  OK    OK    OK    OK  UNNEEDED, same version is already published
merida1macOS 10.14.6 Mojave / x86_64  OK    OK    OK    OK  UNNEEDED, same version is already published
Package 112/125HostnameOS / ArchINSTALLBUILDCHECKBUILD BIN
TAPseq 1.8.0  (landing page)
Andreas R. Gschwind
git_last_commit: a9faecb
git_last_commit_date: 2022-04-26 12:03:10 -0400
nebbiolo1Linux (Ubuntu 20.04.4 LTS) / x86_64  OK    OK    WARNINGS  UNNEEDED, same version is already published
palomino3Windows Server 2022 Datacenter / x64  OK    OK    WARNINGS    OK  UNNEEDED, same version is already published
merida1macOS 10.14.6 Mojave / x86_64  OK    OK    WARNINGS    OK  UNNEEDED, same version is already published
Package 113/125HostnameOS / ArchINSTALLBUILDCHECKBUILD BIN
TCGAutils 1.16.0  (landing page)
Marcel Ramos
git_last_commit: e4e2892
git_last_commit_date: 2022-04-26 11:49:00 -0400
nebbiolo1Linux (Ubuntu 20.04.4 LTS) / x86_64  OK    OK    OK  UNNEEDED, same version is already published
palomino3Windows Server 2022 Datacenter / x64  OK    OK    OK    OK  UNNEEDED, same version is already published
merida1macOS 10.14.6 Mojave / x86_64  OK    OK    OK    OK  UNNEEDED, same version is already published
Package 114/125HostnameOS / ArchINSTALLBUILDCHECKBUILD BIN
TFEA.ChIP 1.16.0  (landing page)
Laura Puente Santamaría
git_last_commit: 701616b
git_last_commit_date: 2022-04-26 11:46:02 -0400
nebbiolo1Linux (Ubuntu 20.04.4 LTS) / x86_64  OK    OK    OK  UNNEEDED, same version is already published
palomino3Windows Server 2022 Datacenter / x64  OK    OK    OK    OK  UNNEEDED, same version is already published
merida1macOS 10.14.6 Mojave / x86_64  OK    OK    OK    OK  UNNEEDED, same version is already published
Package 115/125HostnameOS / ArchINSTALLBUILDCHECKBUILD BIN
trackViewer 1.32.1  (landing page)
Jianhong Ou
git_last_commit: 7878202
git_last_commit_date: 2022-05-04 16:37:29 -0400
nebbiolo1Linux (Ubuntu 20.04.4 LTS) / x86_64  OK    OK    OK  UNNEEDED, same version is already published
palomino3Windows Server 2022 Datacenter / x64  OK    OK    OK    OK  UNNEEDED, same version is already published
merida1macOS 10.14.6 Mojave / x86_64  OK    OK    OK    OK  UNNEEDED, same version is already published
Package 116/125HostnameOS / ArchINSTALLBUILDCHECKBUILD BIN
transcriptR 1.24.0  (landing page)
Armen R. Karapetyan
git_last_commit: d4ab47e
git_last_commit_date: 2022-04-26 11:28:38 -0400
nebbiolo1Linux (Ubuntu 20.04.4 LTS) / x86_64  OK    OK    OK  UNNEEDED, same version is already published
palomino3Windows Server 2022 Datacenter / x64  OK    OK    OK    OK  UNNEEDED, same version is already published
merida1macOS 10.14.6 Mojave / x86_64  OK    OK    OK    OK  UNNEEDED, same version is already published
Package 117/125HostnameOS / ArchINSTALLBUILDCHECKBUILD BIN
TRESS 1.2.0  (landing page)
Zhenxing Guo
git_last_commit: d75a72a
git_last_commit_date: 2022-04-26 12:18:58 -0400
nebbiolo1Linux (Ubuntu 20.04.4 LTS) / x86_64  OK    OK    OK  UNNEEDED, same version is already published
palomino3Windows Server 2022 Datacenter / x64  OK    ERROR  skippedskipped
merida1macOS 10.14.6 Mojave / x86_64  OK    OK    OK    OK  UNNEEDED, same version is already published
Package 118/125HostnameOS / ArchINSTALLBUILDCHECKBUILD BIN
txcutr 1.2.0  (landing page)
Mervin Fansler
git_last_commit: 52c0f97
git_last_commit_date: 2022-04-26 12:19:46 -0400
nebbiolo1Linux (Ubuntu 20.04.4 LTS) / x86_64  OK    OK    OK  UNNEEDED, same version is already published
palomino3Windows Server 2022 Datacenter / x64  OK    OK    OK    OK  UNNEEDED, same version is already published
merida1macOS 10.14.6 Mojave / x86_64  OK    OK    OK    OK  UNNEEDED, same version is already published
Package 119/125HostnameOS / ArchINSTALLBUILDCHECKBUILD BIN
tximeta 1.14.1  (landing page)
Michael Love
git_last_commit: 6e91f08
git_last_commit_date: 2022-07-16 22:41:44 -0400
nebbiolo1Linux (Ubuntu 20.04.4 LTS) / x86_64  OK    OK    OK  UNNEEDED, same version is already published
palomino3Windows Server 2022 Datacenter / x64  OK    OK    OK    OK  UNNEEDED, same version is already published
merida1macOS 10.14.6 Mojave / x86_64  OK    OK    OK    OK  UNNEEDED, same version is already published
Package 120/125HostnameOS / ArchINSTALLBUILDCHECKBUILD BIN
Ularcirc 1.14.0  (landing page)
David Humphreys
git_last_commit: cb2b7d3
git_last_commit_date: 2022-04-26 11:49:35 -0400
nebbiolo1Linux (Ubuntu 20.04.4 LTS) / x86_64  OK    OK    WARNINGS  UNNEEDED, same version is already published
palomino3Windows Server 2022 Datacenter / x64  OK    OK    WARNINGS    OK  UNNEEDED, same version is already published
merida1macOS 10.14.6 Mojave / x86_64  OK    OK    WARNINGS    OK  UNNEEDED, same version is already published
Package 121/125HostnameOS / ArchINSTALLBUILDCHECKBUILD BIN
UMI4Cats 1.6.0  (landing page)
Mireia Ramos-Rodriguez
git_last_commit: 056cb00
git_last_commit_date: 2022-04-26 12:07:17 -0400
nebbiolo1Linux (Ubuntu 20.04.4 LTS) / x86_64  OK    OK    OK  UNNEEDED, same version is already published
palomino3Windows Server 2022 Datacenter / x64  OK    OK    OK    OK  UNNEEDED, same version is already published
merida1macOS 10.14.6 Mojave / x86_64  OK    OK    OK    OK  UNNEEDED, same version is already published
Package 122/125HostnameOS / ArchINSTALLBUILDCHECKBUILD BIN
VariantAnnotation 1.42.1  (landing page)
Bioconductor Package Maintainer
git_last_commit: d112169
git_last_commit_date: 2022-05-12 10:10:58 -0400
nebbiolo1Linux (Ubuntu 20.04.4 LTS) / x86_64  OK    OK    OK  UNNEEDED, same version is already published
palomino3Windows Server 2022 Datacenter / x64  OK    OK    OK    OK  UNNEEDED, same version is already published
merida1macOS 10.14.6 Mojave / x86_64  OK    OK    OK    OK  UNNEEDED, same version is already published
Package 123/125HostnameOS / ArchINSTALLBUILDCHECKBUILD BIN
VariantFiltering 1.32.0  (landing page)
Robert Castelo
git_last_commit: e5baf3d
git_last_commit_date: 2022-04-26 11:19:20 -0400
nebbiolo1Linux (Ubuntu 20.04.4 LTS) / x86_64  OK    OK    OK  UNNEEDED, same version is already published
palomino3Windows Server 2022 Datacenter / x64  OK    OK    OK    OK  UNNEEDED, same version is already published
merida1macOS 10.14.6 Mojave / x86_64  OK    OK    OK    OK  UNNEEDED, same version is already published
Package 124/125HostnameOS / ArchINSTALLBUILDCHECKBUILD BIN
VariantTools 1.38.0  (landing page)
Michael Lawrence
git_last_commit: 517f59a
git_last_commit_date: 2022-04-26 11:12:34 -0400
nebbiolo1Linux (Ubuntu 20.04.4 LTS) / x86_64  OK    OK    WARNINGS  UNNEEDED, same version is already published
palomino3Windows Server 2022 Datacenter / x64  OK    OK    WARNINGS    OK  UNNEEDED, same version is already published
merida1macOS 10.14.6 Mojave / x86_64  OK    OK    WARNINGS    OK  UNNEEDED, same version is already published
Package 125/125HostnameOS / ArchINSTALLBUILDCHECKBUILD BIN
wavClusteR 2.30.0  (landing page)
Federico Comoglio
git_last_commit: d2d52b1
git_last_commit_date: 2022-04-26 11:20:03 -0400
nebbiolo1Linux (Ubuntu 20.04.4 LTS) / x86_64  OK    OK    OK  UNNEEDED, same version is already published
palomino3Windows Server 2022 Datacenter / x64  OK    OK    OK    OK  UNNEEDED, same version is already published
merida1macOS 10.14.6 Mojave / x86_64  OK    OK    OK    OK  UNNEEDED, same version is already published