Back to Multiple platform build/check report for BioC 3.15
ABCDEFGHIJKLMNOPQRSTU[V]WXYZ

This page was generated on 2022-05-20 12:09:00 -0400 (Fri, 20 May 2022).

HostnameOSArch (*)R versionInstalled pkgs
nebbiolo1Linux (Ubuntu 20.04.4 LTS)x86_644.2.0 (2022-04-22) -- "Vigorous Calisthenics" 4380
palomino3Windows Server 2022 Datacenterx644.2.0 (2022-04-22 ucrt) -- "Vigorous Calisthenics" 4155
merida1macOS 10.14.6 Mojavex86_644.2.0 (2022-04-22) -- "Vigorous Calisthenics" 4221
Click on any hostname to see more info about the system (e.g. compilers)      (*) as reported by 'uname -p', except on Windows and Mac OS X

BUILD BIN results for VanillaICE on merida1


To the developers/maintainers of the VanillaICE package:
- Please allow up to 24 hours (and sometimes 48 hours) for your latest push to git@git.bioconductor.org:packages/VanillaICE.git to
reflect on this report. See How and When does the builder pull? When will my changes propagate? for more information.
- Make sure to use the following settings in order to reproduce any error or warning you see on this page.

raw results

Package 2091/2140HostnameOS / ArchINSTALLBUILDCHECKBUILD BIN
VanillaICE 1.58.0  (landing page)
Robert Scharpf
Snapshot Date: 2022-05-19 13:55:15 -0400 (Thu, 19 May 2022)
git_url: https://git.bioconductor.org/packages/VanillaICE
git_branch: RELEASE_3_15
git_last_commit: d648593
git_last_commit_date: 2022-04-26 11:00:21 -0400 (Tue, 26 Apr 2022)
nebbiolo1Linux (Ubuntu 20.04.4 LTS) / x86_64  OK    OK    WARNINGS  UNNEEDED, same version is already published
palomino3Windows Server 2022 Datacenter / x64  OK    OK    WARNINGS    OK  UNNEEDED, same version is already published
merida1macOS 10.14.6 Mojave / x86_64  OK    OK    WARNINGS    OK  UNNEEDED, same version is already published

Summary

Package: VanillaICE
Version: 1.58.0
Command: rm -rf VanillaICE.buildbin-libdir && mkdir VanillaICE.buildbin-libdir && /Users/biocbuild/BBS/utils/build-universal.sh VanillaICE_1.58.0.tar.gz /Library/Frameworks/R.framework/Resources/bin/R VanillaICE.buildbin-libdir
StartedAt: 2022-05-20 11:20:37 -0400 (Fri, 20 May 2022)
EndedAt: 2022-05-20 11:21:51 -0400 (Fri, 20 May 2022)
EllapsedTime: 73.9 seconds
RetCode: 0
Status:   OK  
PackageFile: VanillaICE_1.58.0.tgz
PackageFileSize: 3.017 MiB

Command output

##############################################################################
##############################################################################
###
### Running command:
###
###   rm -rf VanillaICE.buildbin-libdir && mkdir VanillaICE.buildbin-libdir && /Users/biocbuild/BBS/utils/build-universal.sh VanillaICE_1.58.0.tar.gz /Library/Frameworks/R.framework/Resources/bin/R VanillaICE.buildbin-libdir
###
##############################################################################
##############################################################################


>>>>>>> 
>>>>>>> INSTALLATION WITH 'R CMD INSTALL --preclean --no-multiarch --library=VanillaICE.buildbin-libdir VanillaICE_1.58.0.tar.gz'
>>>>>>> 

* installing *source* package ‘VanillaICE’ ...
** using staged installation
** libs
clang -mmacosx-version-min=10.13 -I"/Library/Frameworks/R.framework/Resources/include" -DNDEBUG   -I/usr/local/include   -fPIC  -Wall -g -O2  -c rinit.c -o rinit.o
clang -mmacosx-version-min=10.13 -I"/Library/Frameworks/R.framework/Resources/include" -DNDEBUG   -I/usr/local/include   -fPIC  -Wall -g -O2  -c viterbi.c -o viterbi.o
clang -mmacosx-version-min=10.13 -dynamiclib -Wl,-headerpad_max_install_names -undefined dynamic_lookup -single_module -multiply_defined suppress -L/Library/Frameworks/R.framework/Resources/lib -L/usr/local/lib -o VanillaICE.so rinit.o viterbi.o -lm -F/Library/Frameworks/R.framework/.. -framework R -Wl,-framework -Wl,CoreFoundation
installing to /Users/biocbuild/bbs-3.15-bioc/meat/VanillaICE.buildbin-libdir/00LOCK-VanillaICE/00new/VanillaICE/libs
** R
** data
** inst
** byte-compile and prepare package for lazy loading
No methods found in package ‘oligoClasses’ for request: ‘mean’ when loading ‘crlmm’
Creating a new generic function for ‘distance’ in package ‘VanillaICE’
** help
*** installing help indices
** building package indices
** installing vignettes
** testing if installed package can be loaded from temporary location
No methods found in package ‘oligoClasses’ for request: ‘mean’ when loading ‘crlmm’
** checking absolute paths in shared objects and dynamic libraries
** testing if installed package can be loaded from final location
No methods found in package ‘oligoClasses’ for request: ‘mean’ when loading ‘crlmm’
** testing if installed package keeps a record of temporary installation path
* DONE (VanillaICE)


>>>>>>> 
>>>>>>> FIXING LINKS FOR VanillaICE.buildbin-libdir/VanillaICE/libs/VanillaICE.so
>>>>>>> 

install_name_tool -change "/usr/local/lib/libgcc_s.1.dylib" "/Library/Frameworks/R.framework/Versions/4.2/Resources/lib/libgcc_s.1.dylib" "VanillaICE.buildbin-libdir/VanillaICE/libs/VanillaICE.so"
install_name_tool -change "/usr/local/lib/libgfortran.5.dylib" "/Library/Frameworks/R.framework/Versions/4.2/Resources/lib/libgfortran.5.dylib" "VanillaICE.buildbin-libdir/VanillaICE/libs/VanillaICE.so"
install_name_tool -change "/usr/local/lib/libquadmath.0.dylib" "/Library/Frameworks/R.framework/Versions/4.2/Resources/lib/libquadmath.0.dylib" "VanillaICE.buildbin-libdir/VanillaICE/libs/VanillaICE.so"