Back to Multiple platform build/check report for BioC 3.15
ABCDEFGHIJKLMNO[P]QRSTUVWXYZ

This page was generated on 2022-08-15 13:21:54 -0400 (Mon, 15 Aug 2022).

HostnameOSArch (*)R versionInstalled pkgs
nebbiolo1Linux (Ubuntu 20.04.4 LTS)x86_644.2.1 (2022-06-23) -- "Funny-Looking Kid" 4365
palomino3Windows Server 2022 Datacenterx644.2.1 (2022-06-23 ucrt) -- "Funny-Looking Kid" 4118
merida1macOS 10.14.6 Mojavex86_644.2.1 (2022-06-23) -- "Funny-Looking Kid" 4183
Click on any hostname to see more info about the system (e.g. compilers)      (*) as reported by 'uname -p', except on Windows and Mac OS X

BUILD results for PAST on palomino3


To the developers/maintainers of the PAST package:
- Please allow up to 24 hours (and sometimes 48 hours) for your latest push to git@git.bioconductor.org:packages/PAST.git to
reflect on this report. See How and When does the builder pull? When will my changes propagate? for more information.
- Make sure to use the following settings in order to reproduce any error or warning you see on this page.

raw results

Package 1411/2140HostnameOS / ArchINSTALLBUILDCHECKBUILD BIN
PAST 1.12.0  (landing page)
Thrash Adam
Snapshot Date: 2022-08-14 13:55:13 -0400 (Sun, 14 Aug 2022)
git_url: https://git.bioconductor.org/packages/PAST
git_branch: RELEASE_3_15
git_last_commit: 4659dad
git_last_commit_date: 2022-04-26 11:56:12 -0400 (Tue, 26 Apr 2022)
nebbiolo1Linux (Ubuntu 20.04.4 LTS) / x86_64  OK    OK    WARNINGS  UNNEEDED, same version is already published
palomino3Windows Server 2022 Datacenter / x64  OK    OK    WARNINGS    OK  UNNEEDED, same version is already published
merida1macOS 10.14.6 Mojave / x86_64  OK    OK    WARNINGS    OK  UNNEEDED, same version is already published

Summary

Package: PAST
Version: 1.12.0
Command: chmod a+r PAST -R && F:\biocbuild\bbs-3.15-bioc\R\bin\R.exe CMD build --keep-empty-dirs --no-resave-data PAST
StartedAt: 2022-08-14 20:01:36 -0400 (Sun, 14 Aug 2022)
EndedAt: 2022-08-14 20:05:12 -0400 (Sun, 14 Aug 2022)
EllapsedTime: 215.9 seconds
RetCode: 0
Status:   OK  
PackageFile: PAST_1.12.0.tar.gz
PackageFileSize: 954.2 KiB

Command output

##############################################################################
##############################################################################
###
### Running command:
###
###   chmod a+r PAST -R && F:\biocbuild\bbs-3.15-bioc\R\bin\R.exe CMD build --keep-empty-dirs --no-resave-data PAST
###
##############################################################################
##############################################################################


* checking for file 'PAST/DESCRIPTION' ... OK
* preparing 'PAST':
* checking DESCRIPTION meta-information ... OK
* installing the package to build vignettes
* creating vignettes ... OK
* checking for LF line-endings in source and make files and shell scripts
* checking for empty or unneeded directories
* building 'PAST_1.12.0.tar.gz'