Back to Multiple platform build/check report for BioC 3.15
ABCDEFGH[I]JKLMNOPQRSTUVWXYZ

This page was generated on 2022-06-24 12:06:10 -0400 (Fri, 24 Jun 2022).

HostnameOSArch (*)R versionInstalled pkgs
nebbiolo1Linux (Ubuntu 20.04.4 LTS)x86_644.2.0 (2022-04-22) -- "Vigorous Calisthenics" 4380
palomino3Windows Server 2022 Datacenterx644.2.0 (2022-04-22 ucrt) -- "Vigorous Calisthenics" 4156
merida1macOS 10.14.6 Mojavex86_644.2.0 (2022-04-22) -- "Vigorous Calisthenics" 4221
Click on any hostname to see more info about the system (e.g. compilers)      (*) as reported by 'uname -p', except on Windows and Mac OS X

BUILD results for igvR on palomino3


To the developers/maintainers of the igvR package:
- Please allow up to 24 hours (and sometimes 48 hours) for your latest push to git@git.bioconductor.org:packages/igvR.git to
reflect on this report. See How and When does the builder pull? When will my changes propagate? for more information.
- Make sure to use the following settings in order to reproduce any error or warning you see on this page.

raw results

Package 942/2140HostnameOS / ArchINSTALLBUILDCHECKBUILD BIN
igvR 1.16.0  (landing page)
Paul Shannon
Snapshot Date: 2022-06-23 13:55:15 -0400 (Thu, 23 Jun 2022)
git_url: https://git.bioconductor.org/packages/igvR
git_branch: RELEASE_3_15
git_last_commit: 9b7541b
git_last_commit_date: 2022-04-26 11:48:52 -0400 (Tue, 26 Apr 2022)
nebbiolo1Linux (Ubuntu 20.04.4 LTS) / x86_64  OK    OK    WARNINGS  UNNEEDED, same version is already published
palomino3Windows Server 2022 Datacenter / x64  OK    OK    WARNINGS    OK  UNNEEDED, same version is already published
merida1macOS 10.14.6 Mojave / x86_64  OK    OK    WARNINGS    OK  UNNEEDED, same version is already published

Summary

Package: igvR
Version: 1.16.0
Command: chmod a+r igvR -R && F:\biocbuild\bbs-3.15-bioc\R\bin\R.exe CMD build --keep-empty-dirs --no-resave-data igvR
StartedAt: 2022-06-23 19:09:29 -0400 (Thu, 23 Jun 2022)
EndedAt: 2022-06-23 19:10:53 -0400 (Thu, 23 Jun 2022)
EllapsedTime: 84.8 seconds
RetCode: 0
Status:   OK  
PackageFile: igvR_1.16.0.tar.gz
PackageFileSize: 4.285 MiB

Command output

##############################################################################
##############################################################################
###
### Running command:
###
###   chmod a+r igvR -R && F:\biocbuild\bbs-3.15-bioc\R\bin\R.exe CMD build --keep-empty-dirs --no-resave-data igvR
###
##############################################################################
##############################################################################


* checking for file 'igvR/DESCRIPTION' ... OK
* preparing 'igvR':
* checking DESCRIPTION meta-information ... OK
* installing the package to build vignettes
* creating vignettes ... OK
* checking for LF line-endings in source and make files and shell scripts
* checking for empty or unneeded directories
WARNING: directory 'igvR/explore' is empty
WARNING: directory 'igvR/inst/browserCode/lib' is empty
WARNING: directory 'igvR/misc' is empty
* building 'igvR_1.16.0.tar.gz'