Back to Multiple platform build/check report for BioC 3.15
ABCDEFGHIJKLMNOPQR[S]TUVWXYZ

This page was generated on 2022-01-19 11:05:30 -0500 (Wed, 19 Jan 2022).

HostnameOSArch (*)R versionInstalled pkgs
nebbiolo1Linux (Ubuntu 20.04.4 LTS)x86_64R Under development (unstable) (2022-01-05 r81451) -- "Unsuffered Consequences" 4161
riesling1Windows Server 2019 Standardx64R Under development (unstable) (2021-11-21 r81221) -- "Unsuffered Consequences" 4056
palomino3Windows Server 2022 Datacenterx64R Under development (unstable) (2021-12-21 r81400 ucrt) -- "Unsuffered Consequences" 3998
merida1macOS 10.14.6 Mojavex86_64R Under development (unstable) (2022-01-05 r81451) -- "Unsuffered Consequences" 4115
Click on any hostname to see more info about the system (e.g. compilers)      (*) as reported by 'uname -p', except on Windows and Mac OS X

All results for package SingleCellExperiment


To the developers/maintainers of the SingleCellExperiment package:
- Please allow up to 24 hours (and sometimes 48 hours) for your latest push to git@git.bioconductor.org:packages/SingleCellExperiment.git to
reflect on this report. See How and When does the builder pull? When will my changes propagate? here for more information.
- Make sure to use the following settings in order to reproduce any error or warning you see on this page.

raw results

Package 1799/2074HostnameOS / ArchINSTALLBUILDCHECKBUILD BIN
SingleCellExperiment 1.17.2  (landing page)
Davide Risso
Snapshot Date: 2022-01-18 13:55:18 -0500 (Tue, 18 Jan 2022)
git_url: https://git.bioconductor.org/packages/SingleCellExperiment
git_branch: master
git_last_commit: 8299b96
git_last_commit_date: 2021-11-16 22:14:20 -0500 (Tue, 16 Nov 2021)
nebbiolo1Linux (Ubuntu 20.04.4 LTS) / x86_64  OK    OK    OK  UNNEEDED, same version is already published
riesling1Windows Server 2019 Standard / x64  OK    OK    OK    OK  
palomino3Windows Server 2022 Datacenter / x64  OK    OK    OK    OK  NO, package depends on 'SummarizedExperiment' which is not available
merida1macOS 10.14.6 Mojave / x86_64  OK    OK    OK    OK  UNNEEDED, same version is already published

Results for Bioconductor software packages that depend directly on package SingleCellExperiment

QUICK STATSOS / ArchINSTALLBUILDCHECKBUILD BIN
nebbiolo1Linux (Ubuntu 20.04.4 LTS) / x86_64
01115
03113
081293
riesling1Windows Server 2019 Standard / x64
02114
06110
0101288
00110
palomino3Windows Server 2022 Datacenter / x64
05111
09107
091088
00107
merida1macOS 10.14.6 Mojave / x86_64
01115
05111
061194
00111
Package 1/116HostnameOS / ArchINSTALLBUILDCHECKBUILD BIN
ADImpute 1.5.0  (landing page)
Ana Carolina Leote
git_last_commit: 7e4e303
git_last_commit_date: 2021-10-26 13:04:30 -0500
nebbiolo1Linux (Ubuntu 20.04.4 LTS) / x86_64  OK    OK    WARNINGS  UNNEEDED, same version is already published
riesling1Windows Server 2019 Standard / x64  OK    OK    WARNINGS    OK  
palomino3Windows Server 2022 Datacenter / x64  OK    OK    WARNINGS    OK  NO, package depends on 'S4Vectors' which is not available
merida1macOS 10.14.6 Mojave / x86_64  OK    OK    WARNINGS    OK  UNNEEDED, same version is already published
Package 2/116HostnameOS / ArchINSTALLBUILDCHECKBUILD BIN
aggregateBioVar 1.5.0  (landing page)
Jason Ratcliff
git_last_commit: 7f2c37c
git_last_commit_date: 2021-10-26 13:03:14 -0500
nebbiolo1Linux (Ubuntu 20.04.4 LTS) / x86_64  OK    OK    OK  UNNEEDED, same version is already published
riesling1Windows Server 2019 Standard / x64  OK    OK    OK    OK  
palomino3Windows Server 2022 Datacenter / x64  OK    OK    OK    OK  NO, package depends on 'S4Vectors' which is not available
merida1macOS 10.14.6 Mojave / x86_64  OK    OK    OK    OK  UNNEEDED, same version is already published
Package 3/116HostnameOS / ArchINSTALLBUILDCHECKBUILD BIN
airpart 1.3.0  (landing page)
Wancen Mu
git_last_commit: 0c451dd
git_last_commit_date: 2021-10-26 13:08:14 -0500
nebbiolo1Linux (Ubuntu 20.04.4 LTS) / x86_64  OK    OK    OK  UNNEEDED, same version is already published
riesling1Windows Server 2019 Standard / x64  OK    OK    OK    OK  
palomino3Windows Server 2022 Datacenter / x64  OK    OK    OK    OK  NO, package depends on 'SingleCellExperiment' which is not available
merida1macOS 10.14.6 Mojave / x86_64  OK    OK    OK    OK  UNNEEDED, same version is already published
Package 4/116HostnameOS / ArchINSTALLBUILDCHECKBUILD BIN
BASiCS 2.7.2  (landing page)
Alan O'Callaghan
git_last_commit: 0438367
git_last_commit_date: 2021-11-22 11:56:02 -0500
nebbiolo1Linux (Ubuntu 20.04.4 LTS) / x86_64  OK    OK    OK  UNNEEDED, same version is already published
riesling1Windows Server 2019 Standard / x64  OK    OK    OK    OK  
palomino3Windows Server 2022 Datacenter / x64  OK    OK    OK    OK  NO, package depends on 'SingleCellExperiment' which is not available
merida1macOS 10.14.6 Mojave / x86_64  OK    OK    OK    OK  UNNEEDED, same version is already published
Package 5/116HostnameOS / ArchINSTALLBUILDCHECKBUILD BIN
batchelor 1.11.0  (landing page)
Aaron Lun
git_last_commit: be310ee
git_last_commit_date: 2021-10-26 12:50:33 -0500
nebbiolo1Linux (Ubuntu 20.04.4 LTS) / x86_64  OK    OK    OK  UNNEEDED, same version is already published
riesling1Windows Server 2019 Standard / x64  OK    OK    OK    OK  
palomino3Windows Server 2022 Datacenter / x64  OK    OK    OK    OK  NO, package depends on 'SingleCellExperiment' which is not available
merida1macOS 10.14.6 Mojave / x86_64  OK    OK    OK    OK  UNNEEDED, same version is already published
Package 6/116HostnameOS / ArchINSTALLBUILDCHECKBUILD BIN
BayesSpace 1.5.1  (landing page)
Matt Stone
git_last_commit: cd2c155
git_last_commit_date: 2021-11-03 20:00:01 -0500
nebbiolo1Linux (Ubuntu 20.04.4 LTS) / x86_64  OK    OK    OK  UNNEEDED, same version is already published
riesling1Windows Server 2019 Standard / x64  OK    OK    OK    OK  
palomino3Windows Server 2022 Datacenter / x64  OK    OK    OK    OK  NO, package depends on 'SingleCellExperiment' which is not available
merida1macOS 10.14.6 Mojave / x86_64  OK    OK    OK    OK  UNNEEDED, same version is already published
Package 7/116HostnameOS / ArchINSTALLBUILDCHECKBUILD BIN
bayNorm 1.13.0  (landing page)
Wenhao Tang
git_last_commit: 173855d
git_last_commit_date: 2021-10-26 12:47:28 -0500
nebbiolo1Linux (Ubuntu 20.04.4 LTS) / x86_64  OK    OK    OK  UNNEEDED, same version is already published
riesling1Windows Server 2019 Standard / x64  OK    OK    OK    OK  
palomino3Windows Server 2022 Datacenter / x64  OK    OK    OK    OK  NO, package depends on 'SingleCellExperiment' which is not available
merida1macOS 10.14.6 Mojave / x86_64  OK    OK    OK    OK  UNNEEDED, same version is already published
Package 8/116HostnameOS / ArchINSTALLBUILDCHECKBUILD BIN
BEARscc 1.15.0  (landing page)
Benjamin Schuster-Boeckler
git_last_commit: 59225ae
git_last_commit_date: 2021-10-26 12:41:25 -0500
nebbiolo1Linux (Ubuntu 20.04.4 LTS) / x86_64  OK    OK    OK  UNNEEDED, same version is already published
riesling1Windows Server 2019 Standard / x64  OK    OK    OK    OK  
palomino3Windows Server 2022 Datacenter / x64  OK    OK    OK    OK  NO, package depends on 'SingleCellExperiment' which is not available
merida1macOS 10.14.6 Mojave / x86_64  OK    OK    OK    OK  UNNEEDED, same version is already published
Package 9/116HostnameOS / ArchINSTALLBUILDCHECKBUILD BIN
BUSseq 1.1.0  (landing page)
Fangda Song
git_last_commit: 6e5d189
git_last_commit_date: 2021-10-26 13:10:51 -0500
nebbiolo1Linux (Ubuntu 20.04.4 LTS) / x86_64  OK    OK    OK  UNNEEDED, same version is already published
riesling1Windows Server 2019 Standard / x64  OK    OK    OK    OK  
palomino3Windows Server 2022 Datacenter / x64  OK    OK    OK    OK  NO, package depends on 'SingleCellExperiment' which is not available
merida1macOS 10.14.6 Mojave / x86_64  OK    OK    OK    OK  UNNEEDED, same version is already published
Package 10/116HostnameOS / ArchINSTALLBUILDCHECKBUILD BIN
CATALYST 1.19.1  (landing page)
Helena L. Crowell
git_last_commit: bfeddc9
git_last_commit_date: 2022-01-14 07:45:02 -0500
nebbiolo1Linux (Ubuntu 20.04.4 LTS) / x86_64  OK    OK    OK  UNNEEDED, same version is already published
riesling1Windows Server 2019 Standard / x64  OK    OK    OK    OK  
palomino3Windows Server 2022 Datacenter / x64  ERROR    ERROR  skippedskipped
merida1macOS 10.14.6 Mojave / x86_64  OK    OK    OK    OK  UNNEEDED, same version is already published
Package 11/116HostnameOS / ArchINSTALLBUILDCHECKBUILD BIN
ccfindR 1.15.0  (landing page)
Jun Woo
git_last_commit: 1030c36
git_last_commit_date: 2021-10-26 12:44:23 -0500
nebbiolo1Linux (Ubuntu 20.04.4 LTS) / x86_64  OK    OK    OK  UNNEEDED, same version is already published
riesling1Windows Server 2019 Standard / x64  OK    OK    OK    OK  
palomino3Windows Server 2022 Datacenter / x64  OK    OK    OK    OK  NO, package depends on 'S4Vectors' which is not available
merida1macOS 10.14.6 Mojave / x86_64  OK    OK    OK    OK  UNNEEDED, same version is already published
Package 12/116HostnameOS / ArchINSTALLBUILDCHECKBUILD BIN
celda 1.11.0  (landing page)
Joshua Campbell
git_last_commit: f7bccaa
git_last_commit_date: 2021-10-26 12:52:02 -0500
nebbiolo1Linux (Ubuntu 20.04.4 LTS) / x86_64  OK    OK    OK  UNNEEDED, same version is already published
riesling1Windows Server 2019 Standard / x64  OK    OK    OK    OK  
palomino3Windows Server 2022 Datacenter / x64  OK    OK    OK    OK  NO, package depends on 'S4Vectors' which is not available
merida1macOS 10.14.6 Mojave / x86_64  OK    OK    OK    OK  UNNEEDED, same version is already published
Package 13/116HostnameOS / ArchINSTALLBUILDCHECKBUILD BIN
CellBench 1.11.1  (landing page)
Shian Su
git_last_commit: 6b34d08
git_last_commit_date: 2021-11-16 23:03:23 -0500
nebbiolo1Linux (Ubuntu 20.04.4 LTS) / x86_64  OK    OK    OK  UNNEEDED, same version is already published
riesling1Windows Server 2019 Standard / x64  OK    OK    OK    OK  
palomino3Windows Server 2022 Datacenter / x64  OK    OK    OK    OK  NO, package depends on 'SingleCellExperiment' which is not available
merida1macOS 10.14.6 Mojave / x86_64  OK    OK    OK    OK  UNNEEDED, same version is already published
Package 14/116HostnameOS / ArchINSTALLBUILDCHECKBUILD BIN
CelliD 1.3.1  (landing page)
Akira Cortal
git_last_commit: 63c2ffd
git_last_commit_date: 2022-01-08 01:36:45 -0500
nebbiolo1Linux (Ubuntu 20.04.4 LTS) / x86_64  OK    OK    ERROR  
riesling1Windows Server 2019 Standard / x64  OK    OK    ERROR    OK  
palomino3Windows Server 2022 Datacenter / x64  OK    OK    ERROR    OK  
merida1macOS 10.14.6 Mojave / x86_64  OK    OK    ERROR    OK  
Package 15/116HostnameOS / ArchINSTALLBUILDCHECKBUILD BIN
CellMixS 1.11.1  (landing page)
Almut Lütge
git_last_commit: 43c004a
git_last_commit_date: 2021-11-20 23:20:39 -0500
nebbiolo1Linux (Ubuntu 20.04.4 LTS) / x86_64  OK    OK    OK  UNNEEDED, same version is already published
riesling1Windows Server 2019 Standard / x64  OK    OK    OK    OK  
palomino3Windows Server 2022 Datacenter / x64  OK    OK    OK    OK  NO, package depends on 'BiocNeighbors' which is not available
merida1macOS 10.14.6 Mojave / x86_64  OK    OK    OK    OK  UNNEEDED, same version is already published
Package 16/116HostnameOS / ArchINSTALLBUILDCHECKBUILD BIN
CellTrails 1.13.1  (landing page)
Daniel Ellwanger
git_last_commit: afdce39
git_last_commit_date: 2021-11-20 23:20:47 -0500
nebbiolo1Linux (Ubuntu 20.04.4 LTS) / x86_64  OK    OK    ERROR  
riesling1Windows Server 2019 Standard / x64  OK    OK    ERROR    OK  
palomino3Windows Server 2022 Datacenter / x64  OK    OK    ERROR    OK  
merida1macOS 10.14.6 Mojave / x86_64  OK    OK    ERROR    OK  
Package 17/116HostnameOS / ArchINSTALLBUILDCHECKBUILD BIN
Cepo 1.1.1  (landing page)
Hani Jieun Kim
git_last_commit: 328e5cf
git_last_commit_date: 2021-11-20 23:20:58 -0500
nebbiolo1Linux (Ubuntu 20.04.4 LTS) / x86_64  OK    OK    OK  UNNEEDED, same version is already published
riesling1Windows Server 2019 Standard / x64  OK    ERROR  skippedskipped
palomino3Windows Server 2022 Datacenter / x64  OK    OK    OK    OK  NO, package depends on 'GSEABase' which is not available
merida1macOS 10.14.6 Mojave / x86_64  OK    OK    OK    OK  UNNEEDED, same version is already published
Package 18/116HostnameOS / ArchINSTALLBUILDCHECKBUILD BIN
CHETAH 1.11.2  (landing page)
Jurrian de Kanter
git_last_commit: 5d5f5df
git_last_commit_date: 2021-11-20 23:21:28 -0500
nebbiolo1Linux (Ubuntu 20.04.4 LTS) / x86_64  OK    ERROR  skipped
riesling1Windows Server 2019 Standard / x64  OK    ERROR  skippedskipped
palomino3Windows Server 2022 Datacenter / x64  OK    ERROR  skippedskipped
merida1macOS 10.14.6 Mojave / x86_64  OK    ERROR  skippedskipped
Package 19/116HostnameOS / ArchINSTALLBUILDCHECKBUILD BIN
ChromSCape 1.5.1  (landing page)
Pacome Prompsy
git_last_commit: e42d6b0
git_last_commit_date: 2022-01-18 10:25:19 -0500
nebbiolo1Linux (Ubuntu 20.04.4 LTS) / x86_64  OK    OK    OK  UNNEEDED, same version is already published
riesling1Windows Server 2019 Standard / x64  OK    OK    OK    OK  
palomino3Windows Server 2022 Datacenter / x64  OK    OK    OK    OK  NO, package depends on 'rtracklayer' which is not available
merida1macOS 10.14.6 Mojave / x86_64  OK    OK    OK    OK  UNNEEDED, same version is already published
Package 20/116HostnameOS / ArchINSTALLBUILDCHECKBUILD BIN
CiteFuse 1.7.0  (landing page)
Yingxin Lin
git_last_commit: d26886b
git_last_commit_date: 2021-10-26 12:58:54 -0500
nebbiolo1Linux (Ubuntu 20.04.4 LTS) / x86_64  OK    OK    OK  UNNEEDED, same version is already published
riesling1Windows Server 2019 Standard / x64  OK    OK    OK    OK  
palomino3Windows Server 2022 Datacenter / x64  OK    OK    OK    OK  NO, package depends on 'SingleCellExperiment' which is not available
merida1macOS 10.14.6 Mojave / x86_64  OK    OK    OK    OK  UNNEEDED, same version is already published
Package 21/116HostnameOS / ArchINSTALLBUILDCHECKBUILD BIN
clusterExperiment 2.15.1  (landing page)
Elizabeth Purdom
git_last_commit: 1f524ae
git_last_commit_date: 2021-11-05 19:07:36 -0500
nebbiolo1Linux (Ubuntu 20.04.4 LTS) / x86_64  OK    OK    WARNINGS  UNNEEDED, same version is already published
riesling1Windows Server 2019 Standard / x64  OK    OK    WARNINGS    OK  
palomino3Windows Server 2022 Datacenter / x64  OK    OK    WARNINGS    OK  NO, package depends on 'SingleCellExperiment' which is not available
merida1macOS 10.14.6 Mojave / x86_64  OK    OK    WARNINGS    OK  UNNEEDED, same version is already published
Package 22/116HostnameOS / ArchINSTALLBUILDCHECKBUILD BIN
clustifyr 1.7.2  (landing page)
Rui Fu
git_last_commit: 7336d06
git_last_commit_date: 2022-01-14 11:53:45 -0500
nebbiolo1Linux (Ubuntu 20.04.4 LTS) / x86_64  OK    OK    OK  UNNEEDED, same version is already published
riesling1Windows Server 2019 Standard / x64  OK    OK    OK    OK  
palomino3Windows Server 2022 Datacenter / x64  OK    OK    OK    OK  NO, package depends on 'SingleCellExperiment' which is not available
merida1macOS 10.14.6 Mojave / x86_64  OK    OK    OK    OK  NO, package depends on 'fgsea' which is not available
Package 23/116HostnameOS / ArchINSTALLBUILDCHECKBUILD BIN
CoGAPS 3.15.1  (landing page)
Elana J. Fertig
git_last_commit: d2cd8a1
git_last_commit_date: 2021-11-21 06:15:49 -0500
nebbiolo1Linux (Ubuntu 20.04.4 LTS) / x86_64  OK    OK    WARNINGS  UNNEEDED, same version is already published
riesling1Windows Server 2019 Standard / x64  OK    OK    WARNINGS    OK  
palomino3Windows Server 2022 Datacenter / x64  OK    OK    WARNINGS    OK  NO, package depends on 'S4Vectors' which is not available
merida1macOS 10.14.6 Mojave / x86_64  OK    OK    WARNINGS    OK  UNNEEDED, same version is already published
Package 24/116HostnameOS / ArchINSTALLBUILDCHECKBUILD BIN
conclus 1.3.1  (landing page)
Ilyess Rachedi
git_last_commit: 97afbff
git_last_commit_date: 2021-12-02 09:57:38 -0500
nebbiolo1Linux (Ubuntu 20.04.4 LTS) / x86_64  OK    OK    ERROR  
riesling1Windows Server 2019 Standard / x64  OK    OK    ERROR    OK  
palomino3Windows Server 2022 Datacenter / x64  OK    OK    ERROR    OK  
merida1macOS 10.14.6 Mojave / x86_64  OK    OK    ERROR    OK  
Package 25/116HostnameOS / ArchINSTALLBUILDCHECKBUILD BIN
condiments 1.3.0  (landing page)
Hector Roux de Bezieux
git_last_commit: 4109e08
git_last_commit_date: 2021-10-26 13:08:17 -0500
nebbiolo1Linux (Ubuntu 20.04.4 LTS) / x86_64  OK    OK    OK  UNNEEDED, same version is already published
riesling1Windows Server 2019 Standard / x64  OK    OK    OK    OK  
palomino3Windows Server 2022 Datacenter / x64  OK    OK    OK    OK  NO, package depends on 'slingshot' which is not available
merida1macOS 10.14.6 Mojave / x86_64  OK    OK    OK    OK  UNNEEDED, same version is already published
Package 26/116HostnameOS / ArchINSTALLBUILDCHECKBUILD BIN
corral 1.5.7  (landing page)
Lauren Hsu
git_last_commit: 7c31411
git_last_commit_date: 2021-11-19 17:15:38 -0500
nebbiolo1Linux (Ubuntu 20.04.4 LTS) / x86_64  OK    OK    OK  UNNEEDED, same version is already published
riesling1Windows Server 2019 Standard / x64  OK    OK    OK    OK  
palomino3Windows Server 2022 Datacenter / x64  OK    OK    OK    OK  NO, package depends on 'MultiAssayExperiment' which is not available
merida1macOS 10.14.6 Mojave / x86_64  OK    OK    OK    OK  UNNEEDED, same version is already published
Package 27/116HostnameOS / ArchINSTALLBUILDCHECKBUILD BIN
cydar 1.19.0  (landing page)
Aaron Lun
git_last_commit: 0377665
git_last_commit_date: 2021-10-26 12:34:03 -0500
nebbiolo1Linux (Ubuntu 20.04.4 LTS) / x86_64  OK    OK    OK  UNNEEDED, same version is already published
riesling1Windows Server 2019 Standard / x64  OK    OK    OK    OK  
palomino3Windows Server 2022 Datacenter / x64  ERROR    ERROR  skippedskipped
merida1macOS 10.14.6 Mojave / x86_64  OK    OK    OK    OK  UNNEEDED, same version is already published
Package 28/116HostnameOS / ArchINSTALLBUILDCHECKBUILD BIN
cytomapper 1.7.1  (landing page)
Nils Eling
git_last_commit: eb9e403
git_last_commit_date: 2021-12-28 13:28:01 -0500
nebbiolo1Linux (Ubuntu 20.04.4 LTS) / x86_64  OK    OK    WARNINGS  UNNEEDED, same version is already published
riesling1Windows Server 2019 Standard / x64  OK    OK    WARNINGS    OK  
palomino3Windows Server 2022 Datacenter / x64  OK    OK    WARNINGS    OK  NO, package depends on 'EBImage' which is not available
merida1macOS 10.14.6 Mojave / x86_64  OK    OK    OK    OK  UNNEEDED, same version is already published
Package 29/116HostnameOS / ArchINSTALLBUILDCHECKBUILD BIN
Dino 1.1.0  (landing page)
Jared Brown
git_last_commit: 161707f
git_last_commit_date: 2021-10-26 13:11:09 -0500
nebbiolo1Linux (Ubuntu 20.04.4 LTS) / x86_64  OK    OK    OK  UNNEEDED, same version is already published
riesling1Windows Server 2019 Standard / x64  OK    OK    OK    OK  
palomino3Windows Server 2022 Datacenter / x64  OK    OK    OK    OK  NO, package depends on 'BiocSingular' which is not available
merida1macOS 10.14.6 Mojave / x86_64  OK    OK    OK    OK  UNNEEDED, same version is already published
Package 30/116HostnameOS / ArchINSTALLBUILDCHECKBUILD BIN
distinct 1.7.1  (landing page)
Simone Tiberi
git_last_commit: 5899f29
git_last_commit_date: 2021-11-18 16:57:31 -0500
nebbiolo1Linux (Ubuntu 20.04.4 LTS) / x86_64  OK    OK    OK  UNNEEDED, same version is already published
riesling1Windows Server 2019 Standard / x64  OK    OK    OK    OK  
palomino3Windows Server 2022 Datacenter / x64  OK    OK    OK    OK  NO, package depends on 'SummarizedExperiment' which is not available
merida1macOS 10.14.6 Mojave / x86_64  OK    OK    OK    OK  UNNEEDED, same version is already published
Package 31/116HostnameOS / ArchINSTALLBUILDCHECKBUILD BIN
dittoSeq 1.7.0  (landing page)
Daniel Bunis
git_last_commit: b158b29
git_last_commit_date: 2021-10-26 12:57:43 -0500
nebbiolo1Linux (Ubuntu 20.04.4 LTS) / x86_64  OK    OK    OK  UNNEEDED, same version is already published
riesling1Windows Server 2019 Standard / x64  OK    OK    OK    OK  
palomino3Windows Server 2022 Datacenter / x64  OK    OK    OK    OK  NO, package depends on 'SummarizedExperiment' which is not available
merida1macOS 10.14.6 Mojave / x86_64  OK    OK    OK    OK  UNNEEDED, same version is already published
Package 32/116HostnameOS / ArchINSTALLBUILDCHECKBUILD BIN
DropletUtils 1.15.2  (landing page)
Jonathan Griffiths
git_last_commit: b5fd73b
git_last_commit_date: 2021-11-11 13:22:23 -0500
nebbiolo1Linux (Ubuntu 20.04.4 LTS) / x86_64  OK    OK    OK  UNNEEDED, same version is already published
riesling1Windows Server 2019 Standard / x64  OK    OK    OK    OK  
palomino3Windows Server 2022 Datacenter / x64  OK    OK    OK    OK  NO, package depends on 'SingleCellExperiment' which is not available
merida1macOS 10.14.6 Mojave / x86_64  OK    OK    OK    OK  UNNEEDED, same version is already published
Package 33/116HostnameOS / ArchINSTALLBUILDCHECKBUILD BIN
escape 1.5.0  (landing page)
Nick Borcherding
git_last_commit: 3093f2a
git_last_commit_date: 2021-10-26 13:01:15 -0500
nebbiolo1Linux (Ubuntu 20.04.4 LTS) / x86_64  OK    OK    OK  UNNEEDED, same version is already published
riesling1Windows Server 2019 Standard / x64  OK    OK    OK    OK  
palomino3Windows Server 2022 Datacenter / x64  OK    OK    OK    OK  NO, package depends on 'GSEABase' which is not available
merida1macOS 10.14.6 Mojave / x86_64  OK    OK    OK    OK  UNNEEDED, same version is already published
Package 34/116HostnameOS / ArchINSTALLBUILDCHECKBUILD BIN
EWCE 1.3.2  (landing page)
Alan Murphy
git_last_commit: 90c1f35
git_last_commit_date: 2022-01-04 11:20:49 -0500
nebbiolo1Linux (Ubuntu 20.04.4 LTS) / x86_64  OK    OK    OK  UNNEEDED, same version is already published
riesling1Windows Server 2019 Standard / x64  OK    OK    OK    OK  
palomino3Windows Server 2022 Datacenter / x64  OK    OK    OK    OK  NO, package depends on 'SingleCellExperiment' which is not available
merida1macOS 10.14.6 Mojave / x86_64  OK    OK    OK    OK  UNNEEDED, same version is already published
Package 35/116HostnameOS / ArchINSTALLBUILDCHECKBUILD BIN
ExperimentSubset 1.5.0  (landing page)
Irzam Sarfraz
git_last_commit: ce90b14
git_last_commit_date: 2021-10-26 13:03:55 -0500
nebbiolo1Linux (Ubuntu 20.04.4 LTS) / x86_64  OK    OK    OK  UNNEEDED, same version is already published
riesling1Windows Server 2019 Standard / x64  OK    OK    OK    OK  
palomino3Windows Server 2022 Datacenter / x64  OK    OK    OK    OK  NO, package depends on 'SummarizedExperiment' which is not available
merida1macOS 10.14.6 Mojave / x86_64  OK    OK    OK    OK  UNNEEDED, same version is already published
Package 36/116HostnameOS / ArchINSTALLBUILDCHECKBUILD BIN
fcoex 1.9.0  (landing page)
Tiago Lubiana
git_last_commit: 0a7fb44
git_last_commit_date: 2021-10-26 12:55:56 -0500
nebbiolo1Linux (Ubuntu 20.04.4 LTS) / x86_64  OK    OK    WARNINGS  UNNEEDED, same version is already published
riesling1Windows Server 2019 Standard / x64  OK    OK    WARNINGS    OK  
palomino3Windows Server 2022 Datacenter / x64  OK    OK    WARNINGS    OK  NO, package depends on 'FCBF' which is not available
merida1macOS 10.14.6 Mojave / x86_64  OK    OK    WARNINGS    OK  NO, package depends on 'clusterProfiler' which is not available
Package 37/116HostnameOS / ArchINSTALLBUILDCHECKBUILD BIN
FEAST 1.3.0  (landing page)
Kenong Su
git_last_commit: a4efb2f
git_last_commit_date: 2021-10-26 13:09:07 -0500
nebbiolo1Linux (Ubuntu 20.04.4 LTS) / x86_64  OK    OK    OK  UNNEEDED, same version is already published
riesling1Windows Server 2019 Standard / x64  OK    OK    OK    OK  
palomino3Windows Server 2022 Datacenter / x64  OK    OK    OK    OK  NO, package depends on 'SummarizedExperiment' which is not available
merida1macOS 10.14.6 Mojave / x86_64  OK    OK    OK    OK  UNNEEDED, same version is already published
Package 38/116HostnameOS / ArchINSTALLBUILDCHECKBUILD BIN
fishpond 2.1.1  (landing page)
Michael Love
git_last_commit: c3773c0
git_last_commit_date: 2021-11-30 14:29:54 -0500
nebbiolo1Linux (Ubuntu 20.04.4 LTS) / x86_64  OK    OK    OK  UNNEEDED, same version is already published
riesling1Windows Server 2019 Standard / x64  OK    OK    OK    OK  
palomino3Windows Server 2022 Datacenter / x64  OK    OK    OK    OK  NO, package depends on 'S4Vectors' which is not available
merida1macOS 10.14.6 Mojave / x86_64  OK    OK    OK    OK  UNNEEDED, same version is already published
Package 39/116HostnameOS / ArchINSTALLBUILDCHECKBUILD BIN
FLAMES 1.1.2  (landing page)
Voogd Oliver
git_last_commit: cf97e30
git_last_commit_date: 2021-11-03 18:27:48 -0500
nebbiolo1Linux (Ubuntu 20.04.4 LTS) / x86_64  OK    OK    OK  UNNEEDED, same version is already published
riesling1Windows Server 2019 Standard / x64  OK    OK    OK    OK  
palomino3Windows Server 2022 Datacenter / x64  OK    OK    OK    OK  NO, package depends on 'SingleCellExperiment' which is not available
merida1macOS 10.14.6 Mojave / x86_64  OK    OK    OK    OK  UNNEEDED, same version is already published
Package 40/116HostnameOS / ArchINSTALLBUILDCHECKBUILD BIN
ggspavis 1.1.0  (landing page)
Lukas M. Weber
git_last_commit: b2fde85
git_last_commit_date: 2021-10-26 13:11:57 -0500
nebbiolo1Linux (Ubuntu 20.04.4 LTS) / x86_64  OK    ERROR  skipped
riesling1Windows Server 2019 Standard / x64  OK    ERROR  skippedskipped
palomino3Windows Server 2022 Datacenter / x64  OK    ERROR  skippedskipped
merida1macOS 10.14.6 Mojave / x86_64  OK    ERROR  skippedskipped
Package 41/116HostnameOS / ArchINSTALLBUILDCHECKBUILD BIN
GSVA 1.43.1  (landing page)
Justin Guinney
git_last_commit: a2757e1
git_last_commit_date: 2021-11-19 06:39:28 -0500
nebbiolo1Linux (Ubuntu 20.04.4 LTS) / x86_64  OK    OK    OK  UNNEEDED, same version is already published
riesling1Windows Server 2019 Standard / x64  OK    OK    OK    OK  
palomino3Windows Server 2022 Datacenter / x64  OK    OK    OK    OK  NO, package depends on 'S4Vectors' which is not available
merida1macOS 10.14.6 Mojave / x86_64  OK    OK    OK    OK  UNNEEDED, same version is already published
Package 42/116HostnameOS / ArchINSTALLBUILDCHECKBUILD BIN
HIPPO 1.7.0  (landing page)
Tae Kim
git_last_commit: cffb312
git_last_commit_date: 2021-10-26 12:58:22 -0500
nebbiolo1Linux (Ubuntu 20.04.4 LTS) / x86_64  OK    OK    OK  UNNEEDED, same version is already published
riesling1Windows Server 2019 Standard / x64  OK    OK    OK    OK  
palomino3Windows Server 2022 Datacenter / x64  OK    OK    OK    OK  NO, package depends on 'SingleCellExperiment' which is not available
merida1macOS 10.14.6 Mojave / x86_64  OK    OK    OK    OK  UNNEEDED, same version is already published
Package 43/116HostnameOS / ArchINSTALLBUILDCHECKBUILD BIN
ILoReg 1.5.0  (landing page)
Johannes Smolander
git_last_commit: 3cbf204
git_last_commit_date: 2021-10-26 13:01:20 -0500
nebbiolo1Linux (Ubuntu 20.04.4 LTS) / x86_64  OK    OK    OK  UNNEEDED, same version is already published
riesling1Windows Server 2019 Standard / x64  OK    OK    OK    OK  
palomino3Windows Server 2022 Datacenter / x64  OK    OK    OK    OK  NO, package depends on 'SingleCellExperiment' which is not available
merida1macOS 10.14.6 Mojave / x86_64  OK    OK    OK    OK  UNNEEDED, same version is already published
Package 44/116HostnameOS / ArchINSTALLBUILDCHECKBUILD BIN
imcRtools 1.1.6  (landing page)
Nils Eling
git_last_commit: 5f4d99a
git_last_commit_date: 2022-01-17 14:49:26 -0500
nebbiolo1Linux (Ubuntu 20.04.4 LTS) / x86_64  OK    OK    WARNINGS  YES
riesling1Windows Server 2019 Standard / x64  OK    OK    WARNINGS    OK  
palomino3Windows Server 2022 Datacenter / x64  OK    ERROR  skippedskipped
merida1macOS 10.14.6 Mojave / x86_64  OK    OK    OK    OK  YES
Package 45/116HostnameOS / ArchINSTALLBUILDCHECKBUILD BIN
infercnv 1.11.1  (landing page)
Christophe Georgescu
git_last_commit: bc68968
git_last_commit_date: 2021-11-08 13:30:08 -0500
nebbiolo1Linux (Ubuntu 20.04.4 LTS) / x86_64  OK    OK    OK  UNNEEDED, same version is already published
riesling1Windows Server 2019 Standard / x64  OK    ERROR  skippedskipped
palomino3Windows Server 2022 Datacenter / x64  OK    ERROR  skippedskipped
merida1macOS 10.14.6 Mojave / x86_64  OK    OK    OK    OK  UNNEEDED, same version is already published
Package 46/116HostnameOS / ArchINSTALLBUILDCHECKBUILD BIN
IRISFGM 1.3.0  (landing page)
Yuzhou Chang
git_last_commit: 801cde9
git_last_commit_date: 2021-10-26 13:07:08 -0500
nebbiolo1Linux (Ubuntu 20.04.4 LTS) / x86_64  OK    OK    OK  UNNEEDED, same version is already published
riesling1Windows Server 2019 Standard / x64  OK    OK    OK    OK  
palomino3Windows Server 2022 Datacenter / x64  OK    OK    OK    OK  NO, package depends on 'AnnotationDbi' which is not available
merida1macOS 10.14.6 Mojave / x86_64  OK    OK    OK    OK  NO, package depends on 'clusterProfiler' which is not available
Package 47/116HostnameOS / ArchINSTALLBUILDCHECKBUILD BIN
iSEE 2.7.0  (landing page)
Kevin Rue-Albrecht
git_last_commit: c6bb93a
git_last_commit_date: 2021-10-26 12:42:43 -0500
nebbiolo1Linux (Ubuntu 20.04.4 LTS) / x86_64  OK    OK    OK  UNNEEDED, same version is already published
riesling1Windows Server 2019 Standard / x64  OK    OK    OK    OK  
palomino3Windows Server 2022 Datacenter / x64  OK    OK    OK    OK  NO, package depends on 'SummarizedExperiment' which is not available
merida1macOS 10.14.6 Mojave / x86_64  OK    OK    OK    OK  UNNEEDED, same version is already published
Package 48/116HostnameOS / ArchINSTALLBUILDCHECKBUILD BIN
iSEEu 1.7.0  (landing page)
Kevin Rue-Albrecht
git_last_commit: d216067
git_last_commit_date: 2021-10-26 12:58:51 -0500
nebbiolo1Linux (Ubuntu 20.04.4 LTS) / x86_64  OK    OK    ERROR  
riesling1Windows Server 2019 Standard / x64  OK    OK    ERROR    OK  
palomino3Windows Server 2022 Datacenter / x64  OK    OK    ERROR    OK  
merida1macOS 10.14.6 Mojave / x86_64  OK    OK    ERROR    OK  
Package 49/116HostnameOS / ArchINSTALLBUILDCHECKBUILD BIN
LineagePulse 1.15.0  (landing page)
David S Fischer
git_last_commit: f1d6a55
git_last_commit_date: 2021-10-26 12:40:27 -0500
nebbiolo1Linux (Ubuntu 20.04.4 LTS) / x86_64  OK    OK    WARNINGS  UNNEEDED, same version is already published
riesling1Windows Server 2019 Standard / x64  OK    OK    WARNINGS    OK  
palomino3Windows Server 2022 Datacenter / x64  OK    OK    WARNINGS    OK  NO, package depends on 'ComplexHeatmap' which is not available
merida1macOS 10.14.6 Mojave / x86_64  OK    OK    WARNINGS    OK  UNNEEDED, same version is already published
Package 50/116HostnameOS / ArchINSTALLBUILDCHECKBUILD BIN
LoomExperiment 1.13.0  (landing page)
Bioconductor Package Maintainer
git_last_commit: edb0ecf
git_last_commit_date: 2021-10-26 12:48:14 -0500
nebbiolo1Linux (Ubuntu 20.04.4 LTS) / x86_64  OK    OK    OK  UNNEEDED, same version is already published
riesling1Windows Server 2019 Standard / x64  OK    OK    OK    OK  
palomino3Windows Server 2022 Datacenter / x64  OK    OK    OK    OK  NO, package depends on 'S4Vectors' which is not available
merida1macOS 10.14.6 Mojave / x86_64  OK    OK    OK    OK  UNNEEDED, same version is already published
Package 51/116HostnameOS / ArchINSTALLBUILDCHECKBUILD BIN
MAST 1.21.3  (landing page)
Andrew McDavid
git_last_commit: 66cd19b
git_last_commit_date: 2021-12-17 10:36:32 -0500
nebbiolo1Linux (Ubuntu 20.04.4 LTS) / x86_64  OK    OK    OK  UNNEEDED, same version is already published
riesling1Windows Server 2019 Standard / x64  OK    OK    OK    OK  
palomino3Windows Server 2022 Datacenter / x64  OK    OK    OK    OK  NO, package depends on 'SingleCellExperiment' which is not available
merida1macOS 10.14.6 Mojave / x86_64  OK    OK    OK    OK  UNNEEDED, same version is already published
Package 52/116HostnameOS / ArchINSTALLBUILDCHECKBUILD BIN
mbkmeans 1.11.0  (landing page)
Davide Risso
git_last_commit: 656214a
git_last_commit_date: 2021-10-26 12:50:45 -0500
nebbiolo1Linux (Ubuntu 20.04.4 LTS) / x86_64  OK    OK    OK  UNNEEDED, same version is already published
riesling1Windows Server 2019 Standard / x64  OK    OK    OK    OK  
palomino3Windows Server 2022 Datacenter / x64  OK    OK    OK    OK  NO, package depends on 'DelayedArray' which is not available
merida1macOS 10.14.6 Mojave / x86_64  OK    OK    OK    OK  UNNEEDED, same version is already published
Package 53/116HostnameOS / ArchINSTALLBUILDCHECKBUILD BIN
MetaNeighbor 1.15.1  (landing page)
Stephan Fischer
git_last_commit: 62f77d9
git_last_commit_date: 2021-11-21 00:32:06 -0500
nebbiolo1Linux (Ubuntu 20.04.4 LTS) / x86_64  OK    OK    OK  UNNEEDED, same version is already published
riesling1Windows Server 2019 Standard / x64  OK    OK    OK    OK  
palomino3Windows Server 2022 Datacenter / x64  OK    OK    OK    OK  NO, package depends on 'SummarizedExperiment' which is not available
merida1macOS 10.14.6 Mojave / x86_64  OK    OK    OK    OK  UNNEEDED, same version is already published
Package 54/116HostnameOS / ArchINSTALLBUILDCHECKBUILD BIN
mia 1.3.13  (landing page)
Felix G.M. Ernst
git_last_commit: 878294a
git_last_commit_date: 2022-01-01 06:10:10 -0500
nebbiolo1Linux (Ubuntu 20.04.4 LTS) / x86_64  OK    OK    OK  UNNEEDED, same version is already published
riesling1Windows Server 2019 Standard / x64  OK    OK    ERROR    OK  
palomino3Windows Server 2022 Datacenter / x64  OK    OK    OK    OK  NO, package depends on 'SummarizedExperiment' which is not available
merida1macOS 10.14.6 Mojave / x86_64  OK    OK    OK    OK  UNNEEDED, same version is already published
Package 55/116HostnameOS / ArchINSTALLBUILDCHECKBUILD BIN
miloR 1.3.3  (landing page)
Mike Morgan
git_last_commit: 7fe95a9
git_last_commit_date: 2022-01-13 13:24:19 -0500
nebbiolo1Linux (Ubuntu 20.04.4 LTS) / x86_64  OK    OK    ERROR  
riesling1Windows Server 2019 Standard / x64  OK    OK    ERROR    OK  
palomino3Windows Server 2022 Datacenter / x64  OK    OK    ERROR    OK  
merida1macOS 10.14.6 Mojave / x86_64  OK    ERROR  skippedskipped
Package 56/116HostnameOS / ArchINSTALLBUILDCHECKBUILD BIN
miQC 1.3.0  (landing page)
Ariel Hippen
git_last_commit: 21e40d4
git_last_commit_date: 2021-10-26 13:07:34 -0500
nebbiolo1Linux (Ubuntu 20.04.4 LTS) / x86_64  OK    OK    OK  UNNEEDED, same version is already published
riesling1Windows Server 2019 Standard / x64  OK    OK    OK    OK  
palomino3Windows Server 2022 Datacenter / x64  OK    OK    OK    OK  NO, package depends on 'SingleCellExperiment' which is not available
merida1macOS 10.14.6 Mojave / x86_64  OK    OK    OK    OK  UNNEEDED, same version is already published
Package 57/116HostnameOS / ArchINSTALLBUILDCHECKBUILD BIN
mumosa 1.3.0  (landing page)
Aaron Lun
git_last_commit: e1f85ad
git_last_commit_date: 2021-10-26 13:05:57 -0500
nebbiolo1Linux (Ubuntu 20.04.4 LTS) / x86_64  OK    OK    OK  UNNEEDED, same version is already published
riesling1Windows Server 2019 Standard / x64  OK    OK    OK    OK  
palomino3Windows Server 2022 Datacenter / x64  OK    OK    OK    OK  NO, package depends on 'SingleCellExperiment' which is not available
merida1macOS 10.14.6 Mojave / x86_64  OK    OK    OK    OK  UNNEEDED, same version is already published
Package 58/116HostnameOS / ArchINSTALLBUILDCHECKBUILD BIN
muscat 1.9.2  (landing page)
Helena L. Crowell
git_last_commit: fc948b9
git_last_commit_date: 2022-01-14 03:55:13 -0500
nebbiolo1Linux (Ubuntu 20.04.4 LTS) / x86_64  OK    OK    OK  YES
riesling1Windows Server 2019 Standard / x64  OK    OK    ERROR    OK  
palomino3Windows Server 2022 Datacenter / x64  OK    OK    ERROR    OK  
merida1macOS 10.14.6 Mojave / x86_64  OK    OK    OK    OK  UNNEEDED, same version is already published
Package 59/116HostnameOS / ArchINSTALLBUILDCHECKBUILD BIN
Nebulosa 1.5.0  (landing page)
Jose Alquicira-Hernandez
git_last_commit: 28e28a0
git_last_commit_date: 2021-10-26 13:01:47 -0500
nebbiolo1Linux (Ubuntu 20.04.4 LTS) / x86_64  OK    OK    OK  UNNEEDED, same version is already published
riesling1Windows Server 2019 Standard / x64  OK    OK    OK    OK  
palomino3Windows Server 2022 Datacenter / x64  OK    OK    OK    OK  NO, package depends on 'SingleCellExperiment' which is not available
merida1macOS 10.14.6 Mojave / x86_64  OK    OK    OK    OK  UNNEEDED, same version is already published
Package 60/116HostnameOS / ArchINSTALLBUILDCHECKBUILD BIN
netSmooth 1.15.1  (landing page)
Jonathan Ronen
git_last_commit: e60e19f
git_last_commit_date: 2021-11-21 00:38:38 -0500
nebbiolo1Linux (Ubuntu 20.04.4 LTS) / x86_64  OK    OK    OK  UNNEEDED, same version is already published
riesling1Windows Server 2019 Standard / x64  OK    OK    OK    OK  
palomino3Windows Server 2022 Datacenter / x64  OK    OK    OK    OK  NO, package depends on 'scater' which is not available
merida1macOS 10.14.6 Mojave / x86_64  OK    OK    OK    OK  UNNEEDED, same version is already published
Package 61/116HostnameOS / ArchINSTALLBUILDCHECKBUILD BIN
NeuCA 1.1.0  (landing page)
Hao Feng
git_last_commit: 02e68f2
git_last_commit_date: 2021-10-26 13:11:13 -0500
nebbiolo1Linux (Ubuntu 20.04.4 LTS) / x86_64  OK    OK    OK  UNNEEDED, same version is already published
riesling1Windows Server 2019 Standard / x64  OK    OK    OK    OK  
palomino3Windows Server 2022 Datacenter / x64  OK    OK    OK    OK  NO, package depends on 'SingleCellExperiment' which is not available
merida1macOS 10.14.6 Mojave / x86_64  OK    OK    OK    OK  UNNEEDED, same version is already published
Package 62/116HostnameOS / ArchINSTALLBUILDCHECKBUILD BIN
NewWave 1.5.0  (landing page)
Federico Agostinis
git_last_commit: 0e95f54
git_last_commit_date: 2021-10-26 13:05:00 -0500
nebbiolo1Linux (Ubuntu 20.04.4 LTS) / x86_64  OK    OK    ERROR  
riesling1Windows Server 2019 Standard / x64  OK    OK    OK    OK  
palomino3Windows Server 2022 Datacenter / x64  OK    OK    OK    OK  NO, package depends on 'SummarizedExperiment' which is not available
merida1macOS 10.14.6 Mojave / x86_64  OK    OK    OK    OK  UNNEEDED, same version is already published
Package 63/116HostnameOS / ArchINSTALLBUILDCHECKBUILD BIN
peco 1.7.1  (landing page)
Chiaowen Joyce Hsiao
git_last_commit: 4ee9c2a
git_last_commit_date: 2021-11-21 00:41:45 -0500
nebbiolo1Linux (Ubuntu 20.04.4 LTS) / x86_64  OK    OK    OK  UNNEEDED, same version is already published
riesling1Windows Server 2019 Standard / x64  OK    OK    OK    OK  
palomino3Windows Server 2022 Datacenter / x64  OK    OK    OK    OK  NO, package depends on 'scater' which is not available
merida1macOS 10.14.6 Mojave / x86_64  OK    OK    OK    OK  UNNEEDED, same version is already published
Package 64/116HostnameOS / ArchINSTALLBUILDCHECKBUILD BIN
phemd 1.11.0  (landing page)
William S Chen
git_last_commit: 0a1c200
git_last_commit_date: 2021-10-26 12:49:23 -0500
nebbiolo1Linux (Ubuntu 20.04.4 LTS) / x86_64  ERROR    ERROR  skipped
riesling1Windows Server 2019 Standard / x64  ERROR    ERROR  skippedskipped
palomino3Windows Server 2022 Datacenter / x64  ERROR    ERROR  skippedskipped
merida1macOS 10.14.6 Mojave / x86_64  ERROR    ERROR  skippedskipped
Package 65/116HostnameOS / ArchINSTALLBUILDCHECKBUILD BIN
pipeComp 1.5.0  (landing page)
Pierre-Luc Germain
git_last_commit: b60d48b
git_last_commit_date: 2021-10-26 13:00:42 -0500
nebbiolo1Linux (Ubuntu 20.04.4 LTS) / x86_64  OK    OK    OK  UNNEEDED, same version is already published
riesling1Windows Server 2019 Standard / x64  OK    OK    OK    OK  
palomino3Windows Server 2022 Datacenter / x64  OK    OK    OK    OK  NO, package depends on 'S4Vectors' which is not available
merida1macOS 10.14.6 Mojave / x86_64  OK    OK    OK    OK  UNNEEDED, same version is already published
Package 66/116HostnameOS / ArchINSTALLBUILDCHECKBUILD BIN
POWSC 1.3.1  (landing page)
Kenong Su
git_last_commit: 7562ca3
git_last_commit_date: 2021-11-21 00:42:58 -0500
nebbiolo1Linux (Ubuntu 20.04.4 LTS) / x86_64  OK    OK    OK  UNNEEDED, same version is already published
riesling1Windows Server 2019 Standard / x64  OK    OK    OK    OK  
palomino3Windows Server 2022 Datacenter / x64  OK    OK    OK    OK  NO, package depends on 'Biobase' which is not available
merida1macOS 10.14.6 Mojave / x86_64  OK    OK    OK    OK  UNNEEDED, same version is already published
Package 67/116HostnameOS / ArchINSTALLBUILDCHECKBUILD BIN
SC3 1.23.0  (landing page)
Vladimir Kiselev
git_last_commit: e8945df
git_last_commit_date: 2021-10-26 12:24:46 -0500
nebbiolo1Linux (Ubuntu 20.04.4 LTS) / x86_64  OK    OK    OK  UNNEEDED, same version is already published
riesling1Windows Server 2019 Standard / x64  OK    OK    OK    OK  
palomino3Windows Server 2022 Datacenter / x64  OK    OK    OK    OK  NO, package depends on 'SummarizedExperiment' which is not available
merida1macOS 10.14.6 Mojave / x86_64  OK    OK    OK    OK  UNNEEDED, same version is already published
Package 68/116HostnameOS / ArchINSTALLBUILDCHECKBUILD BIN
scAlign 1.9.0  (landing page)
Nelson Johansen
git_last_commit: e55d97f
git_last_commit_date: 2021-12-16 16:07:24 -0500
nebbiolo1Linux (Ubuntu 20.04.4 LTS) / x86_64  OK    OK    ERROR  
riesling1Windows Server 2019 Standard / x64  OK    OK    ERROR    OK  
palomino3Windows Server 2022 Datacenter / x64  OK    OK    ERROR    OK  
merida1macOS 10.14.6 Mojave / x86_64  OK    OK    ERROR    OK  
Package 69/116HostnameOS / ArchINSTALLBUILDCHECKBUILD BIN
scAnnotatR 1.1.0  (landing page)
Johannes Griss
git_last_commit: f219b1a
git_last_commit_date: 2021-10-26 13:12:15 -0500
nebbiolo1Linux (Ubuntu 20.04.4 LTS) / x86_64  OK    OK    OK  UNNEEDED, same version is already published
riesling1Windows Server 2019 Standard / x64  OK    OK    OK    OK  
palomino3Windows Server 2022 Datacenter / x64  OK    OK    OK    OK  NO, package depends on 'SingleCellExperiment' which is not available
merida1macOS 10.14.6 Mojave / x86_64  OK    OK    OK    OK  UNNEEDED, same version is already published
Package 70/116HostnameOS / ArchINSTALLBUILDCHECKBUILD BIN
SCArray 1.3.0  (landing page)
Xiuwen Zheng
git_last_commit: 2b9c588
git_last_commit_date: 2021-10-26 13:06:13 -0500
nebbiolo1Linux (Ubuntu 20.04.4 LTS) / x86_64  OK    OK    OK  UNNEEDED, same version is already published
riesling1Windows Server 2019 Standard / x64  OK    OK    OK    OK  
palomino3Windows Server 2022 Datacenter / x64  OK    OK    OK    OK  NO, package depends on 'DelayedArray' which is not available
merida1macOS 10.14.6 Mojave / x86_64  OK    OK    OK    OK  UNNEEDED, same version is already published
Package 71/116HostnameOS / ArchINSTALLBUILDCHECKBUILD BIN
scater 1.23.2  (landing page)
Alan O'Callaghan
git_last_commit: e45b63b
git_last_commit_date: 2021-12-14 04:16:59 -0500
nebbiolo1Linux (Ubuntu 20.04.4 LTS) / x86_64  OK    OK    OK  UNNEEDED, same version is already published
riesling1Windows Server 2019 Standard / x64  OK    OK    OK    OK  
palomino3Windows Server 2022 Datacenter / x64  OK    OK    OK    OK  NO, package depends on 'SingleCellExperiment' which is not available
merida1macOS 10.14.6 Mojave / x86_64  OK    OK    OK    OK  UNNEEDED, same version is already published
Package 72/116HostnameOS / ArchINSTALLBUILDCHECKBUILD BIN
scBFA 1.9.0  (landing page)
Ruoxin Li
git_last_commit: f07892d
git_last_commit_date: 2021-10-26 12:53:20 -0500
nebbiolo1Linux (Ubuntu 20.04.4 LTS) / x86_64  OK    OK    OK  UNNEEDED, same version is already published
riesling1Windows Server 2019 Standard / x64  OK    OK    OK    OK  
palomino3Windows Server 2022 Datacenter / x64  OK    OK    OK    OK  NO, package depends on 'SingleCellExperiment' which is not available
merida1macOS 10.14.6 Mojave / x86_64  OK    OK    OK    OK  UNNEEDED, same version is already published
Package 73/116HostnameOS / ArchINSTALLBUILDCHECKBUILD BIN
scCB2 1.5.1  (landing page)
Zijian Ni
git_last_commit: 67c50a3
git_last_commit_date: 2022-01-17 20:57:05 -0500
nebbiolo1Linux (Ubuntu 20.04.4 LTS) / x86_64  OK    OK    OK  YES
riesling1Windows Server 2019 Standard / x64  OK    OK    OK    OK  
palomino3Windows Server 2022 Datacenter / x64  OK    OK    OK    OK  NO, package depends on 'SingleCellExperiment' which is not available
merida1macOS 10.14.6 Mojave / x86_64  OK    OK    OK    OK  YES
Package 74/116HostnameOS / ArchINSTALLBUILDCHECKBUILD BIN
sccomp 0.99.18  (landing page)
Stefano Mangiola
git_last_commit: 1976f29
git_last_commit_date: 2021-10-22 19:32:29 -0500
nebbiolo1Linux (Ubuntu 20.04.4 LTS) / x86_64  OK    OK    OK  UNNEEDED, same version is already published
riesling1Windows Server 2019 Standard / x64  OK    OK    OK    OK  
palomino3Windows Server 2022 Datacenter / x64  OK    OK    OK    OK  NO, package depends on 'SingleCellExperiment' which is not available
merida1macOS 10.14.6 Mojave / x86_64  OK    OK    OK    OK  UNNEEDED, same version is already published
Package 75/116HostnameOS / ArchINSTALLBUILDCHECKBUILD BIN
scDataviz 1.5.0  (landing page)
Kevin Blighe
git_last_commit: 6c21af5
git_last_commit_date: 2021-10-26 13:01:09 -0500
nebbiolo1Linux (Ubuntu 20.04.4 LTS) / x86_64  OK    OK    OK  UNNEEDED, same version is already published
riesling1Windows Server 2019 Standard / x64  OK    OK    OK    OK  
palomino3Windows Server 2022 Datacenter / x64  ERROR    ERROR  skippedskipped
merida1macOS 10.14.6 Mojave / x86_64  OK    OK    OK    OK  UNNEEDED, same version is already published
Package 76/116HostnameOS / ArchINSTALLBUILDCHECKBUILD BIN
scDblFinder 1.9.4  (landing page)
Pierre-Luc Germain
git_last_commit: c6e2188
git_last_commit_date: 2021-12-09 02:30:51 -0500
nebbiolo1Linux (Ubuntu 20.04.4 LTS) / x86_64  OK    OK    OK  UNNEEDED, same version is already published
riesling1Windows Server 2019 Standard / x64  OK    OK    OK    OK  
palomino3Windows Server 2022 Datacenter / x64  OK    OK    OK    OK  NO, package depends on 'BiocGenerics' which is not available
merida1macOS 10.14.6 Mojave / x86_64  OK    OK    OK    OK  UNNEEDED, same version is already published
Package 77/116HostnameOS / ArchINSTALLBUILDCHECKBUILD BIN
scDD 1.19.1  (landing page)
Keegan Korthauer
git_last_commit: e96d5c3
git_last_commit_date: 2021-11-21 00:52:11 -0500
nebbiolo1Linux (Ubuntu 20.04.4 LTS) / x86_64  OK    OK    OK  UNNEEDED, same version is already published
riesling1Windows Server 2019 Standard / x64  OK    OK    OK    OK  
palomino3Windows Server 2022 Datacenter / x64  OK    OK    OK    OK  NO, package depends on 'SingleCellExperiment' which is not available
merida1macOS 10.14.6 Mojave / x86_64  OK    OK    OK    OK  UNNEEDED, same version is already published
Package 78/116HostnameOS / ArchINSTALLBUILDCHECKBUILD BIN
scds 1.11.1  (landing page)
Dennis Kostka
git_last_commit: 33e5e1c
git_last_commit_date: 2021-11-21 00:52:20 -0500
nebbiolo1Linux (Ubuntu 20.04.4 LTS) / x86_64  OK    OK    OK  UNNEEDED, same version is already published
riesling1Windows Server 2019 Standard / x64  OK    OK    OK    OK  
palomino3Windows Server 2022 Datacenter / x64  OK    OK    OK    OK  NO, package depends on 'S4Vectors' which is not available
merida1macOS 10.14.6 Mojave / x86_64  OK    OK    OK    OK  UNNEEDED, same version is already published
Package 79/116HostnameOS / ArchINSTALLBUILDCHECKBUILD BIN
scGPS 1.9.0  (landing page)
Quan Nguyen
git_last_commit: b3daff4
git_last_commit_date: 2021-10-26 12:53:06 -0500
nebbiolo1Linux (Ubuntu 20.04.4 LTS) / x86_64  OK    OK    OK  UNNEEDED, same version is already published
riesling1Windows Server 2019 Standard / x64  OK    OK    OK    OK  
palomino3Windows Server 2022 Datacenter / x64  OK    OK    OK    OK  NO, package depends on 'SummarizedExperiment' which is not available
merida1macOS 10.14.6 Mojave / x86_64  OK    OK    OK    OK  UNNEEDED, same version is already published
Package 80/116HostnameOS / ArchINSTALLBUILDCHECKBUILD BIN
schex 1.9.0  (landing page)
Saskia Freytag
git_last_commit: 5fe720d
git_last_commit_date: 2021-10-26 12:55:25 -0500
nebbiolo1Linux (Ubuntu 20.04.4 LTS) / x86_64  OK    OK    OK  UNNEEDED, same version is already published
riesling1Windows Server 2019 Standard / x64  OK    OK    OK    OK  
palomino3Windows Server 2022 Datacenter / x64  OK    OK    OK    OK  NO, package depends on 'SingleCellExperiment' which is not available
merida1macOS 10.14.6 Mojave / x86_64  OK    OK    OK    OK  UNNEEDED, same version is already published
Package 81/116HostnameOS / ArchINSTALLBUILDCHECKBUILD BIN
scHOT 1.7.1  (landing page)
Shila Ghazanfar
git_last_commit: 0b300db
git_last_commit_date: 2021-11-21 00:52:34 -0500
nebbiolo1Linux (Ubuntu 20.04.4 LTS) / x86_64  OK    OK    OK  UNNEEDED, same version is already published
riesling1Windows Server 2019 Standard / x64  OK    OK    OK    OK  
palomino3Windows Server 2022 Datacenter / x64  OK    OK    OK    OK  NO, package depends on 'S4Vectors' which is not available
merida1macOS 10.14.6 Mojave / x86_64  OK    OK    OK    OK  UNNEEDED, same version is already published
Package 82/116HostnameOS / ArchINSTALLBUILDCHECKBUILD BIN
scmap 1.17.0  (landing page)
Vladimir Kiselev
git_last_commit: 3c19565
git_last_commit_date: 2021-10-26 12:36:15 -0500
nebbiolo1Linux (Ubuntu 20.04.4 LTS) / x86_64  OK    OK    OK  UNNEEDED, same version is already published
riesling1Windows Server 2019 Standard / x64  OK    OK    OK    OK  
palomino3Windows Server 2022 Datacenter / x64  OK    OK    OK    OK  NO, package depends on 'Biobase' which is not available
merida1macOS 10.14.6 Mojave / x86_64  OK    OK    OK    OK  UNNEEDED, same version is already published
Package 83/116HostnameOS / ArchINSTALLBUILDCHECKBUILD BIN
scMerge 1.11.0  (landing page)
Yingxin Lin
git_last_commit: 04ba008
git_last_commit_date: 2021-10-26 12:51:33 -0500
nebbiolo1Linux (Ubuntu 20.04.4 LTS) / x86_64  OK    OK    OK  UNNEEDED, same version is already published
riesling1Windows Server 2019 Standard / x64  ERROR    ERROR  skippedskipped
palomino3Windows Server 2022 Datacenter / x64  OK    OK    OK    OK  NO, package depends on 'BiocSingular' which is not available
merida1macOS 10.14.6 Mojave / x86_64  OK    OK    OK    OK  UNNEEDED, same version is already published
Package 84/116HostnameOS / ArchINSTALLBUILDCHECKBUILD BIN
SCnorm 1.17.0  (landing page)
Rhonda Bacher
git_last_commit: 05ee52f
git_last_commit_date: 2021-10-26 12:36:46 -0500
nebbiolo1Linux (Ubuntu 20.04.4 LTS) / x86_64  OK    OK    OK  UNNEEDED, same version is already published
riesling1Windows Server 2019 Standard / x64  OK    OK    OK    OK  
palomino3Windows Server 2022 Datacenter / x64  OK    OK    OK    OK  NO, package depends on 'SingleCellExperiment' which is not available
merida1macOS 10.14.6 Mojave / x86_64  OK    OK    OK    OK  UNNEEDED, same version is already published
Package 85/116HostnameOS / ArchINSTALLBUILDCHECKBUILD BIN
scone 1.19.0  (landing page)
Davide Risso
git_last_commit: 73bf4da
git_last_commit_date: 2021-10-26 12:32:11 -0500
nebbiolo1Linux (Ubuntu 20.04.4 LTS) / x86_64  OK    OK    OK  UNNEEDED, same version is already published
riesling1Windows Server 2019 Standard / x64  OK    OK    OK    OK  
palomino3Windows Server 2022 Datacenter / x64  OK    OK    OK    OK  NO, package depends on 'SummarizedExperiment' which is not available
merida1macOS 10.14.6 Mojave / x86_64  OK    OK    OK    OK  UNNEEDED, same version is already published
Package 86/116HostnameOS / ArchINSTALLBUILDCHECKBUILD BIN
scp 1.5.0  (landing page)
Christophe Vanderaa
git_last_commit: e527a4a
git_last_commit_date: 2021-10-26 13:03:38 -0500
nebbiolo1Linux (Ubuntu 20.04.4 LTS) / x86_64  OK    OK    OK  UNNEEDED, same version is already published
riesling1Windows Server 2019 Standard / x64  OK    OK    OK    OK  
palomino3Windows Server 2022 Datacenter / x64  OK    OK    OK    OK  NO, package depends on 'QFeatures' which is not available
merida1macOS 10.14.6 Mojave / x86_64  OK    OK    OK    OK  UNNEEDED, same version is already published
Package 87/116HostnameOS / ArchINSTALLBUILDCHECKBUILD BIN
scPipe 1.17.0  (landing page)
Luyi Tian
git_last_commit: 051135a
git_last_commit_date: 2021-10-26 12:39:05 -0500
nebbiolo1Linux (Ubuntu 20.04.4 LTS) / x86_64  OK    OK    OK  UNNEEDED, same version is already published
riesling1Windows Server 2019 Standard / x64  OK    OK    OK    OK  
palomino3Windows Server 2022 Datacenter / x64  OK    OK    OK    OK  NO, package depends on 'SingleCellExperiment' which is not available
merida1macOS 10.14.6 Mojave / x86_64  OK    OK    OK    OK  UNNEEDED, same version is already published
Package 88/116HostnameOS / ArchINSTALLBUILDCHECKBUILD BIN
scran 1.23.1  (landing page)
Aaron Lun
git_last_commit: 9e3f4fb
git_last_commit_date: 2021-11-12 02:33:17 -0500
nebbiolo1Linux (Ubuntu 20.04.4 LTS) / x86_64  OK    OK    WARNINGS  UNNEEDED, same version is already published
riesling1Windows Server 2019 Standard / x64  OK    OK    WARNINGS    OK  
palomino3Windows Server 2022 Datacenter / x64  OK    OK    WARNINGS    OK  NO, package depends on 'SingleCellExperiment' which is not available
merida1macOS 10.14.6 Mojave / x86_64  OK    OK    WARNINGS    OK  UNNEEDED, same version is already published
Package 89/116HostnameOS / ArchINSTALLBUILDCHECKBUILD BIN
scReClassify 1.1.0  (landing page)
Taiyun Kim
git_last_commit: 959af60
git_last_commit_date: 2021-10-26 13:12:24 -0500
nebbiolo1Linux (Ubuntu 20.04.4 LTS) / x86_64  OK    OK    OK  UNNEEDED, same version is already published
riesling1Windows Server 2019 Standard / x64  OK    OK    OK    OK  
palomino3Windows Server 2022 Datacenter / x64  OK    OK    OK    OK  NO, package depends on 'SummarizedExperiment' which is not available
merida1macOS 10.14.6 Mojave / x86_64  OK    OK    OK    OK  UNNEEDED, same version is already published
Package 90/116HostnameOS / ArchINSTALLBUILDCHECKBUILD BIN
scruff 1.13.2  (landing page)
Zhe Wang
git_last_commit: d974aa7
git_last_commit_date: 2021-11-21 00:53:13 -0500
nebbiolo1Linux (Ubuntu 20.04.4 LTS) / x86_64  OK    OK    OK  UNNEEDED, same version is already published
riesling1Windows Server 2019 Standard / x64  OK    OK    OK    OK  
palomino3Windows Server 2022 Datacenter / x64  OK    OK    OK    OK  NO, package depends on 'GenomicAlignments' which is not available
merida1macOS 10.14.6 Mojave / x86_64  OK    OK    OK    OK  UNNEEDED, same version is already published
Package 91/116HostnameOS / ArchINSTALLBUILDCHECKBUILD BIN
scry 1.7.0  (landing page)
Kelly Street
git_last_commit: 38594df
git_last_commit_date: 2021-10-26 12:59:27 -0500
nebbiolo1Linux (Ubuntu 20.04.4 LTS) / x86_64  OK    OK    OK  UNNEEDED, same version is already published
riesling1Windows Server 2019 Standard / x64  OK    OK    OK    OK  
palomino3Windows Server 2022 Datacenter / x64  OK    OK    OK    OK  NO, package depends on 'DelayedArray' which is not available
merida1macOS 10.14.6 Mojave / x86_64  OK    OK    OK    OK  UNNEEDED, same version is already published
Package 92/116HostnameOS / ArchINSTALLBUILDCHECKBUILD BIN
scTensor 2.5.1  (landing page)
Koki Tsuyuzaki
git_last_commit: 642ea01
git_last_commit_date: 2021-12-16 01:05:05 -0500
nebbiolo1Linux (Ubuntu 20.04.4 LTS) / x86_64  OK    OK    OK  UNNEEDED, same version is already published
riesling1Windows Server 2019 Standard / x64  OK    OK    OK    OK  
palomino3Windows Server 2022 Datacenter / x64  OK    OK    OK    OK  NO, package depends on 'S4Vectors' which is not available
merida1macOS 10.14.6 Mojave / x86_64  OK    OK    OK    OK  NO, package depends on 'ReactomePA' which is not available
Package 93/116HostnameOS / ArchINSTALLBUILDCHECKBUILD BIN
scTGIF 1.9.0  (landing page)
Koki Tsuyuzaki
git_last_commit: 3f1c0d8
git_last_commit_date: 2021-10-26 12:55:54 -0500
nebbiolo1Linux (Ubuntu 20.04.4 LTS) / x86_64  OK    OK    OK  UNNEEDED, same version is already published
riesling1Windows Server 2019 Standard / x64  OK    OK    OK    OK  
palomino3Windows Server 2022 Datacenter / x64  OK    OK    OK    OK  NO, package depends on 'GSEABase' which is not available
merida1macOS 10.14.6 Mojave / x86_64  OK    ERROR  skippedskipped
Package 94/116HostnameOS / ArchINSTALLBUILDCHECKBUILD BIN
scTreeViz 1.1.1  (landing page)
Jayaram Kancherla
git_last_commit: 9f52713
git_last_commit_date: 2021-11-16 00:16:43 -0500
nebbiolo1Linux (Ubuntu 20.04.4 LTS) / x86_64  OK    OK    OK  UNNEEDED, same version is already published
riesling1Windows Server 2019 Standard / x64  OK    OK    OK    OK  
palomino3Windows Server 2022 Datacenter / x64  OK    OK    OK    OK  NO, package depends on 'epivizr' which is not available
merida1macOS 10.14.6 Mojave / x86_64  OK    OK    OK    OK  UNNEEDED, same version is already published
Package 95/116HostnameOS / ArchINSTALLBUILDCHECKBUILD BIN
scuttle 1.5.0  (landing page)
Aaron Lun
git_last_commit: 513a223
git_last_commit_date: 2021-10-26 13:00:07 -0500
nebbiolo1Linux (Ubuntu 20.04.4 LTS) / x86_64  OK    OK    WARNINGS  UNNEEDED, same version is already published
riesling1Windows Server 2019 Standard / x64  OK    OK    WARNINGS    OK  
palomino3Windows Server 2022 Datacenter / x64  OK    OK    WARNINGS    OK  NO, package depends on 'SingleCellExperiment' which is not available
merida1macOS 10.14.6 Mojave / x86_64  OK    OK    WARNINGS    OK  UNNEEDED, same version is already published
Package 96/116HostnameOS / ArchINSTALLBUILDCHECKBUILD BIN
singleCellTK 2.5.1  (landing page)
Yichen Wang
git_last_commit: cdbe999
git_last_commit_date: 2021-11-21 00:55:04 -0500
nebbiolo1Linux (Ubuntu 20.04.4 LTS) / x86_64  OK    OK    ERROR  
riesling1Windows Server 2019 Standard / x64  OK    OK    ERROR    OK  
palomino3Windows Server 2022 Datacenter / x64  OK    OK    ERROR    OK  
merida1macOS 10.14.6 Mojave / x86_64  OK    OK    ERROR    OK  
Package 97/116HostnameOS / ArchINSTALLBUILDCHECKBUILD BIN
slalom 1.17.1  (landing page)
Davis McCarthy
git_last_commit: 2a915ba
git_last_commit_date: 2021-11-21 00:55:27 -0500
nebbiolo1Linux (Ubuntu 20.04.4 LTS) / x86_64  OK    OK    OK  UNNEEDED, same version is already published
riesling1Windows Server 2019 Standard / x64  OK    OK    OK    OK  
palomino3Windows Server 2022 Datacenter / x64  OK    OK    OK    OK  NO, package depends on 'GSEABase' which is not available
merida1macOS 10.14.6 Mojave / x86_64  OK    OK    WARNINGS    OK  UNNEEDED, same version is already published
Package 98/116HostnameOS / ArchINSTALLBUILDCHECKBUILD BIN
slingshot 2.3.0  (landing page)
Kelly Street
git_last_commit: 1ad9f42
git_last_commit_date: 2021-10-26 12:45:07 -0500
nebbiolo1Linux (Ubuntu 20.04.4 LTS) / x86_64  OK    OK    OK  UNNEEDED, same version is already published
riesling1Windows Server 2019 Standard / x64  OK    OK    OK    OK  
palomino3Windows Server 2022 Datacenter / x64  OK    OK    OK    OK  NO, package depends on 'TrajectoryUtils' which is not available
merida1macOS 10.14.6 Mojave / x86_64  OK    OK    OK    OK  UNNEEDED, same version is already published
Package 99/116HostnameOS / ArchINSTALLBUILDCHECKBUILD BIN
Spaniel 1.9.0  (landing page)
Rachel Queen
git_last_commit: 77edc5c
git_last_commit_date: 2021-10-26 12:54:30 -0500
nebbiolo1Linux (Ubuntu 20.04.4 LTS) / x86_64  OK    OK    OK  UNNEEDED, same version is already published
riesling1Windows Server 2019 Standard / x64  OK    OK    OK    OK  
palomino3Windows Server 2022 Datacenter / x64  OK    OK    OK    OK  NO, package depends on 'SingleCellExperiment' which is not available
merida1macOS 10.14.6 Mojave / x86_64  OK    OK    OK    OK  UNNEEDED, same version is already published
Package 100/116HostnameOS / ArchINSTALLBUILDCHECKBUILD BIN
SpatialExperiment 1.5.2  (landing page)
Dario Righelli
git_last_commit: 06b7977
git_last_commit_date: 2022-01-14 10:00:04 -0500
nebbiolo1Linux (Ubuntu 20.04.4 LTS) / x86_64  OK    OK    OK  UNNEEDED, same version is already published
riesling1Windows Server 2019 Standard / x64  OK    OK    OK    OK  
palomino3Windows Server 2022 Datacenter / x64  OK    OK    OK    OK  NO, package depends on 'SingleCellExperiment' which is not available
merida1macOS 10.14.6 Mojave / x86_64  OK    OK    OK    OK  UNNEEDED, same version is already published
Package 101/116HostnameOS / ArchINSTALLBUILDCHECKBUILD BIN
splatter 1.19.2  (landing page)
Luke Zappia
git_last_commit: 3a9274c
git_last_commit_date: 2022-01-10 13:04:09 -0500
nebbiolo1Linux (Ubuntu 20.04.4 LTS) / x86_64  OK    OK    OK  UNNEEDED, same version is already published
riesling1Windows Server 2019 Standard / x64  OK    OK    OK    OK  
palomino3Windows Server 2022 Datacenter / x64  OK    OK    OK    OK  NO, package depends on 'SingleCellExperiment' which is not available
merida1macOS 10.14.6 Mojave / x86_64  OK    OK    OK    OK  UNNEEDED, same version is already published
Package 102/116HostnameOS / ArchINSTALLBUILDCHECKBUILD BIN
SPsimSeq 1.5.1  (landing page)
Joris Meys
git_last_commit: 04643b2
git_last_commit_date: 2021-11-21 00:57:28 -0500
nebbiolo1Linux (Ubuntu 20.04.4 LTS) / x86_64  OK    OK    OK  UNNEEDED, same version is already published
riesling1Windows Server 2019 Standard / x64  OK    OK    OK    OK  
palomino3Windows Server 2022 Datacenter / x64  OK    OK    OK    OK  NO, package depends on 'SingleCellExperiment' which is not available
merida1macOS 10.14.6 Mojave / x86_64  OK    OK    OK    OK  UNNEEDED, same version is already published
Package 103/116HostnameOS / ArchINSTALLBUILDCHECKBUILD BIN
switchde 1.21.0  (landing page)
Kieran Campbell
git_last_commit: 5691844
git_last_commit_date: 2021-10-26 12:29:29 -0500
nebbiolo1Linux (Ubuntu 20.04.4 LTS) / x86_64  OK    OK    OK  UNNEEDED, same version is already published
riesling1Windows Server 2019 Standard / x64  OK    OK    OK    OK  
palomino3Windows Server 2022 Datacenter / x64  OK    OK    OK    OK  NO, package depends on 'SingleCellExperiment' which is not available
merida1macOS 10.14.6 Mojave / x86_64  OK    OK    OK    OK  UNNEEDED, same version is already published
Package 104/116HostnameOS / ArchINSTALLBUILDCHECKBUILD BIN
tidySingleCellExperiment 1.5.0  (landing page)
Stefano Mangiola
git_last_commit: 2447819
git_last_commit_date: 2021-10-26 13:04:43 -0500
nebbiolo1Linux (Ubuntu 20.04.4 LTS) / x86_64  OK    OK    OK  UNNEEDED, same version is already published
riesling1Windows Server 2019 Standard / x64  OK    OK    OK    OK  
palomino3Windows Server 2022 Datacenter / x64  OK    OK    OK    OK  NO, package depends on 'SingleCellExperiment' which is not available
merida1macOS 10.14.6 Mojave / x86_64  OK    OK    OK    OK  UNNEEDED, same version is already published
Package 105/116HostnameOS / ArchINSTALLBUILDCHECKBUILD BIN
tradeSeq 1.9.0  (landing page)
Hector Roux de Bezieux
git_last_commit: b8403da
git_last_commit_date: 2021-10-26 12:56:03 -0500
nebbiolo1Linux (Ubuntu 20.04.4 LTS) / x86_64  OK    OK    OK  UNNEEDED, same version is already published
riesling1Windows Server 2019 Standard / x64  OK    OK    OK    OK  
palomino3Windows Server 2022 Datacenter / x64  OK    OK    OK    OK  NO, package depends on 'SingleCellExperiment' which is not available
merida1macOS 10.14.6 Mojave / x86_64  OK    OK    OK    OK  UNNEEDED, same version is already published
Package 106/116HostnameOS / ArchINSTALLBUILDCHECKBUILD BIN
TrajectoryUtils 1.3.0  (landing page)
Aaron Lun
git_last_commit: b6b5095
git_last_commit_date: 2021-10-26 13:06:41 -0500
nebbiolo1Linux (Ubuntu 20.04.4 LTS) / x86_64  OK    OK    OK  UNNEEDED, same version is already published
riesling1Windows Server 2019 Standard / x64  OK    OK    OK    OK  
palomino3Windows Server 2022 Datacenter / x64  OK    OK    OK    OK  NO, package depends on 'SingleCellExperiment' which is not available
merida1macOS 10.14.6 Mojave / x86_64  OK    OK    OK    OK  UNNEEDED, same version is already published
Package 107/116HostnameOS / ArchINSTALLBUILDCHECKBUILD BIN
traviz 1.1.0  (landing page)
Koen Van den Berge
git_last_commit: 4ce6bc8
git_last_commit_date: 2021-10-26 13:11:53 -0500
nebbiolo1Linux (Ubuntu 20.04.4 LTS) / x86_64  OK    OK    OK  UNNEEDED, same version is already published
riesling1Windows Server 2019 Standard / x64  OK    OK    OK    OK  
palomino3Windows Server 2022 Datacenter / x64  OK    OK    OK    OK  NO, package depends on 'SingleCellExperiment' which is not available
merida1macOS 10.14.6 Mojave / x86_64  OK    OK    OK    OK  UNNEEDED, same version is already published
Package 108/116HostnameOS / ArchINSTALLBUILDCHECKBUILD BIN
treekoR 1.3.0  (landing page)
Adam Chan
git_last_commit: ed859ad
git_last_commit_date: 2021-10-26 13:08:55 -0500
nebbiolo1Linux (Ubuntu 20.04.4 LTS) / x86_64  OK    OK    WARNINGS  UNNEEDED, same version is already published
riesling1Windows Server 2019 Standard / x64  OK    OK    WARNINGS    OK  
palomino3Windows Server 2022 Datacenter / x64  ERROR    ERROR  skippedskipped
merida1macOS 10.14.6 Mojave / x86_64  OK    OK    WARNINGS    OK  UNNEEDED, same version is already published
Package 109/116HostnameOS / ArchINSTALLBUILDCHECKBUILD BIN
TreeSummarizedExperiment 2.3.0  (landing page)
Ruizhu Huang
git_last_commit: 3b1c088
git_last_commit_date: 2021-10-26 12:52:17 -0500
nebbiolo1Linux (Ubuntu 20.04.4 LTS) / x86_64  OK    OK    OK  UNNEEDED, same version is already published
riesling1Windows Server 2019 Standard / x64  OK    OK    OK    OK  
palomino3Windows Server 2022 Datacenter / x64  OK    OK    OK    OK  NO, package depends on 'SingleCellExperiment' which is not available
merida1macOS 10.14.6 Mojave / x86_64  OK    OK    OK    OK  UNNEEDED, same version is already published
Package 110/116HostnameOS / ArchINSTALLBUILDCHECKBUILD BIN
tricycle 1.3.3  (landing page)
Shijie Zheng
git_last_commit: f273974
git_last_commit_date: 2021-12-01 09:50:03 -0500
nebbiolo1Linux (Ubuntu 20.04.4 LTS) / x86_64  OK    OK    WARNINGS  UNNEEDED, same version is already published
riesling1Windows Server 2019 Standard / x64  OK    OK    WARNINGS    OK  
palomino3Windows Server 2022 Datacenter / x64  OK    OK    WARNINGS    OK  NO, package depends on 'SingleCellExperiment' which is not available
merida1macOS 10.14.6 Mojave / x86_64  OK    OK    WARNINGS    OK  UNNEEDED, same version is already published
Package 111/116HostnameOS / ArchINSTALLBUILDCHECKBUILD BIN
TSCAN 1.33.0  (landing page)
Zhicheng Ji
git_last_commit: 7b5b668
git_last_commit_date: 2021-10-26 12:15:48 -0500
nebbiolo1Linux (Ubuntu 20.04.4 LTS) / x86_64  OK    OK    WARNINGS  UNNEEDED, same version is already published
riesling1Windows Server 2019 Standard / x64  OK    OK    WARNINGS    OK  
palomino3Windows Server 2022 Datacenter / x64  OK    OK    WARNINGS    OK  NO, package depends on 'SingleCellExperiment' which is not available
merida1macOS 10.14.6 Mojave / x86_64  OK    OK    WARNINGS    OK  UNNEEDED, same version is already published
Package 112/116HostnameOS / ArchINSTALLBUILDCHECKBUILD BIN
VAExprs 1.1.1  (landing page)
Dongmin Jung
git_last_commit: 52c852f
git_last_commit_date: 2021-12-16 15:44:54 -0500
nebbiolo1Linux (Ubuntu 20.04.4 LTS) / x86_64  OK    OK    OK  UNNEEDED, same version is already published
riesling1Windows Server 2019 Standard / x64  OK    OK    OK    OK  
palomino3Windows Server 2022 Datacenter / x64  OK    OK    OK    OK  NO, package depends on 'SingleCellExperiment' which is not available
merida1macOS 10.14.6 Mojave / x86_64  OK    OK    OK    OK  UNNEEDED, same version is already published
Package 113/116HostnameOS / ArchINSTALLBUILDCHECKBUILD BIN
velociraptor 1.5.1  (landing page)
Kevin Rue-Albrecht
git_last_commit: 7343fc3
git_last_commit_date: 2021-12-16 15:42:53 -0500
nebbiolo1Linux (Ubuntu 20.04.4 LTS) / x86_64  OK    OK    OK  UNNEEDED, same version is already published
riesling1Windows Server 2019 Standard / x64  OK    OK    OK    OK  
palomino3Windows Server 2022 Datacenter / x64  OK    OK    OK    OK  NO, package depends on 'SummarizedExperiment' which is not available
merida1macOS 10.14.6 Mojave / x86_64  OK    OK    OK    OK  UNNEEDED, same version is already published
Package 114/116HostnameOS / ArchINSTALLBUILDCHECKBUILD BIN
waddR 1.9.0  (landing page)
Julian Flesch
git_last_commit: 710924c
git_last_commit_date: 2021-10-26 12:55:17 -0500
nebbiolo1Linux (Ubuntu 20.04.4 LTS) / x86_64  OK    OK    OK  UNNEEDED, same version is already published
riesling1Windows Server 2019 Standard / x64  OK    OK    ERROR    OK  
palomino3Windows Server 2022 Datacenter / x64  OK    OK    ERROR    OK  
merida1macOS 10.14.6 Mojave / x86_64  OK    OK    OK    OK  UNNEEDED, same version is already published
Package 115/116HostnameOS / ArchINSTALLBUILDCHECKBUILD BIN
zellkonverter 1.5.0  (landing page)
Luke Zappia
git_last_commit: 31ff1b5
git_last_commit_date: 2021-12-16 15:38:02 -0500
nebbiolo1Linux (Ubuntu 20.04.4 LTS) / x86_64  OK    OK    OK  UNNEEDED, same version is already published
riesling1Windows Server 2019 Standard / x64  OK    OK    OK    OK  
palomino3Windows Server 2022 Datacenter / x64  OK    OK    OK    OK  NO, package depends on 'SingleCellExperiment' which is not available
merida1macOS 10.14.6 Mojave / x86_64  OK    OK    OK    OK  UNNEEDED, same version is already published
Package 116/116HostnameOS / ArchINSTALLBUILDCHECKBUILD BIN
zinbwave 1.17.0  (landing page)
Davide Risso
git_last_commit: 01f62fc
git_last_commit_date: 2021-10-26 12:35:52 -0500
nebbiolo1Linux (Ubuntu 20.04.4 LTS) / x86_64  OK    OK    OK  UNNEEDED, same version is already published
riesling1Windows Server 2019 Standard / x64  OK    OK    OK    OK  
palomino3Windows Server 2022 Datacenter / x64  OK    OK    OK    OK  NO, package depends on 'SummarizedExperiment' which is not available
merida1macOS 10.14.6 Mojave / x86_64  OK    OK    OK    OK  UNNEEDED, same version is already published