Back to Multiple platform build/check report for BioC 3.15
ABCDEFGHIJKLMNOPQ[R]STUVWXYZ

This page was generated on 2022-08-08 13:19:50 -0400 (Mon, 08 Aug 2022).

HostnameOSArch (*)R versionInstalled pkgs
nebbiolo1Linux (Ubuntu 20.04.4 LTS)x86_644.2.1 (2022-06-23) -- "Funny-Looking Kid" 4362
merida1macOS 10.14.6 Mojavex86_644.2.1 (2022-06-23) -- "Funny-Looking Kid" 4180
Click on any hostname to see more info about the system (e.g. compilers)      (*) as reported by 'uname -p', except on Windows and Mac OS X

INSTALL results for recount3 on nebbiolo1


To the developers/maintainers of the recount3 package:
- Please allow up to 24 hours (and sometimes 48 hours) for your latest push to git@git.bioconductor.org:packages/recount3.git to
reflect on this report. See How and When does the builder pull? When will my changes propagate? for more information.
- Make sure to use the following settings in order to reproduce any error or warning you see on this page.

raw results

Package 1610/2140HostnameOS / ArchINSTALLBUILDCHECKBUILD BIN
recount3 1.6.0  (landing page)
Leonardo Collado-Torres
Snapshot Date: 2022-08-07 13:55:12 -0400 (Sun, 07 Aug 2022)
git_url: https://git.bioconductor.org/packages/recount3
git_branch: RELEASE_3_15
git_last_commit: 32292b2
git_last_commit_date: 2022-04-26 12:09:29 -0400 (Tue, 26 Apr 2022)
nebbiolo1Linux (Ubuntu 20.04.4 LTS) / x86_64  OK    OK    OK  UNNEEDED, same version is already published
merida1macOS 10.14.6 Mojave / x86_64  OK    OK    OK    OK  UNNEEDED, same version is already published

Summary

Package: recount3
Version: 1.6.0
Command: /home/biocbuild/bbs-3.15-bioc/R/bin/R CMD INSTALL recount3
StartedAt: 2022-08-07 15:38:23 -0400 (Sun, 07 Aug 2022)
EndedAt: 2022-08-07 15:38:54 -0400 (Sun, 07 Aug 2022)
EllapsedTime: 31.2 seconds
RetCode: 0
Status:   OK  

Command output

##############################################################################
##############################################################################
###
### Running command:
###
###   /home/biocbuild/bbs-3.15-bioc/R/bin/R CMD INSTALL recount3
###
##############################################################################
##############################################################################


* installing to library ‘/home/biocbuild/bbs-3.15-bioc/R/library’
* installing *source* package ‘recount3’ ...
** using staged installation
** R
** inst
** byte-compile and prepare package for lazy loading
** help
*** installing help indices
*** copying figures
** building package indices
** installing vignettes
** testing if installed package can be loaded from temporary location
** testing if installed package can be loaded from final location
** testing if installed package keeps a record of temporary installation path
* DONE (recount3)