Back to Multiple platform build/check report for BioC 3.15
ABC[D]EFGHIJKLMNOPQRSTUVWXYZ

This page was generated on 2022-05-23 12:07:43 -0400 (Mon, 23 May 2022).

HostnameOSArch (*)R versionInstalled pkgs
nebbiolo1Linux (Ubuntu 20.04.4 LTS)x86_644.2.0 (2022-04-22) -- "Vigorous Calisthenics" 4380
palomino3Windows Server 2022 Datacenterx644.2.0 (2022-04-22 ucrt) -- "Vigorous Calisthenics" 4155
merida1macOS 10.14.6 Mojavex86_644.2.0 (2022-04-22) -- "Vigorous Calisthenics" 4221
Click on any hostname to see more info about the system (e.g. compilers)      (*) as reported by 'uname -p', except on Windows and Mac OS X

CHECK results for DEScan2 on merida1


To the developers/maintainers of the DEScan2 package:
- Please allow up to 24 hours (and sometimes 48 hours) for your latest push to git@git.bioconductor.org:packages/DEScan2.git to
reflect on this report. See How and When does the builder pull? When will my changes propagate? for more information.
- Make sure to use the following settings in order to reproduce any error or warning you see on this page.

raw results

Package 513/2140HostnameOS / ArchINSTALLBUILDCHECKBUILD BIN
DEScan2 1.16.0  (landing page)
Dario Righelli
Snapshot Date: 2022-05-22 13:55:15 -0400 (Sun, 22 May 2022)
git_url: https://git.bioconductor.org/packages/DEScan2
git_branch: RELEASE_3_15
git_last_commit: 0b0ac15
git_last_commit_date: 2022-04-26 11:47:49 -0400 (Tue, 26 Apr 2022)
nebbiolo1Linux (Ubuntu 20.04.4 LTS) / x86_64  OK    OK    OK  UNNEEDED, same version is already published
palomino3Windows Server 2022 Datacenter / x64  OK    OK    OK    OK  UNNEEDED, same version is already published
merida1macOS 10.14.6 Mojave / x86_64  OK    OK    OK    OK  UNNEEDED, same version is already published

Summary

Package: DEScan2
Version: 1.16.0
Command: /Library/Frameworks/R.framework/Resources/bin/R CMD check --install=check:DEScan2.install-out.txt --library=/Library/Frameworks/R.framework/Resources/library --no-vignettes --timings DEScan2_1.16.0.tar.gz
StartedAt: 2022-05-23 01:27:04 -0400 (Mon, 23 May 2022)
EndedAt: 2022-05-23 01:38:55 -0400 (Mon, 23 May 2022)
EllapsedTime: 711.4 seconds
RetCode: 0
Status:   OK  
CheckDir: DEScan2.Rcheck
Warnings: 0

Command output

##############################################################################
##############################################################################
###
### Running command:
###
###   /Library/Frameworks/R.framework/Resources/bin/R CMD check --install=check:DEScan2.install-out.txt --library=/Library/Frameworks/R.framework/Resources/library --no-vignettes --timings DEScan2_1.16.0.tar.gz
###
##############################################################################
##############################################################################


* using log directory ‘/Users/biocbuild/bbs-3.15-bioc/meat/DEScan2.Rcheck’
* using R version 4.2.0 (2022-04-22)
* using platform: x86_64-apple-darwin17.0 (64-bit)
* using session charset: UTF-8
* using option ‘--no-vignettes’
* checking for file ‘DEScan2/DESCRIPTION’ ... OK
* checking extension type ... Package
* this is package ‘DEScan2’ version ‘1.16.0’
* package encoding: UTF-8
* checking package namespace information ... OK
* checking package dependencies ... OK
* checking if this is a source package ... OK
* checking if there is a namespace ... OK
* checking for hidden files and directories ... OK
* checking for portable file names ... OK
* checking for sufficient/correct file permissions ... OK
* checking whether package ‘DEScan2’ can be installed ... OK
* checking installed package size ... OK
* checking package directory ... OK
* checking ‘build’ directory ... OK
* checking DESCRIPTION meta-information ... OK
* checking top-level files ... OK
* checking for left-over files ... OK
* checking index information ... OK
* checking package subdirectories ... OK
* checking R files for non-ASCII characters ... OK
* checking R files for syntax errors ... OK
* checking whether the package can be loaded ... OK
* checking whether the package can be loaded with stated dependencies ... OK
* checking whether the package can be unloaded cleanly ... OK
* checking whether the namespace can be loaded with stated dependencies ... OK
* checking whether the namespace can be unloaded cleanly ... OK
* checking dependencies in R code ... OK
* checking S3 generic/method consistency ... OK
* checking replacement functions ... OK
* checking foreign function calls ... OK
* checking R code for possible problems ... NOTE
.addScoreCol: no visible global function definition for 'mcols<-'
Undefined global functions or variables:
  mcols<-
* checking Rd files ... OK
* checking Rd metadata ... OK
* checking Rd cross-references ... OK
* checking for missing documentation entries ... OK
* checking for code/documentation mismatches ... OK
* checking Rd \usage sections ... OK
* checking Rd contents ... OK
* checking for unstated dependencies in examples ... OK
* checking line endings in C/C++/Fortran sources/headers ... OK
* checking line endings in Makefiles ... OK
* checking compilation flags in Makevars ... OK
* checking for GNU extensions in Makefiles ... OK
* checking for portable use of $(BLAS_LIBS) and $(LAPACK_LIBS) ... OK
* checking use of PKG_*FLAGS in Makefiles ... OK
* checking compiled code ... NOTE
Note: information on .o files is not available
* checking files in ‘vignettes’ ... OK
* checking examples ... OK
Examples with CPU (user + system) or elapsed time > 5s
                               user system elapsed
fromSamplesToChrsGRangesList 35.777  4.344   0.691
finalRegions                 34.969  1.375  36.316
findOverlapsOverSamples      19.392  0.363  19.787
binnedCoverage               16.994  0.738  18.062
countFinalRegions             7.677  0.621   8.624
readFilesAsGRangesList        6.455  0.510   6.980
findPeaks                     1.008  0.119  40.201
* checking for unstated dependencies in ‘tests’ ... OK
* checking tests ...
  Running ‘testthat.R’
 OK
* checking for unstated dependencies in vignettes ... OK
* checking package vignettes in ‘inst/doc’ ... OK
* checking running R code from vignettes ... SKIPPED
* checking re-building of vignette outputs ... SKIPPED
* checking PDF version of manual ... OK
* DONE

Status: 2 NOTEs
See
  ‘/Users/biocbuild/bbs-3.15-bioc/meat/DEScan2.Rcheck/00check.log’
for details.



Installation output

DEScan2.Rcheck/00install.out

##############################################################################
##############################################################################
###
### Running command:
###
###   /Library/Frameworks/R.framework/Resources/bin/R CMD INSTALL DEScan2
###
##############################################################################
##############################################################################


* installing to library ‘/Library/Frameworks/R.framework/Versions/4.2/Resources/library’
* installing *source* package ‘DEScan2’ ...
** using staged installation
** libs
clang++ -mmacosx-version-min=10.13 -std=gnu++11 -I"/Library/Frameworks/R.framework/Resources/include" -DNDEBUG  -I'/Library/Frameworks/R.framework/Versions/4.2/Resources/library/Rcpp/include' -I'/Library/Frameworks/R.framework/Versions/4.2/Resources/library/RcppArmadillo/include' -I/usr/local/include   -fPIC  -Wall -g -O2  -c RcppExports.cpp -o RcppExports.o
clang++ -mmacosx-version-min=10.13 -std=gnu++11 -I"/Library/Frameworks/R.framework/Resources/include" -DNDEBUG  -I'/Library/Frameworks/R.framework/Versions/4.2/Resources/library/Rcpp/include' -I'/Library/Frameworks/R.framework/Versions/4.2/Resources/library/RcppArmadillo/include' -I/usr/local/include   -fPIC  -Wall -g -O2  -c rcpparma_max_win.cpp -o rcpparma_max_win.o
clang++ -mmacosx-version-min=10.13 -std=gnu++11 -dynamiclib -Wl,-headerpad_max_install_names -undefined dynamic_lookup -single_module -multiply_defined suppress -L/Library/Frameworks/R.framework/Resources/lib -L/usr/local/lib -o DEScan2.so RcppExports.o rcpparma_max_win.o -L/Library/Frameworks/R.framework/Resources/lib -lRlapack -L/Library/Frameworks/R.framework/Resources/lib -lRblas -L/usr/local/gfortran/lib/gcc/x86_64-apple-darwin18/8.2.0 -L/usr/local/gfortran/lib -lgfortran -lquadmath -lm -F/Library/Frameworks/R.framework/.. -framework R -Wl,-framework -Wl,CoreFoundation
installing to /Library/Frameworks/R.framework/Versions/4.2/Resources/library/00LOCK-DEScan2/00new/DEScan2/libs
** R
** inst
** byte-compile and prepare package for lazy loading
** help
*** installing help indices
** building package indices
** installing vignettes
** testing if installed package can be loaded from temporary location
** checking absolute paths in shared objects and dynamic libraries
** testing if installed package can be loaded from final location
** testing if installed package keeps a record of temporary installation path
* DONE (DEScan2)

Tests output

DEScan2.Rcheck/tests/testthat.Rout


R version 4.2.0 (2022-04-22) -- "Vigorous Calisthenics"
Copyright (C) 2022 The R Foundation for Statistical Computing
Platform: x86_64-apple-darwin17.0 (64-bit)

R is free software and comes with ABSOLUTELY NO WARRANTY.
You are welcome to redistribute it under certain conditions.
Type 'license()' or 'licence()' for distribution details.

R is a collaborative project with many contributors.
Type 'contributors()' for more information and
'citation()' on how to cite R or R packages in publications.

Type 'demo()' for some demos, 'help()' for on-line help, or
'help.start()' for an HTML browser interface to help.
Type 'q()' to quit R.

> library("testthat")
> library("DEScan2")
Loading required package: GenomicRanges
Loading required package: stats4
Loading required package: BiocGenerics

Attaching package: 'BiocGenerics'

The following objects are masked from 'package:stats':

    IQR, mad, sd, var, xtabs

The following objects are masked from 'package:base':

    Filter, Find, Map, Position, Reduce, anyDuplicated, append,
    as.data.frame, basename, cbind, colnames, dirname, do.call,
    duplicated, eval, evalq, get, grep, grepl, intersect, is.unsorted,
    lapply, mapply, match, mget, order, paste, pmax, pmax.int, pmin,
    pmin.int, rank, rbind, rownames, sapply, setdiff, sort, table,
    tapply, union, unique, unsplit, which.max, which.min

Loading required package: S4Vectors

Attaching package: 'S4Vectors'

The following objects are masked from 'package:base':

    I, expand.grid, unname

Loading required package: IRanges
Loading required package: GenomeInfoDb
> 
> test_check("DEScan2")
Maximizing with zthresh: 10	sigwin: 10
[ FAIL 0 | WARN 0 | SKIP 0 | PASS 7 ]
> 
> proc.time()
   user  system elapsed 
 82.040   8.386  93.604 

Example timings

DEScan2.Rcheck/DEScan2-Ex.timings

nameusersystemelapsed
RleListToRleMatrix0.2710.0090.279
binnedCoverage16.994 0.73818.062
constructBedRanges0.9450.0440.990
countFinalRegions7.6770.6218.624
createGranges0.3300.0120.342
cutGRangesPerChromosome0.0980.0000.099
divideEachSampleByChromosomes0.2750.0020.278
finalRegions34.969 1.37536.316
findOverlapsOverSamples19.392 0.36319.787
findPeaks 1.008 0.11940.201
fromSamplesToChrsGRangesList35.777 4.344 0.691
keepRelevantChrs0.0880.0080.097
readBamAsBed0.1830.0310.214
readBedFile0.2300.0270.277
readFilesAsGRangesList6.4550.5106.980
saveGRangesAsBed0.1570.0050.163
saveGRangesAsTsv0.0220.0000.023
setGRGenomeInfo0.2970.0130.310