Back to Multiple platform build/check report for BioC 3.15 |
|
This page was generated on 2022-06-24 12:06:28 -0400 (Fri, 24 Jun 2022).
Hostname | OS | Arch (*) | R version | Installed pkgs |
---|---|---|---|---|
nebbiolo1 | Linux (Ubuntu 20.04.4 LTS) | x86_64 | 4.2.0 (2022-04-22) -- "Vigorous Calisthenics" | 4380 |
palomino3 | Windows Server 2022 Datacenter | x64 | 4.2.0 (2022-04-22 ucrt) -- "Vigorous Calisthenics" | 4156 |
merida1 | macOS 10.14.6 Mojave | x86_64 | 4.2.0 (2022-04-22) -- "Vigorous Calisthenics" | 4221 |
Click on any hostname to see more info about the system (e.g. compilers) (*) as reported by 'uname -p', except on Windows and Mac OS X |
To the developers/maintainers of the ORFik package: - Please allow up to 24 hours (and sometimes 48 hours) for your latest push to git@git.bioconductor.org:packages/ORFik.git to reflect on this report. See How and When does the builder pull? When will my changes propagate? for more information. - Make sure to use the following settings in order to reproduce any error or warning you see on this page. |
Package 1386/2140 | Hostname | OS / Arch | INSTALL | BUILD | CHECK | BUILD BIN | ||||||||
ORFik 1.16.0 (landing page) Haakon Tjeldnes
| nebbiolo1 | Linux (Ubuntu 20.04.4 LTS) / x86_64 | OK | OK | ERROR | |||||||||
palomino3 | Windows Server 2022 Datacenter / x64 | OK | OK | ERROR | OK | |||||||||
merida1 | macOS 10.14.6 Mojave / x86_64 | OK | OK | ERROR | NA | |||||||||
Package: ORFik |
Version: 1.16.0 |
Command: chmod a+r ORFik -R && F:\biocbuild\bbs-3.15-bioc\R\bin\R.exe CMD build --keep-empty-dirs --no-resave-data ORFik |
StartedAt: 2022-06-23 20:02:15 -0400 (Thu, 23 Jun 2022) |
EndedAt: 2022-06-23 20:08:33 -0400 (Thu, 23 Jun 2022) |
EllapsedTime: 378.4 seconds |
RetCode: 0 |
Status: OK |
PackageFile: ORFik_1.16.0.tar.gz |
PackageFileSize: 2.605 MiB |
############################################################################## ############################################################################## ### ### Running command: ### ### chmod a+r ORFik -R && F:\biocbuild\bbs-3.15-bioc\R\bin\R.exe CMD build --keep-empty-dirs --no-resave-data ORFik ### ############################################################################## ############################################################################## * checking for file 'ORFik/DESCRIPTION' ... OK * preparing 'ORFik': * checking DESCRIPTION meta-information ... OK * cleaning src * installing the package to build vignettes * creating vignettes ... OK * cleaning src * checking for LF line-endings in source and make files and shell scripts * checking for empty or unneeded directories Omitted 'LazyData' from DESCRIPTION * building 'ORFik_1.16.0.tar.gz'