Back to Multiple platform build/check report for BioC 3.15
ABC[D]EFGHIJKLMNOPQRSTUVWXYZ

This page was generated on 2022-05-27 12:05:13 -0400 (Fri, 27 May 2022).

HostnameOSArch (*)R versionInstalled pkgs
nebbiolo1Linux (Ubuntu 20.04.4 LTS)x86_644.2.0 (2022-04-22) -- "Vigorous Calisthenics" 4380
palomino3Windows Server 2022 Datacenterx644.2.0 (2022-04-22 ucrt) -- "Vigorous Calisthenics" 4156
merida1macOS 10.14.6 Mojavex86_644.2.0 (2022-04-22) -- "Vigorous Calisthenics" 4221
Click on any hostname to see more info about the system (e.g. compilers)      (*) as reported by 'uname -p', except on Windows and Mac OS X

CHECK results for decompTumor2Sig on nebbiolo1


To the developers/maintainers of the decompTumor2Sig package:
- Please allow up to 24 hours (and sometimes 48 hours) for your latest push to git@git.bioconductor.org:packages/decompTumor2Sig.git to
reflect on this report. See How and When does the builder pull? When will my changes propagate? for more information.
- Make sure to use the following settings in order to reproduce any error or warning you see on this page.

raw results

Package 483/2140HostnameOS / ArchINSTALLBUILDCHECKBUILD BIN
decompTumor2Sig 2.12.0  (landing page)
Rosario M. Piro
Snapshot Date: 2022-05-26 13:55:15 -0400 (Thu, 26 May 2022)
git_url: https://git.bioconductor.org/packages/decompTumor2Sig
git_branch: RELEASE_3_15
git_last_commit: 8b41d1c
git_last_commit_date: 2022-04-26 11:52:21 -0400 (Tue, 26 Apr 2022)
nebbiolo1Linux (Ubuntu 20.04.4 LTS) / x86_64  OK    OK    OK  UNNEEDED, same version is already published
palomino3Windows Server 2022 Datacenter / x64  OK    OK    OK    OK  UNNEEDED, same version is already published
merida1macOS 10.14.6 Mojave / x86_64  OK    OK    OK    OK  UNNEEDED, same version is already published

Summary

Package: decompTumor2Sig
Version: 2.12.0
Command: /home/biocbuild/bbs-3.15-bioc/R/bin/R CMD check --install=check:decompTumor2Sig.install-out.txt --library=/home/biocbuild/bbs-3.15-bioc/R/library --no-vignettes --timings decompTumor2Sig_2.12.0.tar.gz
StartedAt: 2022-05-26 19:12:57 -0400 (Thu, 26 May 2022)
EndedAt: 2022-05-26 19:19:03 -0400 (Thu, 26 May 2022)
EllapsedTime: 366.0 seconds
RetCode: 0
Status:   OK  
CheckDir: decompTumor2Sig.Rcheck
Warnings: 0

Command output

##############################################################################
##############################################################################
###
### Running command:
###
###   /home/biocbuild/bbs-3.15-bioc/R/bin/R CMD check --install=check:decompTumor2Sig.install-out.txt --library=/home/biocbuild/bbs-3.15-bioc/R/library --no-vignettes --timings decompTumor2Sig_2.12.0.tar.gz
###
##############################################################################
##############################################################################


* using log directory ‘/home/biocbuild/bbs-3.15-bioc/meat/decompTumor2Sig.Rcheck’
* using R version 4.2.0 (2022-04-22)
* using platform: x86_64-pc-linux-gnu (64-bit)
* using session charset: UTF-8
* using option ‘--no-vignettes’
* checking for file ‘decompTumor2Sig/DESCRIPTION’ ... OK
* checking extension type ... Package
* this is package ‘decompTumor2Sig’ version ‘2.12.0’
* package encoding: UTF-8
* checking package namespace information ... OK
* checking package dependencies ... OK
* checking if this is a source package ... OK
* checking if there is a namespace ... OK
* checking for hidden files and directories ... OK
* checking for portable file names ... OK
* checking for sufficient/correct file permissions ... OK
* checking whether package ‘decompTumor2Sig’ can be installed ... OK
* checking installed package size ... OK
* checking package directory ... OK
* checking ‘build’ directory ... OK
* checking DESCRIPTION meta-information ... OK
* checking top-level files ... OK
* checking for left-over files ... OK
* checking index information ... OK
* checking package subdirectories ... OK
* checking R files for non-ASCII characters ... OK
* checking R files for syntax errors ... OK
* checking whether the package can be loaded ... OK
* checking whether the package can be loaded with stated dependencies ... OK
* checking whether the package can be unloaded cleanly ... OK
* checking whether the namespace can be loaded with stated dependencies ... OK
* checking whether the namespace can be unloaded cleanly ... OK
* checking dependencies in R code ... OK
* checking S3 generic/method consistency ... OK
* checking replacement functions ... OK
* checking foreign function calls ... OK
* checking R code for possible problems ... OK
* checking Rd files ... OK
* checking Rd metadata ... OK
* checking Rd cross-references ... OK
* checking for missing documentation entries ... OK
* checking for code/documentation mismatches ... OK
* checking Rd \usage sections ... OK
* checking Rd contents ... OK
* checking for unstated dependencies in examples ... OK
* checking files in ‘vignettes’ ... OK
* checking examples ... OK
Examples with CPU (user + system) or elapsed time > 5s
                            user system elapsed
plotExplainedVariance     67.044  1.243  68.709
convertGenomesFromVRanges  6.274  1.283   7.574
decomposeTumorGenomes      3.630  0.884   5.330
* checking for unstated dependencies in vignettes ... OK
* checking package vignettes in ‘inst/doc’ ... OK
* checking running R code from vignettes ... SKIPPED
* checking re-building of vignette outputs ... SKIPPED
* checking PDF version of manual ... OK
* DONE

Status: OK


Installation output

decompTumor2Sig.Rcheck/00install.out

##############################################################################
##############################################################################
###
### Running command:
###
###   /home/biocbuild/bbs-3.15-bioc/R/bin/R CMD INSTALL decompTumor2Sig
###
##############################################################################
##############################################################################


* installing to library ‘/home/biocbuild/bbs-3.15-bioc/R/library’
* installing *source* package ‘decompTumor2Sig’ ...
** using staged installation
** R
** inst
** byte-compile and prepare package for lazy loading
** help
*** installing help indices
** building package indices
** installing vignettes
** testing if installed package can be loaded from temporary location
** testing if installed package can be loaded from final location
** testing if installed package keeps a record of temporary installation path
* DONE (decompTumor2Sig)

Tests output


Example timings

decompTumor2Sig.Rcheck/decompTumor2Sig-Ex.timings

nameusersystemelapsed
adjustSignaturesForRegionSet1.4260.3843.344
composeGenomesFromExposures0.2970.0411.062
computeExplainedVariance0.1800.0151.225
convertAlexandrov2Shiraishi0.0660.0040.785
convertGenomesFromVRanges6.2741.2837.574
decomposeTumorGenomes3.6300.8845.330
determineSignatureDistances0.0770.0161.017
downgradeShiraishiSignatures0.0090.0000.010
evaluateDecompositionQuality0.1770.0290.939
getGenomesFromMutFeatData0.3520.0200.373
getSignaturesFromEstParam0.1210.0040.127
isAlexandrovSet0.0450.0090.783
isExposureSet2.5080.5813.918
isShiraishiSet0.0820.0151.009
isSignatureSet0.0420.0081.078
mapSignatureSets0.1160.0080.855
plotDecomposedContribution0.3160.0521.083
plotExplainedVariance67.044 1.24368.709
plotMutationDistribution1.3920.0762.197
readAlexandrovSignatures0.0490.0120.880
readGenomesFromMPF2.1570.7642.934
readGenomesFromVCF3.5770.6574.234
readShiraishiSignatures0.0040.0030.009
sameSignatureFormat0.1150.0131.148