Back to Multiple platform build/check report for BioC 3.15
ABCDEFGHIJKLMNOPQRS[T]UVWXYZ

This page was generated on 2022-06-22 12:09:06 -0400 (Wed, 22 Jun 2022).

HostnameOSArch (*)R versionInstalled pkgs
nebbiolo1Linux (Ubuntu 20.04.4 LTS)x86_644.2.0 (2022-04-22) -- "Vigorous Calisthenics" 4380
palomino3Windows Server 2022 Datacenterx644.2.0 (2022-04-22 ucrt) -- "Vigorous Calisthenics" 4156
merida1macOS 10.14.6 Mojavex86_644.2.0 (2022-04-22) -- "Vigorous Calisthenics" 4221
Click on any hostname to see more info about the system (e.g. compilers)      (*) as reported by 'uname -p', except on Windows and Mac OS X

BUILD BIN results for tximeta on merida1


To the developers/maintainers of the tximeta package:
- Please allow up to 24 hours (and sometimes 48 hours) for your latest push to git@git.bioconductor.org:packages/tximeta.git to
reflect on this report. See How and When does the builder pull? When will my changes propagate? for more information.
- Make sure to use the following settings in order to reproduce any error or warning you see on this page.

raw results

Package 2076/2140HostnameOS / ArchINSTALLBUILDCHECKBUILD BIN
tximeta 1.14.0  (landing page)
Michael Love
Snapshot Date: 2022-06-21 13:55:06 -0400 (Tue, 21 Jun 2022)
git_url: https://git.bioconductor.org/packages/tximeta
git_branch: RELEASE_3_15
git_last_commit: 4ba5735
git_last_commit_date: 2022-04-26 11:50:46 -0400 (Tue, 26 Apr 2022)
nebbiolo1Linux (Ubuntu 20.04.4 LTS) / x86_64  OK    OK    OK  UNNEEDED, same version is already published
palomino3Windows Server 2022 Datacenter / x64  OK    OK    OK    OK  UNNEEDED, same version is already published
merida1macOS 10.14.6 Mojave / x86_64  OK    OK    OK    OK  UNNEEDED, same version is already published

Summary

Package: tximeta
Version: 1.14.0
Command: rm -rf tximeta.buildbin-libdir && mkdir tximeta.buildbin-libdir && /Users/biocbuild/BBS/utils/build-universal.sh tximeta_1.14.0.tar.gz /Library/Frameworks/R.framework/Resources/bin/R tximeta.buildbin-libdir
StartedAt: 2022-06-22 11:31:11 -0400 (Wed, 22 Jun 2022)
EndedAt: 2022-06-22 11:32:30 -0400 (Wed, 22 Jun 2022)
EllapsedTime: 78.7 seconds
RetCode: 0
Status:   OK  
PackageFile: tximeta_1.14.0.tgz
PackageFileSize: 728.7 KiB

Command output

##############################################################################
##############################################################################
###
### Running command:
###
###   rm -rf tximeta.buildbin-libdir && mkdir tximeta.buildbin-libdir && /Users/biocbuild/BBS/utils/build-universal.sh tximeta_1.14.0.tar.gz /Library/Frameworks/R.framework/Resources/bin/R tximeta.buildbin-libdir
###
##############################################################################
##############################################################################


>>>>>>> 
>>>>>>> INSTALLATION WITH 'R CMD INSTALL --preclean --no-multiarch --library=tximeta.buildbin-libdir tximeta_1.14.0.tar.gz'
>>>>>>> 

* installing *source* package ‘tximeta’ ...
** using staged installation
** R
** inst
** byte-compile and prepare package for lazy loading
** help
*** installing help indices
** building package indices
** installing vignettes
** testing if installed package can be loaded from temporary location
** testing if installed package can be loaded from final location
** testing if installed package keeps a record of temporary installation path
* DONE (tximeta)