Back to Multiple platform build/check report for BioC 3.15
ABCDEFGH[I]JKLMNOPQRSTUVWXYZ

This page was generated on 2022-05-18 12:06:54 -0400 (Wed, 18 May 2022).

HostnameOSArch (*)R versionInstalled pkgs
nebbiolo1Linux (Ubuntu 20.04.4 LTS)x86_644.2.0 (2022-04-22) -- "Vigorous Calisthenics" 4379
palomino3Windows Server 2022 Datacenterx644.2.0 (2022-04-22 ucrt) -- "Vigorous Calisthenics" 4154
merida1macOS 10.14.6 Mojavex86_644.2.0 (2022-04-22) -- "Vigorous Calisthenics" 4220
Click on any hostname to see more info about the system (e.g. compilers)      (*) as reported by 'uname -p', except on Windows and Mac OS X

CHECK results for intansv on palomino3


To the developers/maintainers of the intansv package:
- Please allow up to 24 hours (and sometimes 48 hours) for your latest push to git@git.bioconductor.org:packages/intansv.git to
reflect on this report. See How and When does the builder pull? When will my changes propagate? for more information.
- Make sure to use the following settings in order to reproduce any error or warning you see on this page.

raw results

Package 963/2140HostnameOS / ArchINSTALLBUILDCHECKBUILD BIN
intansv 1.36.0  (landing page)
Wen Yao
Snapshot Date: 2022-05-17 13:55:01 -0400 (Tue, 17 May 2022)
git_url: https://git.bioconductor.org/packages/intansv
git_branch: RELEASE_3_15
git_last_commit: 0cc0a7f
git_last_commit_date: 2022-04-26 11:15:38 -0400 (Tue, 26 Apr 2022)
nebbiolo1Linux (Ubuntu 20.04.4 LTS) / x86_64  OK    OK    OK  UNNEEDED, same version is already published
palomino3Windows Server 2022 Datacenter / x64  OK    OK    OK    OK  UNNEEDED, same version is already published
merida1macOS 10.14.6 Mojave / x86_64  OK    OK    OK    OK  UNNEEDED, same version is already published

Summary

Package: intansv
Version: 1.36.0
Command: F:\biocbuild\bbs-3.15-bioc\R\bin\R.exe CMD check --no-multiarch --install=check:intansv.install-out.txt --library=F:\biocbuild\bbs-3.15-bioc\R\library --no-vignettes --timings intansv_1.36.0.tar.gz
StartedAt: 2022-05-18 00:51:49 -0400 (Wed, 18 May 2022)
EndedAt: 2022-05-18 00:57:52 -0400 (Wed, 18 May 2022)
EllapsedTime: 363.6 seconds
RetCode: 0
Status:   OK  
CheckDir: intansv.Rcheck
Warnings: 0

Command output

##############################################################################
##############################################################################
###
### Running command:
###
###   F:\biocbuild\bbs-3.15-bioc\R\bin\R.exe CMD check --no-multiarch --install=check:intansv.install-out.txt --library=F:\biocbuild\bbs-3.15-bioc\R\library --no-vignettes --timings intansv_1.36.0.tar.gz
###
##############################################################################
##############################################################################


* using log directory 'F:/biocbuild/bbs-3.15-bioc/meat/intansv.Rcheck'
* using R version 4.2.0 (2022-04-22 ucrt)
* using platform: x86_64-w64-mingw32 (64-bit)
* using session charset: UTF-8
* using option '--no-vignettes'
* checking for file 'intansv/DESCRIPTION' ... OK
* this is package 'intansv' version '1.36.0'
* checking package namespace information ... OK
* checking package dependencies ... OK
* checking if this is a source package ... OK
* checking if there is a namespace ... OK
* checking for hidden files and directories ... OK
* checking for portable file names ... OK
* checking whether package 'intansv' can be installed ... OK
* checking installed package size ... OK
* checking package directory ... OK
* checking 'build' directory ... OK
* checking DESCRIPTION meta-information ... OK
* checking top-level files ... OK
* checking for left-over files ... OK
* checking index information ... OK
* checking package subdirectories ... OK
* checking R files for non-ASCII characters ... OK
* checking R files for syntax errors ... OK
* checking whether the package can be loaded ... OK
* checking whether the package can be loaded with stated dependencies ... OK
* checking whether the package can be unloaded cleanly ... OK
* checking whether the namespace can be loaded with stated dependencies ... OK
* checking whether the namespace can be unloaded cleanly ... OK
* checking dependencies in R code ... OK
* checking S3 generic/method consistency ... OK
* checking replacement functions ... OK
* checking foreign function calls ... OK
* checking R code for possible problems ... NOTE
DellyCluster: no visible global function definition for 'subjectHits'
LumpyCluster: no visible global function definition for 'subjectHits'
PindelCluster: no visible global function definition for 'subjectHits'
breakDancerCluster: no visible global function definition for
  'subjectHits'
mergeOLCNVs: no visible global function definition for 'subjectHits'
methodsMerge: no visible global function definition for 'subjectHits'
plotChromosome: no visible global function definition for 'queryHits'
plotChromosome: no visible global function definition for 'subjectHits'
plotChromosome: no visible global function definition for
  'seqlengths<-'
plotChromosome: no visible global function definition for 'seqlengths'
plotChromosome: no visible global function definition for 'aes'
plotRegion: no visible global function definition for 'seqlengths<-'
plotRegion: no visible global function definition for 'subjectHits'
plotRegion: no visible global function definition for 'aes'
plotRegion: no visible binding for global variable 'name'
readCnvnator: no visible global function definition for 'subjectHits'
readDelly: no visible global function definition for 'subjectHits'
readLumpy: no visible global function definition for 'subjectHits'
readPindel: no visible global function definition for 'subjectHits'
readSoftSearch: no visible global function definition for 'subjectHits'
readSvseq: no visible global function definition for 'subjectHits'
readSvseq : <anonymous>: no visible global function definition for
  'subjectHits'
softSearchCluster: no visible global function definition for
  'subjectHits'
tellOLPercantage: no visible global function definition for 'queryHits'
tellOLPercantage: no visible global function definition for
  'subjectHits'
Undefined global functions or variables:
  aes name queryHits seqlengths seqlengths<- subjectHits
* checking Rd files ... OK
* checking Rd metadata ... OK
* checking Rd cross-references ... OK
* checking for missing documentation entries ... OK
* checking for code/documentation mismatches ... OK
* checking Rd \usage sections ... OK
* checking Rd contents ... OK
* checking for unstated dependencies in examples ... OK
* checking sizes of PDF files under 'inst/doc' ... OK
* checking files in 'vignettes' ... OK
* checking examples ... OK
Examples with CPU (user + system) or elapsed time > 5s
              user system elapsed
methodsMerge 24.91    0.5   26.19
* checking for unstated dependencies in vignettes ... OK
* checking package vignettes in 'inst/doc' ... OK
* checking running R code from vignettes ... SKIPPED
* checking re-building of vignette outputs ... SKIPPED
* checking PDF version of manual ... OK
* DONE

Status: 1 NOTE
See
  'F:/biocbuild/bbs-3.15-bioc/meat/intansv.Rcheck/00check.log'
for details.



Installation output

intansv.Rcheck/00install.out

##############################################################################
##############################################################################
###
### Running command:
###
###   F:\biocbuild\bbs-3.15-bioc\R\bin\R.exe CMD INSTALL intansv
###
##############################################################################
##############################################################################


* installing to library 'F:/biocbuild/bbs-3.15-bioc/R/library'
* installing *source* package 'intansv' ...
** using staged installation
** R
** inst
** byte-compile and prepare package for lazy loading
** help
*** installing help indices
** building package indices
** installing vignettes
** testing if installed package can be loaded from temporary location
** testing if installed package can be loaded from final location
** testing if installed package keeps a record of temporary installation path
* DONE (intansv)

Tests output


Example timings

intansv.Rcheck/intansv-Ex.timings

nameusersystemelapsed
methodsMerge24.91 0.5026.19
plotChromosome4.390.064.45
plotRegion3.660.024.12
readBreakDancer1.450.031.49
readCnvnator0.660.000.65
readDelly2.800.062.86
readLumpy3.700.114.04
readPindel2.580.012.59
readSoftSearch0.330.000.44
readSvseq0.260.000.27
svAnnotation1.460.031.48