Back to Multiple platform build/check report for BioC 3.15
ABCDEFGHIJKLMNOPQR[S]TUVWXYZ

This page was generated on 2022-10-19 13:19:51 -0400 (Wed, 19 Oct 2022).

HostnameOSArch (*)R versionInstalled pkgs
nebbiolo1Linux (Ubuntu 20.04.5 LTS)x86_644.2.1 (2022-06-23) -- "Funny-Looking Kid" 4386
palomino3Windows Server 2022 Datacenterx644.2.1 (2022-06-23 ucrt) -- "Funny-Looking Kid" 4138
merida1macOS 10.14.6 Mojavex86_644.2.1 (2022-06-23) -- "Funny-Looking Kid" 4205
Click on any hostname to see more info about the system (e.g. compilers)      (*) as reported by 'uname -p', except on Windows and Mac OS X

All results for package SummarizedExperiment


To the developers/maintainers of the SummarizedExperiment package:
- Please allow up to 24 hours (and sometimes 48 hours) for your latest push to git@git.bioconductor.org:packages/SummarizedExperiment.git to
reflect on this report. See How and When does the builder pull? When will my changes propagate? for more information.
- Make sure to use the following settings in order to reproduce any error or warning you see on this page.

raw results

Package 1952/2140HostnameOS / ArchINSTALLBUILDCHECKBUILD BIN
SummarizedExperiment 1.26.1  (landing page)
Bioconductor Package Maintainer
Snapshot Date: 2022-10-18 13:55:19 -0400 (Tue, 18 Oct 2022)
git_url: https://git.bioconductor.org/packages/SummarizedExperiment
git_branch: RELEASE_3_15
git_last_commit: c8cbd3b
git_last_commit_date: 2022-04-28 21:04:37 -0400 (Thu, 28 Apr 2022)
nebbiolo1Linux (Ubuntu 20.04.5 LTS) / x86_64  OK    OK    OK  UNNEEDED, same version is already published
palomino3Windows Server 2022 Datacenter / x64  OK    OK    OK    OK  UNNEEDED, same version is already published
merida1macOS 10.14.6 Mojave / x86_64  OK    OK    OK    OK  UNNEEDED, same version is already published

Results for Bioconductor software packages that depend directly on package SummarizedExperiment

QUICK STATSOS / ArchINSTALLBUILDCHECKBUILD BIN
nebbiolo1Linux (Ubuntu 20.04.5 LTS) / x86_64
04462
013453
0952392
palomino3Windows Server 2022 Datacenter / x64
05458
012451
0957385
00451
merida1macOS 10.14.6 Mojave / x86_64
04460
011453
0655392
00453
Package 1/466HostnameOS / ArchINSTALLBUILDCHECKBUILD BIN
ADAM 1.12.0  (landing page)
Jose Luiz Rybarczyk Filho
git_last_commit: 994e420
git_last_commit_date: 2022-04-26 11:52:16 -0400
nebbiolo1Linux (Ubuntu 20.04.5 LTS) / x86_64  OK    OK    OK  UNNEEDED, same version is already published
palomino3Windows Server 2022 Datacenter / x64  OK    OK    OK    OK  UNNEEDED, same version is already published
merida1macOS 10.14.6 Mojave / x86_64  OK    OK    OK    OK  UNNEEDED, same version is already published
Package 2/466HostnameOS / ArchINSTALLBUILDCHECKBUILD BIN
ADImpute 1.6.0  (landing page)
Ana Carolina Leote
git_last_commit: 1685f60
git_last_commit_date: 2022-04-26 12:10:15 -0400
nebbiolo1Linux (Ubuntu 20.04.5 LTS) / x86_64  OK    OK    WARNINGS  UNNEEDED, same version is already published
palomino3Windows Server 2022 Datacenter / x64  OK    OK    WARNINGS    OK  UNNEEDED, same version is already published
merida1macOS 10.14.6 Mojave / x86_64  OK    OK    WARNINGS    OK  UNNEEDED, same version is already published
Package 3/466HostnameOS / ArchINSTALLBUILDCHECKBUILD BIN
AffiXcan 1.14.0  (landing page)
Alessandro Lussana
git_last_commit: 135889a
git_last_commit_date: 2022-04-26 11:51:21 -0400
nebbiolo1Linux (Ubuntu 20.04.5 LTS) / x86_64  OK    OK    OK  UNNEEDED, same version is already published
palomino3Windows Server 2022 Datacenter / x64  OK    OK    OK    OK  UNNEEDED, same version is already published
merida1macOS 10.14.6 Mojave / x86_64  OK    OK    OK    OK  UNNEEDED, same version is already published
Package 4/466HostnameOS / ArchINSTALLBUILDCHECKBUILD BIN
aggregateBioVar 1.6.0  (landing page)
Jason Ratcliff
git_last_commit: acfd224
git_last_commit_date: 2022-04-26 12:08:55 -0400
nebbiolo1Linux (Ubuntu 20.04.5 LTS) / x86_64  OK    OK    OK  UNNEEDED, same version is already published
palomino3Windows Server 2022 Datacenter / x64  OK    OK    OK    OK  UNNEEDED, same version is already published
merida1macOS 10.14.6 Mojave / x86_64  OK    OK    OK    OK  UNNEEDED, same version is already published
Package 5/466HostnameOS / ArchINSTALLBUILDCHECKBUILD BIN
airpart 1.4.0  (landing page)
Wancen Mu
git_last_commit: 5ccd910
git_last_commit_date: 2022-04-26 12:14:17 -0400
nebbiolo1Linux (Ubuntu 20.04.5 LTS) / x86_64  OK    OK    OK  UNNEEDED, same version is already published
palomino3Windows Server 2022 Datacenter / x64  OK    OK    OK    OK  UNNEEDED, same version is already published
merida1macOS 10.14.6 Mojave / x86_64  OK    OK    OK    OK  UNNEEDED, same version is already published
Package 6/466HostnameOS / ArchINSTALLBUILDCHECKBUILD BIN
ALDEx2 1.28.1  (landing page)
Greg Gloor
git_last_commit: f8d8ba6
git_last_commit_date: 2022-05-03 15:01:57 -0400
nebbiolo1Linux (Ubuntu 20.04.5 LTS) / x86_64  OK    OK    OK  UNNEEDED, same version is already published
palomino3Windows Server 2022 Datacenter / x64  OK    OK    OK    OK  UNNEEDED, same version is already published
merida1macOS 10.14.6 Mojave / x86_64  OK    OK    OK    OK  UNNEEDED, same version is already published
Package 7/466HostnameOS / ArchINSTALLBUILDCHECKBUILD BIN
AllelicImbalance 1.34.0  (landing page)
Jesper R Gadin
git_last_commit: 290708c
git_last_commit_date: 2022-04-26 11:16:30 -0400
nebbiolo1Linux (Ubuntu 20.04.5 LTS) / x86_64  OK    OK    OK  UNNEEDED, same version is already published
palomino3Windows Server 2022 Datacenter / x64  OK    OK    OK    OK  UNNEEDED, same version is already published
merida1macOS 10.14.6 Mojave / x86_64  OK    OK    OK    OK  UNNEEDED, same version is already published
Package 8/466HostnameOS / ArchINSTALLBUILDCHECKBUILD BIN
alpine 1.22.0  (landing page)
Michael Love
git_last_commit: 6107a82
git_last_commit_date: 2022-04-26 11:34:53 -0400
nebbiolo1Linux (Ubuntu 20.04.5 LTS) / x86_64  OK    OK    OK  UNNEEDED, same version is already published
palomino3Windows Server 2022 Datacenter / x64  OK    OK    OK    OK  UNNEEDED, same version is already published
merida1macOS 10.14.6 Mojave / x86_64  OK    OK    OK    OK  UNNEEDED, same version is already published
Package 9/466HostnameOS / ArchINSTALLBUILDCHECKBUILD BIN
ANCOMBC 1.6.4  (landing page)
Huang Lin
git_last_commit: fa7626a
git_last_commit_date: 2022-10-17 10:48:55 -0400
nebbiolo1Linux (Ubuntu 20.04.5 LTS) / x86_64  OK    OK    OK  YES
palomino3Windows Server 2022 Datacenter / x64  OK    OK    OK    OK  YES
merida1macOS 10.14.6 Mojave / x86_64  OK    OK    OK    OK  YES
Package 10/466HostnameOS / ArchINSTALLBUILDCHECKBUILD BIN
animalcules 1.12.0  (landing page)
Yue Zhao
git_last_commit: 7f75684
git_last_commit_date: 2022-04-26 11:55:46 -0400
nebbiolo1Linux (Ubuntu 20.04.5 LTS) / x86_64  OK    OK    WARNINGS  UNNEEDED, same version is already published
palomino3Windows Server 2022 Datacenter / x64  OK    OK    WARNINGS    OK  UNNEEDED, same version is already published
merida1macOS 10.14.6 Mojave / x86_64  OK    OK    WARNINGS    OK  UNNEEDED, same version is already published
Package 11/466HostnameOS / ArchINSTALLBUILDCHECKBUILD BIN
anota2seq 1.18.0  (landing page)
Christian Oertlin , Julie Lorent
git_last_commit: 6c05999
git_last_commit_date: 2022-04-26 11:44:07 -0400
nebbiolo1Linux (Ubuntu 20.04.5 LTS) / x86_64  OK    OK    OK  UNNEEDED, same version is already published
palomino3Windows Server 2022 Datacenter / x64  OK    OK    OK    OK  UNNEEDED, same version is already published
merida1macOS 10.14.6 Mojave / x86_64  OK    OK    OK    OK  UNNEEDED, same version is already published
Package 12/466HostnameOS / ArchINSTALLBUILDCHECKBUILD BIN
APAlyzer 1.10.0  (landing page)
Ruijia Wang
git_last_commit: 0545bb5
git_last_commit_date: 2022-04-26 11:58:10 -0400
nebbiolo1Linux (Ubuntu 20.04.5 LTS) / x86_64  OK    OK    WARNINGS  UNNEEDED, same version is already published
palomino3Windows Server 2022 Datacenter / x64  OK    OK    WARNINGS    OK  UNNEEDED, same version is already published
merida1macOS 10.14.6 Mojave / x86_64  OK    OK    WARNINGS    OK  UNNEEDED, same version is already published
Package 13/466HostnameOS / ArchINSTALLBUILDCHECKBUILD BIN
apeglm 1.18.0  (landing page)
Anqi Zhu
git_last_commit: 961f6ef
git_last_commit_date: 2022-04-26 11:43:03 -0400
nebbiolo1Linux (Ubuntu 20.04.5 LTS) / x86_64  OK    OK    OK  UNNEEDED, same version is already published
palomino3Windows Server 2022 Datacenter / x64  OK    OK    OK    OK  UNNEEDED, same version is already published
merida1macOS 10.14.6 Mojave / x86_64  OK    OK    OK    OK  UNNEEDED, same version is already published
Package 14/466HostnameOS / ArchINSTALLBUILDCHECKBUILD BIN
APL 1.0.1  (landing page)
Elzbieta Gralinska
git_last_commit: 88cc955
git_last_commit_date: 2022-10-14 19:07:16 -0400
nebbiolo1Linux (Ubuntu 20.04.5 LTS) / x86_64  OK    OK    OK  UNNEEDED, same version is already published
palomino3Windows Server 2022 Datacenter / x64  OK    OK    OK    OK  UNNEEDED, same version is already published
merida1macOS 10.14.6 Mojave / x86_64  OK    OK    OK    OK  UNNEEDED, same version is already published
Package 15/466HostnameOS / ArchINSTALLBUILDCHECKBUILD BIN
appreci8R 1.14.0  (landing page)
Sarah Sandmann
git_last_commit: 8f23d88
git_last_commit_date: 2022-04-26 11:49:59 -0400
nebbiolo1Linux (Ubuntu 20.04.5 LTS) / x86_64  OK    OK    OK  UNNEEDED, same version is already published
palomino3Windows Server 2022 Datacenter / x64  OK    OK    OK    OK  UNNEEDED, same version is already published
merida1macOS 10.14.6 Mojave / x86_64  OK    OK    OK    OK  UNNEEDED, same version is already published
Package 16/466HostnameOS / ArchINSTALLBUILDCHECKBUILD BIN
ASICS 2.12.1  (landing page)
Gaëlle Lefort
git_last_commit: a399050
git_last_commit_date: 2022-06-27 02:48:56 -0400
nebbiolo1Linux (Ubuntu 20.04.5 LTS) / x86_64  OK    OK    WARNINGS  UNNEEDED, same version is already published
palomino3Windows Server 2022 Datacenter / x64  OK    OK    WARNINGS    OK  UNNEEDED, same version is already published
merida1macOS 10.14.6 Mojave / x86_64  OK    OK    WARNINGS    OK  UNNEEDED, same version is already published
Package 17/466HostnameOS / ArchINSTALLBUILDCHECKBUILD BIN
ASpediaFI 1.10.0  (landing page)
Doyeong Yu
git_last_commit: d50ff1c
git_last_commit_date: 2022-04-26 12:00:28 -0400
nebbiolo1Linux (Ubuntu 20.04.5 LTS) / x86_64  ERROR    ERROR  skipped
palomino3Windows Server 2022 Datacenter / x64  ERROR    ERROR  skippedskipped
merida1macOS 10.14.6 Mojave / x86_64  ERROR    ERROR  skippedskipped
Package 18/466HostnameOS / ArchINSTALLBUILDCHECKBUILD BIN
ASURAT 1.0.0  (landing page)
Keita Iida
git_last_commit: dd4df14
git_last_commit_date: 2022-04-26 12:22:12 -0400
nebbiolo1Linux (Ubuntu 20.04.5 LTS) / x86_64  OK    OK    OK  UNNEEDED, same version is already published
palomino3Windows Server 2022 Datacenter / x64  OK    OK    OK    OK  UNNEEDED, same version is already published
merida1macOS 10.14.6 Mojave / x86_64  OK    OK    OK    OK  UNNEEDED, same version is already published
Package 19/466HostnameOS / ArchINSTALLBUILDCHECKBUILD BIN
atena 1.2.2  (landing page)
Beatriz Calvo-Serra
git_last_commit: d5c8a75
git_last_commit_date: 2022-09-08 06:59:31 -0400
nebbiolo1Linux (Ubuntu 20.04.5 LTS) / x86_64  OK    OK    OK  UNNEEDED, same version is already published
palomino3Windows Server 2022 Datacenter / x64  OK    OK    OK    OK  UNNEEDED, same version is already published
merida1macOS 10.14.6 Mojave / x86_64  OK    OK    OK    OK  UNNEEDED, same version is already published
Package 20/466HostnameOS / ArchINSTALLBUILDCHECKBUILD BIN
AUCell 1.18.1  (landing page)
Sara Aibar
git_last_commit: 387435b
git_last_commit_date: 2022-05-19 08:53:51 -0400
nebbiolo1Linux (Ubuntu 20.04.5 LTS) / x86_64  OK    OK    OK  UNNEEDED, same version is already published
palomino3Windows Server 2022 Datacenter / x64  OK    OK    OK    OK  UNNEEDED, same version is already published
merida1macOS 10.14.6 Mojave / x86_64  OK    OK    OK    OK  UNNEEDED, same version is already published
Package 21/466HostnameOS / ArchINSTALLBUILDCHECKBUILD BIN
autonomics 1.4.0  (landing page)
Aditya Bhagwat
git_last_commit: 7d33898
git_last_commit_date: 2022-04-26 12:13:35 -0400
nebbiolo1Linux (Ubuntu 20.04.5 LTS) / x86_64  OK    OK    WARNINGS  UNNEEDED, same version is already published
palomino3Windows Server 2022 Datacenter / x64  OK    OK    WARNINGS    OK  UNNEEDED, same version is already published
merida1macOS 10.14.6 Mojave / x86_64  OK    OK    WARNINGS    OK  UNNEEDED, same version is already published
Package 22/466HostnameOS / ArchINSTALLBUILDCHECKBUILD BIN
awst 1.4.0  (landing page)
Davide Risso
git_last_commit: 435e276
git_last_commit_date: 2022-04-26 12:15:20 -0400
nebbiolo1Linux (Ubuntu 20.04.5 LTS) / x86_64  OK    OK    OK  UNNEEDED, same version is already published
palomino3Windows Server 2022 Datacenter / x64  OK    OK    OK    OK  UNNEEDED, same version is already published
merida1macOS 10.14.6 Mojave / x86_64  OK    OK    OK    OK  UNNEEDED, same version is already published
Package 23/466HostnameOS / ArchINSTALLBUILDCHECKBUILD BIN
bambu 2.2.0  (landing page)
Ying Chen
git_last_commit: 90b4168
git_last_commit_date: 2022-04-26 12:09:52 -0400
nebbiolo1Linux (Ubuntu 20.04.5 LTS) / x86_64  OK    OK    OK  UNNEEDED, same version is already published
palomino3Windows Server 2022 Datacenter / x64  OK    OK    OK    OK  UNNEEDED, same version is already published
merida1macOS 10.14.6 Mojave / x86_64  OK    OK    OK    OK  UNNEEDED, same version is already published
Package 24/466HostnameOS / ArchINSTALLBUILDCHECKBUILD BIN
barcodetrackR 1.4.0  (landing page)
Diego Alexander Espinoza
git_last_commit: a72f683
git_last_commit_date: 2022-04-26 12:14:22 -0400
nebbiolo1Linux (Ubuntu 20.04.5 LTS) / x86_64  OK    OK    OK  UNNEEDED, same version is already published
palomino3Windows Server 2022 Datacenter / x64  OK    OK    OK    OK  UNNEEDED, same version is already published
merida1macOS 10.14.6 Mojave / x86_64  OK    OK    OK    OK  UNNEEDED, same version is already published
Package 25/466HostnameOS / ArchINSTALLBUILDCHECKBUILD BIN
BASiCS 2.8.0  (landing page)
Alan O'Callaghan
git_last_commit: f891aab
git_last_commit_date: 2022-04-26 11:43:38 -0400
nebbiolo1Linux (Ubuntu 20.04.5 LTS) / x86_64  OK    OK    OK  UNNEEDED, same version is already published
palomino3Windows Server 2022 Datacenter / x64  OK    OK    OK    OK  UNNEEDED, same version is already published
merida1macOS 10.14.6 Mojave / x86_64  OK    OK    OK    OK  UNNEEDED, same version is already published
Package 26/466HostnameOS / ArchINSTALLBUILDCHECKBUILD BIN
batchelor 1.12.3  (landing page)
Aaron Lun
git_last_commit: 94788f9
git_last_commit_date: 2022-06-22 12:41:21 -0400
nebbiolo1Linux (Ubuntu 20.04.5 LTS) / x86_64  OK    OK    OK  UNNEEDED, same version is already published
palomino3Windows Server 2022 Datacenter / x64  OK    OK    OK    OK  UNNEEDED, same version is already published
merida1macOS 10.14.6 Mojave / x86_64  OK    OK    OK    OK  UNNEEDED, same version is already published
Package 27/466HostnameOS / ArchINSTALLBUILDCHECKBUILD BIN
BayesSpace 1.6.0  (landing page)
Matt Stone
git_last_commit: 4a877a8
git_last_commit_date: 2022-04-26 12:09:13 -0400
nebbiolo1Linux (Ubuntu 20.04.5 LTS) / x86_64  OK    OK    OK  UNNEEDED, same version is already published
palomino3Windows Server 2022 Datacenter / x64  OK    OK    OK    OK  UNNEEDED, same version is already published
merida1macOS 10.14.6 Mojave / x86_64  OK    OK    OK    OK  UNNEEDED, same version is already published
Package 28/466HostnameOS / ArchINSTALLBUILDCHECKBUILD BIN
bayNorm 1.14.0  (landing page)
Wenhao Tang
git_last_commit: 5dce41f
git_last_commit_date: 2022-04-26 11:51:34 -0400
nebbiolo1Linux (Ubuntu 20.04.5 LTS) / x86_64  OK    OK    OK  UNNEEDED, same version is already published
palomino3Windows Server 2022 Datacenter / x64  OK    OK    OK    OK  UNNEEDED, same version is already published
merida1macOS 10.14.6 Mojave / x86_64  OK    OK    OK    OK  UNNEEDED, same version is already published
Package 29/466HostnameOS / ArchINSTALLBUILDCHECKBUILD BIN
BBCAnalyzer 1.26.0  (landing page)
Sarah Sandmann
git_last_commit: 5f8f335
git_last_commit_date: 2022-04-26 11:26:53 -0400
nebbiolo1Linux (Ubuntu 20.04.5 LTS) / x86_64  OK    OK    OK  UNNEEDED, same version is already published
palomino3Windows Server 2022 Datacenter / x64  OK    OK    WARNINGS    OK  UNNEEDED, same version is already published
merida1macOS 10.14.6 Mojave / x86_64  OK    OK    OK    OK  UNNEEDED, same version is already published
Package 30/466HostnameOS / ArchINSTALLBUILDCHECKBUILD BIN
BDMMAcorrect 1.14.0  (landing page)
ZHENWEI DAI
git_last_commit: bc7b4c2
git_last_commit_date: 2022-04-26 11:52:10 -0400
nebbiolo1Linux (Ubuntu 20.04.5 LTS) / x86_64  OK    OK    OK  UNNEEDED, same version is already published
palomino3Windows Server 2022 Datacenter / x64  OK    OK    OK    OK  UNNEEDED, same version is already published
merida1macOS 10.14.6 Mojave / x86_64  OK    OK    OK    OK  UNNEEDED, same version is already published
Package 31/466HostnameOS / ArchINSTALLBUILDCHECKBUILD BIN
beer 1.0.0  (landing page)
Athena Chen
git_last_commit: 4487873
git_last_commit_date: 2022-04-26 12:21:15 -0400
nebbiolo1Linux (Ubuntu 20.04.5 LTS) / x86_64  OK    OK    OK  UNNEEDED, same version is already published
palomino3Windows Server 2022 Datacenter / x64  OK    OK    OK    OK  UNNEEDED, same version is already published
merida1macOS 10.14.6 Mojave / x86_64  OK    OK    OK    OK  UNNEEDED, same version is already published
Package 32/466HostnameOS / ArchINSTALLBUILDCHECKBUILD BIN
benchdamic 1.2.5  (landing page)
Matteo Calgaro
git_last_commit: a9a5cda
git_last_commit_date: 2022-09-10 09:20:25 -0400
nebbiolo1Linux (Ubuntu 20.04.5 LTS) / x86_64  OK    OK    OK  UNNEEDED, same version is already published
palomino3Windows Server 2022 Datacenter / x64  OK    OK    OK    OK  UNNEEDED, same version is already published
merida1macOS 10.14.6 Mojave / x86_64  OK    OK    OK    OK  UNNEEDED, same version is already published
Package 33/466HostnameOS / ArchINSTALLBUILDCHECKBUILD BIN
bigPint 1.12.0  (landing page)
Lindsay Rutter
git_last_commit: d0aeb8f
git_last_commit_date: 2022-04-26 11:52:52 -0400
nebbiolo1Linux (Ubuntu 20.04.5 LTS) / x86_64  OK    OK    WARNINGS  UNNEEDED, same version is already published
palomino3Windows Server 2022 Datacenter / x64  OK    OK    WARNINGS    OK  UNNEEDED, same version is already published
merida1macOS 10.14.6 Mojave / x86_64  OK    OK    WARNINGS    OK  UNNEEDED, same version is already published
Package 34/466HostnameOS / ArchINSTALLBUILDCHECKBUILD BIN
BiocOncoTK 1.16.0  (landing page)
VJ Carey
git_last_commit: fef8b96
git_last_commit_date: 2022-04-26 11:49:04 -0400
nebbiolo1Linux (Ubuntu 20.04.5 LTS) / x86_64  OK    OK    WARNINGS  UNNEEDED, same version is already published
palomino3Windows Server 2022 Datacenter / x64  OK    OK    WARNINGS    OK  UNNEEDED, same version is already published
merida1macOS 10.14.6 Mojave / x86_64  OK    OK    WARNINGS    OK  UNNEEDED, same version is already published
Package 35/466HostnameOS / ArchINSTALLBUILDCHECKBUILD BIN
BiocSklearn 1.18.2  (landing page)
Vince Carey
git_last_commit: e8e1487
git_last_commit_date: 2022-06-01 22:59:35 -0400
nebbiolo1Linux (Ubuntu 20.04.5 LTS) / x86_64  OK    OK    OK  UNNEEDED, same version is already published
palomino3Windows Server 2022 Datacenter / x64  OK    OK    OK    OK  UNNEEDED, same version is already published
merida1macOS 10.14.6 Mojave / x86_64  OK    OK    OK    OK  UNNEEDED, same version is already published
Package 36/466HostnameOS / ArchINSTALLBUILDCHECKBUILD BIN
BioNERO 1.4.2  (landing page)
Fabricio Almeida-Silva
git_last_commit: ac0a4ae
git_last_commit_date: 2022-09-04 12:52:05 -0400
nebbiolo1Linux (Ubuntu 20.04.5 LTS) / x86_64  OK    OK    OK  UNNEEDED, same version is already published
palomino3Windows Server 2022 Datacenter / x64  OK    OK    OK    OK  UNNEEDED, same version is already published
merida1macOS 10.14.6 Mojave / x86_64  OK    OK    OK    OK  UNNEEDED, same version is already published
Package 37/466HostnameOS / ArchINSTALLBUILDCHECKBUILD BIN
BioPlex 1.2.3  (landing page)
Ludwig Geistlinger
git_last_commit: ba606c6
git_last_commit_date: 2022-06-13 16:13:53 -0400
nebbiolo1Linux (Ubuntu 20.04.5 LTS) / x86_64  OK    OK    OK  UNNEEDED, same version is already published
palomino3Windows Server 2022 Datacenter / x64  OK    OK    OK    OK  UNNEEDED, same version is already published
merida1macOS 10.14.6 Mojave / x86_64  OK    OK    OK    OK  UNNEEDED, same version is already published
Package 38/466HostnameOS / ArchINSTALLBUILDCHECKBUILD BIN
biosigner 1.24.2  (landing page)
Etienne A. Thevenot
git_last_commit: 8f8c386
git_last_commit_date: 2022-06-22 17:09:59 -0400
nebbiolo1Linux (Ubuntu 20.04.5 LTS) / x86_64  OK    OK    OK  UNNEEDED, same version is already published
palomino3Windows Server 2022 Datacenter / x64  OK    OK    OK    OK  UNNEEDED, same version is already published
merida1macOS 10.14.6 Mojave / x86_64  OK    OK    OK    OK  UNNEEDED, same version is already published
Package 39/466HostnameOS / ArchINSTALLBUILDCHECKBUILD BIN
biotmle 1.20.0  (landing page)
Nima Hejazi
git_last_commit: a6bfb43
git_last_commit_date: 2022-04-26 11:40:31 -0400
nebbiolo1Linux (Ubuntu 20.04.5 LTS) / x86_64  OK    OK    OK  UNNEEDED, same version is already published
palomino3Windows Server 2022 Datacenter / x64  OK    OK    OK    OK  UNNEEDED, same version is already published
merida1macOS 10.14.6 Mojave / x86_64  OK    OK    OK    OK  UNNEEDED, same version is already published
Package 40/466HostnameOS / ArchINSTALLBUILDCHECKBUILD BIN
biovizBase 1.44.0  (landing page)
Michael Lawrence
git_last_commit: a8f05c5
git_last_commit_date: 2022-04-26 11:09:05 -0400
nebbiolo1Linux (Ubuntu 20.04.5 LTS) / x86_64  OK    OK    WARNINGS  UNNEEDED, same version is already published
palomino3Windows Server 2022 Datacenter / x64  OK    OK    WARNINGS    OK  UNNEEDED, same version is already published
merida1macOS 10.14.6 Mojave / x86_64  OK    OK    WARNINGS    OK  UNNEEDED, same version is already published
Package 41/466HostnameOS / ArchINSTALLBUILDCHECKBUILD BIN
biscuiteer 1.10.0  (landing page)
Jacob Morrison
git_last_commit: 4e21745
git_last_commit_date: 2022-04-26 12:00:38 -0400
nebbiolo1Linux (Ubuntu 20.04.5 LTS) / x86_64  OK    OK    WARNINGS  UNNEEDED, same version is already published
palomino3Windows Server 2022 Datacenter / x64  OK    OK    WARNINGS    OK  UNNEEDED, same version is already published
merida1macOS 10.14.6 Mojave / x86_64  OK    OK    WARNINGS    OK  UNNEEDED, same version is already published
Package 42/466HostnameOS / ArchINSTALLBUILDCHECKBUILD BIN
BiSeq 1.36.0  (landing page)
Katja Hebestreit
git_last_commit: b5cd494
git_last_commit_date: 2022-04-26 11:14:44 -0400
nebbiolo1Linux (Ubuntu 20.04.5 LTS) / x86_64  OK    OK    OK  UNNEEDED, same version is already published
palomino3Windows Server 2022 Datacenter / x64  OK    OK    OK    OK  UNNEEDED, same version is already published
merida1macOS 10.14.6 Mojave / x86_64  OK    OK    OK    OK  UNNEEDED, same version is already published
Package 43/466HostnameOS / ArchINSTALLBUILDCHECKBUILD BIN
blacksheepr 1.10.0  (landing page)
RugglesLab
git_last_commit: 8e46c00
git_last_commit_date: 2022-04-26 12:00:11 -0400
nebbiolo1Linux (Ubuntu 20.04.5 LTS) / x86_64  OK    OK    OK  UNNEEDED, same version is already published
palomino3Windows Server 2022 Datacenter / x64  OK    OK    OK    OK  UNNEEDED, same version is already published
merida1macOS 10.14.6 Mojave / x86_64  OK    OK    OK    OK  UNNEEDED, same version is already published
Package 44/466HostnameOS / ArchINSTALLBUILDCHECKBUILD BIN
BloodGen3Module 1.4.0  (landing page)
Darawan Rinchai
git_last_commit: c596a7f
git_last_commit_date: 2022-04-26 12:16:05 -0400
nebbiolo1Linux (Ubuntu 20.04.5 LTS) / x86_64  OK    OK    WARNINGS  UNNEEDED, same version is already published
palomino3Windows Server 2022 Datacenter / x64  OK    OK    WARNINGS    OK  UNNEEDED, same version is already published
merida1macOS 10.14.6 Mojave / x86_64  OK    OK    WARNINGS    OK  UNNEEDED, same version is already published
Package 45/466HostnameOS / ArchINSTALLBUILDCHECKBUILD BIN
bnbc 1.18.0  (landing page)
Kipper Fletez-Brant
git_last_commit: d4209a2
git_last_commit_date: 2022-04-26 11:44:18 -0400
nebbiolo1Linux (Ubuntu 20.04.5 LTS) / x86_64  OK    OK    OK  UNNEEDED, same version is already published
palomino3Windows Server 2022 Datacenter / x64  OK    OK    OK    OK  UNNEEDED, same version is already published
merida1macOS 10.14.6 Mojave / x86_64  OK    OK    OK    OK  UNNEEDED, same version is already published
Package 46/466HostnameOS / ArchINSTALLBUILDCHECKBUILD BIN
BrainSABER 1.6.0  (landing page)
USD Biomedical Engineering
git_last_commit: 70551c2
git_last_commit_date: 2022-04-26 12:05:39 -0400
nebbiolo1Linux (Ubuntu 20.04.5 LTS) / x86_64  OK    OK    OK  UNNEEDED, same version is already published
palomino3Windows Server 2022 Datacenter / x64  OK    OK    OK    OK  UNNEEDED, same version is already published
merida1macOS 10.14.6 Mojave / x86_64  OK    OK    OK    OK  UNNEEDED, same version is already published
Package 47/466HostnameOS / ArchINSTALLBUILDCHECKBUILD BIN
BRGenomics 1.8.0  (landing page)
Mike DeBerardine
git_last_commit: c879a27
git_last_commit_date: 2022-04-26 12:03:46 -0400
nebbiolo1Linux (Ubuntu 20.04.5 LTS) / x86_64  OK    OK    WARNINGS  UNNEEDED, same version is already published
palomino3Windows Server 2022 Datacenter / x64  OK    OK    WARNINGS    OK  UNNEEDED, same version is already published
merida1macOS 10.14.6 Mojave / x86_64  OK    OK    WARNINGS    OK  UNNEEDED, same version is already published
Package 48/466HostnameOS / ArchINSTALLBUILDCHECKBUILD BIN
bsseq 1.32.0  (landing page)
Kasper Daniel Hansen
git_last_commit: a0c1eac
git_last_commit_date: 2022-04-26 11:11:30 -0400
nebbiolo1Linux (Ubuntu 20.04.5 LTS) / x86_64  OK    OK    OK  UNNEEDED, same version is already published
palomino3Windows Server 2022 Datacenter / x64  OK    OK    OK    OK  UNNEEDED, same version is already published
merida1macOS 10.14.6 Mojave / x86_64  OK    OK    OK    OK  UNNEEDED, same version is already published
Package 49/466HostnameOS / ArchINSTALLBUILDCHECKBUILD BIN
BUMHMM 1.20.0  (landing page)
Alina Selega
git_last_commit: 60fd865
git_last_commit_date: 2022-04-26 11:37:58 -0400
nebbiolo1Linux (Ubuntu 20.04.5 LTS) / x86_64  OK    OK    OK  UNNEEDED, same version is already published
palomino3Windows Server 2022 Datacenter / x64  OK    OK    OK    OK  UNNEEDED, same version is already published
merida1macOS 10.14.6 Mojave / x86_64  OK    OK    OK    OK  UNNEEDED, same version is already published
Package 50/466HostnameOS / ArchINSTALLBUILDCHECKBUILD BIN
BUScorrect 1.14.0  (landing page)
Xiangyu Luo
git_last_commit: 58b3a2b
git_last_commit_date: 2022-04-26 11:50:33 -0400
nebbiolo1Linux (Ubuntu 20.04.5 LTS) / x86_64  OK    OK    OK  UNNEEDED, same version is already published
palomino3Windows Server 2022 Datacenter / x64  OK    OK    OK    OK  UNNEEDED, same version is already published
merida1macOS 10.14.6 Mojave / x86_64  OK    OK    OK    OK  UNNEEDED, same version is already published
Package 51/466HostnameOS / ArchINSTALLBUILDCHECKBUILD BIN
BUSseq 1.2.0  (landing page)
Fangda Song
git_last_commit: 4caea40
git_last_commit_date: 2022-04-26 12:16:46 -0400
nebbiolo1Linux (Ubuntu 20.04.5 LTS) / x86_64  OK    OK    OK  UNNEEDED, same version is already published
palomino3Windows Server 2022 Datacenter / x64  OK    OK    OK    OK  UNNEEDED, same version is already published
merida1macOS 10.14.6 Mojave / x86_64  OK    OK    OK    OK  UNNEEDED, same version is already published
Package 52/466HostnameOS / ArchINSTALLBUILDCHECKBUILD BIN
CAEN 1.4.0  (landing page)
Zhou Yan
git_last_commit: 781f533
git_last_commit_date: 2022-04-26 12:11:51 -0400
nebbiolo1Linux (Ubuntu 20.04.5 LTS) / x86_64  OK    OK    OK  UNNEEDED, same version is already published
palomino3Windows Server 2022 Datacenter / x64  OK    OK    OK    OK  UNNEEDED, same version is already published
merida1macOS 10.14.6 Mojave / x86_64  OK    OK    OK    OK  UNNEEDED, same version is already published
Package 53/466HostnameOS / ArchINSTALLBUILDCHECKBUILD BIN
CAGEfightR 1.16.0  (landing page)
Malte Thodberg
git_last_commit: 86ba129
git_last_commit_date: 2022-04-26 11:49:10 -0400
nebbiolo1Linux (Ubuntu 20.04.5 LTS) / x86_64  OK    OK    OK  UNNEEDED, same version is already published
palomino3Windows Server 2022 Datacenter / x64  OK    OK    OK    OK  UNNEEDED, same version is already published
merida1macOS 10.14.6 Mojave / x86_64  OK    OK    OK    OK  UNNEEDED, same version is already published
Package 54/466HostnameOS / ArchINSTALLBUILDCHECKBUILD BIN
CAGEr 2.2.0  (landing page)
Charles Plessy
git_last_commit: 74d9a97
git_last_commit_date: 2022-04-26 11:13:41 -0400
nebbiolo1Linux (Ubuntu 20.04.5 LTS) / x86_64  OK    OK    OK  UNNEEDED, same version is already published
palomino3Windows Server 2022 Datacenter / x64  OK    OK    OK    OK  UNNEEDED, same version is already published
merida1macOS 10.14.6 Mojave / x86_64  OK    OK    OK    OK  UNNEEDED, same version is already published
Package 55/466HostnameOS / ArchINSTALLBUILDCHECKBUILD BIN
CATALYST 1.20.1  (landing page)
Helena L. Crowell
git_last_commit: 6296934
git_last_commit_date: 2022-05-22 01:53:41 -0400
nebbiolo1Linux (Ubuntu 20.04.5 LTS) / x86_64  OK    OK    OK  UNNEEDED, same version is already published
palomino3Windows Server 2022 Datacenter / x64  OK    OK    OK    OK  NO, package depends on 'FlowSOM' which is not available
merida1macOS 10.14.6 Mojave / x86_64  OK    OK    OK    OK  UNNEEDED, same version is already published
Package 56/466HostnameOS / ArchINSTALLBUILDCHECKBUILD BIN
CBEA 1.0.0  (landing page)
Quang Nguyen
git_last_commit: 20d5b52
git_last_commit_date: 2022-04-26 12:21:55 -0400
nebbiolo1Linux (Ubuntu 20.04.5 LTS) / x86_64  OK    OK    OK  UNNEEDED, same version is already published
palomino3Windows Server 2022 Datacenter / x64  OK    OK    OK    OK  UNNEEDED, same version is already published
merida1macOS 10.14.6 Mojave / x86_64  OK    OK    OK    OK  UNNEEDED, same version is already published
Package 57/466HostnameOS / ArchINSTALLBUILDCHECKBUILD BIN
cBioPortalData 2.8.2  (landing page)
Marcel Ramos
git_last_commit: 57a4caf
git_last_commit_date: 2022-06-15 12:19:45 -0400
nebbiolo1Linux (Ubuntu 20.04.5 LTS) / x86_64  OK    OK    OK  UNNEEDED, same version is already published
palomino3Windows Server 2022 Datacenter / x64  OK    OK    OK    OK  UNNEEDED, same version is already published
merida1macOS 10.14.6 Mojave / x86_64  OK    OK    OK    OK  UNNEEDED, same version is already published
Package 58/466HostnameOS / ArchINSTALLBUILDCHECKBUILD BIN
ccfindR 1.16.0  (landing page)
Jun Woo
git_last_commit: f9758cc
git_last_commit_date: 2022-04-26 11:48:57 -0400
nebbiolo1Linux (Ubuntu 20.04.5 LTS) / x86_64  OK    OK    OK  UNNEEDED, same version is already published
palomino3Windows Server 2022 Datacenter / x64  OK    OK    OK    OK  UNNEEDED, same version is already published
merida1macOS 10.14.6 Mojave / x86_64  OK    OK    OK    OK  UNNEEDED, same version is already published
Package 59/466HostnameOS / ArchINSTALLBUILDCHECKBUILD BIN
celaref 1.14.0  (landing page)
Sarah Williams
git_last_commit: a0f210f
git_last_commit_date: 2022-04-26 11:50:25 -0400
nebbiolo1Linux (Ubuntu 20.04.5 LTS) / x86_64  OK    OK    OK  UNNEEDED, same version is already published
palomino3Windows Server 2022 Datacenter / x64  OK    OK    OK    OK  UNNEEDED, same version is already published
merida1macOS 10.14.6 Mojave / x86_64  OK    OK    OK    OK  UNNEEDED, same version is already published
Package 60/466HostnameOS / ArchINSTALLBUILDCHECKBUILD BIN
celda 1.12.0  (landing page)
Joshua Campbell
git_last_commit: 366a243
git_last_commit_date: 2022-04-26 11:55:58 -0400
nebbiolo1Linux (Ubuntu 20.04.5 LTS) / x86_64  OK    OK    OK  UNNEEDED, same version is already published
palomino3Windows Server 2022 Datacenter / x64  OK    OK    OK    OK  UNNEEDED, same version is already published
merida1macOS 10.14.6 Mojave / x86_64  OK    OK    OK    OK  UNNEEDED, same version is already published
Package 61/466HostnameOS / ArchINSTALLBUILDCHECKBUILD BIN
CelliD 1.4.0  (landing page)
Akira Cortal
git_last_commit: 743850b
git_last_commit_date: 2022-04-26 12:13:53 -0400
nebbiolo1Linux (Ubuntu 20.04.5 LTS) / x86_64  OK    OK    WARNINGS  UNNEEDED, same version is already published
palomino3Windows Server 2022 Datacenter / x64  OK    OK    WARNINGS    OK  UNNEEDED, same version is already published
merida1macOS 10.14.6 Mojave / x86_64  OK    OK    WARNINGS    OK  UNNEEDED, same version is already published
Package 62/466HostnameOS / ArchINSTALLBUILDCHECKBUILD BIN
CellMixS 1.12.0  (landing page)
Almut Lütge
git_last_commit: ab74242
git_last_commit_date: 2022-04-26 11:54:21 -0400
nebbiolo1Linux (Ubuntu 20.04.5 LTS) / x86_64  OK    OK    OK  UNNEEDED, same version is already published
palomino3Windows Server 2022 Datacenter / x64  OK    OK    OK    OK  UNNEEDED, same version is already published
merida1macOS 10.14.6 Mojave / x86_64  OK    OK    OK    OK  UNNEEDED, same version is already published
Package 63/466HostnameOS / ArchINSTALLBUILDCHECKBUILD BIN
CellTrails 1.14.0  (landing page)
Daniel Ellwanger
git_last_commit: 3ad6bc4
git_last_commit_date: 2022-04-26 11:49:46 -0400
nebbiolo1Linux (Ubuntu 20.04.5 LTS) / x86_64  OK    OK    OK  UNNEEDED, same version is already published
palomino3Windows Server 2022 Datacenter / x64  OK    OK    OK    OK  UNNEEDED, same version is already published
merida1macOS 10.14.6 Mojave / x86_64  OK    OK    OK    OK  UNNEEDED, same version is already published
Package 64/466HostnameOS / ArchINSTALLBUILDCHECKBUILD BIN
censcyt 1.4.0  (landing page)
Reto Gerber
git_last_commit: 1545e87
git_last_commit_date: 2022-04-26 12:11:33 -0400
nebbiolo1Linux (Ubuntu 20.04.5 LTS) / x86_64  OK    OK    ERROR  
palomino3Windows Server 2022 Datacenter / x64  OK    OK    OK    OK  NO, package depends on 'diffcyt' which is not available
merida1macOS 10.14.6 Mojave / x86_64  OK    OK    OK    OK  UNNEEDED, same version is already published
Package 65/466HostnameOS / ArchINSTALLBUILDCHECKBUILD BIN
Cepo 1.2.0  (landing page)
Hani Jieun Kim
git_last_commit: 5c76000
git_last_commit_date: 2022-04-26 12:19:31 -0400
nebbiolo1Linux (Ubuntu 20.04.5 LTS) / x86_64  OK    OK    WARNINGS  UNNEEDED, same version is already published
palomino3Windows Server 2022 Datacenter / x64  OK    OK    WARNINGS    OK  UNNEEDED, same version is already published
merida1macOS 10.14.6 Mojave / x86_64  OK    OK    WARNINGS    OK  UNNEEDED, same version is already published
Package 66/466HostnameOS / ArchINSTALLBUILDCHECKBUILD BIN
CeTF 1.8.0  (landing page)
Carlos Alberto Oliveira de Biagi Junior
git_last_commit: 5503245
git_last_commit_date: 2022-04-26 12:01:42 -0400
nebbiolo1Linux (Ubuntu 20.04.5 LTS) / x86_64  OK    OK    OK  UNNEEDED, same version is already published
palomino3Windows Server 2022 Datacenter / x64  OK    OK    OK    OK  UNNEEDED, same version is already published
merida1macOS 10.14.6 Mojave / x86_64  OK    OK    OK    OK  UNNEEDED, same version is already published
Package 67/466HostnameOS / ArchINSTALLBUILDCHECKBUILD BIN
CHETAH 1.12.1  (landing page)
Jurrian de Kanter
git_last_commit: 3dd83d6
git_last_commit_date: 2022-07-08 11:01:18 -0400
nebbiolo1Linux (Ubuntu 20.04.5 LTS) / x86_64  OK    OK    OK  UNNEEDED, same version is already published
palomino3Windows Server 2022 Datacenter / x64  OK    OK    OK    OK  UNNEEDED, same version is already published
merida1macOS 10.14.6 Mojave / x86_64  OK    OK    OK    OK  UNNEEDED, same version is already published
Package 68/466HostnameOS / ArchINSTALLBUILDCHECKBUILD BIN
ChIPpeakAnno 3.30.1  (landing page)
Jianhong Ou
git_last_commit: f358fc5
git_last_commit_date: 2022-06-06 14:12:10 -0400
nebbiolo1Linux (Ubuntu 20.04.5 LTS) / x86_64  OK    OK    OK  UNNEEDED, same version is already published
palomino3Windows Server 2022 Datacenter / x64  OK    OK    OK    OK  UNNEEDED, same version is already published
merida1macOS 10.14.6 Mojave / x86_64  OK    OK    OK    OK  UNNEEDED, same version is already published
Package 69/466HostnameOS / ArchINSTALLBUILDCHECKBUILD BIN
ChromSCape 1.6.0  (landing page)
Pacome Prompsy
git_last_commit: f0f1527
git_last_commit_date: 2022-04-26 12:09:05 -0400
nebbiolo1Linux (Ubuntu 20.04.5 LTS) / x86_64  OK    OK    WARNINGS  UNNEEDED, same version is already published
palomino3Windows Server 2022 Datacenter / x64  OK    OK    WARNINGS    OK  UNNEEDED, same version is already published
merida1macOS 10.14.6 Mojave / x86_64  OK    OK    WARNINGS    OK  UNNEEDED, same version is already published
Package 70/466HostnameOS / ArchINSTALLBUILDCHECKBUILD BIN
chromVAR 1.18.0  (landing page)
Alicia Schep
git_last_commit: 42d22d3
git_last_commit_date: 2022-04-26 11:43:56 -0400
nebbiolo1Linux (Ubuntu 20.04.5 LTS) / x86_64  OK    OK    OK  UNNEEDED, same version is already published
palomino3Windows Server 2022 Datacenter / x64  OK    OK    OK    OK  UNNEEDED, same version is already published
merida1macOS 10.14.6 Mojave / x86_64  OK    OK    OK    OK  UNNEEDED, same version is already published
Package 71/466HostnameOS / ArchINSTALLBUILDCHECKBUILD BIN
CiteFuse 1.8.0  (landing page)
Yingxin Lin
git_last_commit: 75bb83a
git_last_commit_date: 2022-04-26 12:04:27 -0400
nebbiolo1Linux (Ubuntu 20.04.5 LTS) / x86_64  OK    OK    WARNINGS  UNNEEDED, same version is already published
palomino3Windows Server 2022 Datacenter / x64  OK    OK    WARNINGS    OK  UNNEEDED, same version is already published
merida1macOS 10.14.6 Mojave / x86_64  OK    OK    WARNINGS    OK  UNNEEDED, same version is already published
Package 72/466HostnameOS / ArchINSTALLBUILDCHECKBUILD BIN
clusterExperiment 2.16.0  (landing page)
Elizabeth Purdom
git_last_commit: c3f6d8e
git_last_commit_date: 2022-04-26 11:33:27 -0400
nebbiolo1Linux (Ubuntu 20.04.5 LTS) / x86_64  OK    OK    WARNINGS  UNNEEDED, same version is already published
palomino3Windows Server 2022 Datacenter / x64  OK    OK    WARNINGS    OK  UNNEEDED, same version is already published
merida1macOS 10.14.6 Mojave / x86_64  OK    OK    WARNINGS    OK  UNNEEDED, same version is already published
Package 73/466HostnameOS / ArchINSTALLBUILDCHECKBUILD BIN
clustifyr 1.8.0  (landing page)
Kent Riemondy
git_last_commit: 0aa93bc
git_last_commit_date: 2022-04-26 12:02:34 -0400
nebbiolo1Linux (Ubuntu 20.04.5 LTS) / x86_64  OK    OK    OK  UNNEEDED, same version is already published
palomino3Windows Server 2022 Datacenter / x64  OK    OK    OK    OK  UNNEEDED, same version is already published
merida1macOS 10.14.6 Mojave / x86_64  OK    OK    OK    OK  UNNEEDED, same version is already published
Package 74/466HostnameOS / ArchINSTALLBUILDCHECKBUILD BIN
cmapR 1.8.0  (landing page)
Ted Natoli
git_last_commit: 83f68b6
git_last_commit_date: 2022-04-26 12:03:29 -0400
nebbiolo1Linux (Ubuntu 20.04.5 LTS) / x86_64  OK    OK    OK  UNNEEDED, same version is already published
palomino3Windows Server 2022 Datacenter / x64  OK    OK    OK    OK  UNNEEDED, same version is already published
merida1macOS 10.14.6 Mojave / x86_64  OK    OK    OK    OK  UNNEEDED, same version is already published
Package 75/466HostnameOS / ArchINSTALLBUILDCHECKBUILD BIN
CNVfilteR 1.10.1  (landing page)
Jose Marcos Moreno-Cabrera
git_last_commit: e2c502a
git_last_commit_date: 2022-09-07 10:55:58 -0400
nebbiolo1Linux (Ubuntu 20.04.5 LTS) / x86_64  OK    OK    OK  UNNEEDED, same version is already published
palomino3Windows Server 2022 Datacenter / x64  OK    OK    OK    OK  UNNEEDED, same version is already published
merida1macOS 10.14.6 Mojave / x86_64  OK    OK    OK    OK  UNNEEDED, same version is already published
Package 76/466HostnameOS / ArchINSTALLBUILDCHECKBUILD BIN
CNVRanger 1.12.0  (landing page)
Ludwig Geistlinger
git_last_commit: 2823099
git_last_commit_date: 2022-04-26 11:53:07 -0400
nebbiolo1Linux (Ubuntu 20.04.5 LTS) / x86_64  OK    OK    OK  UNNEEDED, same version is already published
palomino3Windows Server 2022 Datacenter / x64  OK    OK    OK    OK  UNNEEDED, same version is already published
merida1macOS 10.14.6 Mojave / x86_64  OK    OK    OK    OK  UNNEEDED, same version is already published
Package 77/466HostnameOS / ArchINSTALLBUILDCHECKBUILD BIN
coexnet 1.18.0  (landing page)
Juan David Henao
git_last_commit: 6b1c1b3
git_last_commit_date: 2022-04-26 11:41:26 -0400
nebbiolo1Linux (Ubuntu 20.04.5 LTS) / x86_64  OK    OK    ERROR  
palomino3Windows Server 2022 Datacenter / x64  OK    OK    ERROR    OK  
merida1macOS 10.14.6 Mojave / x86_64  OK    OK    ERROR    OK  
Package 78/466HostnameOS / ArchINSTALLBUILDCHECKBUILD BIN
CoGAPS 3.16.0  (landing page)
Elana J. Fertig
git_last_commit: 64e95af
git_last_commit_date: 2022-04-26 11:05:27 -0400
nebbiolo1Linux (Ubuntu 20.04.5 LTS) / x86_64  OK    OK    WARNINGS  UNNEEDED, same version is already published
palomino3Windows Server 2022 Datacenter / x64  OK    OK    WARNINGS    OK  UNNEEDED, same version is already published
merida1macOS 10.14.6 Mojave / x86_64  OK    OK    WARNINGS    OK  UNNEEDED, same version is already published
Package 79/466HostnameOS / ArchINSTALLBUILDCHECKBUILD BIN
comapr 1.0.0  (landing page)
Ruqian Lyu
git_last_commit: 5a6fa5e
git_last_commit_date: 2022-04-26 12:20:40 -0400
nebbiolo1Linux (Ubuntu 20.04.5 LTS) / x86_64  OK    OK    OK  UNNEEDED, same version is already published
palomino3Windows Server 2022 Datacenter / x64  OK    OK    OK    OK  UNNEEDED, same version is already published
merida1macOS 10.14.6 Mojave / x86_64  OK    OK    OK    OK  UNNEEDED, same version is already published
Package 80/466HostnameOS / ArchINSTALLBUILDCHECKBUILD BIN
combi 1.8.0  (landing page)
Stijn Hawinkel
git_last_commit: 5360215
git_last_commit_date: 2022-04-26 12:03:34 -0400
nebbiolo1Linux (Ubuntu 20.04.5 LTS) / x86_64  OK    OK    OK  UNNEEDED, same version is already published
palomino3Windows Server 2022 Datacenter / x64  OK    OK    OK    OK  UNNEEDED, same version is already published
merida1macOS 10.14.6 Mojave / x86_64  OK    OK    OK    OK  UNNEEDED, same version is already published
Package 81/466HostnameOS / ArchINSTALLBUILDCHECKBUILD BIN
compartmap 1.14.0  (landing page)
Benjamin Johnson
git_last_commit: e33c33b
git_last_commit_date: 2022-04-26 11:52:08 -0400
nebbiolo1Linux (Ubuntu 20.04.5 LTS) / x86_64  OK    OK    OK  UNNEEDED, same version is already published
palomino3Windows Server 2022 Datacenter / x64  OK    OK    OK    OK  UNNEEDED, same version is already published
merida1macOS 10.14.6 Mojave / x86_64  OK    OK    OK    OK  UNNEEDED, same version is already published
Package 82/466HostnameOS / ArchINSTALLBUILDCHECKBUILD BIN
conclus 1.4.0  (landing page)
Ilyess Rachedi
git_last_commit: 396fe44
git_last_commit_date: 2022-04-26 12:14:35 -0400
nebbiolo1Linux (Ubuntu 20.04.5 LTS) / x86_64  OK    OK    ERROR  
palomino3Windows Server 2022 Datacenter / x64  OK    OK    ERROR    OK  
merida1macOS 10.14.6 Mojave / x86_64  OK    OK    ERROR    OK  
Package 83/466HostnameOS / ArchINSTALLBUILDCHECKBUILD BIN
condiments 1.4.0  (landing page)
Hector Roux de Bezieux
git_last_commit: b0cab71
git_last_commit_date: 2022-04-26 12:14:20 -0400
nebbiolo1Linux (Ubuntu 20.04.5 LTS) / x86_64  OK    OK    OK  UNNEEDED, same version is already published
palomino3Windows Server 2022 Datacenter / x64  OK    OK    OK    OK  UNNEEDED, same version is already published
merida1macOS 10.14.6 Mojave / x86_64  OK    OK    OK    OK  UNNEEDED, same version is already published
Package 84/466HostnameOS / ArchINSTALLBUILDCHECKBUILD BIN
consensusDE 1.14.0  (landing page)
Ashley J. Waardenberg
git_last_commit: a3c3766
git_last_commit_date: 2022-04-26 11:51:54 -0400
nebbiolo1Linux (Ubuntu 20.04.5 LTS) / x86_64  OK    OK    OK  UNNEEDED, same version is already published
palomino3Windows Server 2022 Datacenter / x64  OK    OK    OK    OK  UNNEEDED, same version is already published
merida1macOS 10.14.6 Mojave / x86_64  OK    OK    OK    OK  UNNEEDED, same version is already published
Package 85/466HostnameOS / ArchINSTALLBUILDCHECKBUILD BIN
CopyNumberPlots 1.12.0  (landing page)
Bernat Gel
git_last_commit: b6a4fde
git_last_commit_date: 2022-04-26 11:55:13 -0400
nebbiolo1Linux (Ubuntu 20.04.5 LTS) / x86_64  OK    OK    OK  UNNEEDED, same version is already published
palomino3Windows Server 2022 Datacenter / x64  OK    OK    OK    OK  UNNEEDED, same version is already published
merida1macOS 10.14.6 Mojave / x86_64  OK    OK    OK    OK  UNNEEDED, same version is already published
Package 86/466HostnameOS / ArchINSTALLBUILDCHECKBUILD BIN
CoreGx 2.0.2  (landing page)
Benjamin Haibe-Kains
git_last_commit: 4bceca0
git_last_commit_date: 2022-05-20 15:47:01 -0400
nebbiolo1Linux (Ubuntu 20.04.5 LTS) / x86_64  OK    OK    OK  UNNEEDED, same version is already published
palomino3Windows Server 2022 Datacenter / x64  OK    OK    OK    OK  UNNEEDED, same version is already published
merida1macOS 10.14.6 Mojave / x86_64  OK    OK    OK    OK  UNNEEDED, same version is already published
Package 87/466HostnameOS / ArchINSTALLBUILDCHECKBUILD BIN
corral 1.6.0  (landing page)
Lauren Hsu
git_last_commit: 9798002
git_last_commit_date: 2022-04-26 12:06:10 -0400
nebbiolo1Linux (Ubuntu 20.04.5 LTS) / x86_64  OK    OK    OK  UNNEEDED, same version is already published
palomino3Windows Server 2022 Datacenter / x64  OK    OK    OK    OK  UNNEEDED, same version is already published
merida1macOS 10.14.6 Mojave / x86_64  OK    OK    OK    OK  UNNEEDED, same version is already published
Package 88/466HostnameOS / ArchINSTALLBUILDCHECKBUILD BIN
coseq 1.20.0  (landing page)
Andrea Rau
git_last_commit: 2952e7d
git_last_commit_date: 2022-04-26 11:38:25 -0400
nebbiolo1Linux (Ubuntu 20.04.5 LTS) / x86_64  OK    OK    OK  UNNEEDED, same version is already published
palomino3Windows Server 2022 Datacenter / x64  OK    OK    OK    OK  UNNEEDED, same version is already published
merida1macOS 10.14.6 Mojave / x86_64  OK    OK    OK    OK  UNNEEDED, same version is already published
Package 89/466HostnameOS / ArchINSTALLBUILDCHECKBUILD BIN
countsimQC 1.14.0  (landing page)
Charlotte Soneson
git_last_commit: c136ffc
git_last_commit_date: 2022-04-26 11:51:16 -0400
nebbiolo1Linux (Ubuntu 20.04.5 LTS) / x86_64  OK    OK    OK  UNNEEDED, same version is already published
palomino3Windows Server 2022 Datacenter / x64  OK    OK    OK    OK  UNNEEDED, same version is already published
merida1macOS 10.14.6 Mojave / x86_64  OK    OK    OK    OK  UNNEEDED, same version is already published
Package 90/466HostnameOS / ArchINSTALLBUILDCHECKBUILD BIN
csaw 1.30.1  (landing page)
Aaron Lun
git_last_commit: 9e3f0f8
git_last_commit_date: 2022-05-06 01:49:41 -0400
nebbiolo1Linux (Ubuntu 20.04.5 LTS) / x86_64  OK    OK    OK  UNNEEDED, same version is already published
palomino3Windows Server 2022 Datacenter / x64  OK    OK    OK    OK  UNNEEDED, same version is already published
merida1macOS 10.14.6 Mojave / x86_64  OK    OK    OK    OK  UNNEEDED, same version is already published
Package 91/466HostnameOS / ArchINSTALLBUILDCHECKBUILD BIN
CSSQ 1.8.0  (landing page)
Fan Lab at Georgia Institute of Technology
git_last_commit: 947dfe5
git_last_commit_date: 2022-04-26 12:01:38 -0400
nebbiolo1Linux (Ubuntu 20.04.5 LTS) / x86_64  OK    OK    OK  UNNEEDED, same version is already published
palomino3Windows Server 2022 Datacenter / x64  OK    OK    OK    OK  UNNEEDED, same version is already published
merida1macOS 10.14.6 Mojave / x86_64  OK    OK    OK    OK  UNNEEDED, same version is already published
Package 92/466HostnameOS / ArchINSTALLBUILDCHECKBUILD BIN
ctgGEM 1.8.0  (landing page)
USD Biomedical Engineering
git_last_commit: a774e18
git_last_commit_date: 2022-04-26 12:02:42 -0400
nebbiolo1Linux (Ubuntu 20.04.5 LTS) / x86_64  OK    ERROR  skipped
palomino3Windows Server 2022 Datacenter / x64  OK    ERROR  skippedskipped
merida1macOS 10.14.6 Mojave / x86_64  OK    ERROR  skippedskipped
Package 93/466HostnameOS / ArchINSTALLBUILDCHECKBUILD BIN
cydar 1.20.0  (landing page)
Aaron Lun
git_last_commit: e330d5f
git_last_commit_date: 2022-04-26 11:39:46 -0400
nebbiolo1Linux (Ubuntu 20.04.5 LTS) / x86_64  OK    OK    OK  UNNEEDED, same version is already published
palomino3Windows Server 2022 Datacenter / x64  OK    OK    OK    OK  UNNEEDED, same version is already published
merida1macOS 10.14.6 Mojave / x86_64  OK    OK    OK    OK  UNNEEDED, same version is already published
Package 94/466HostnameOS / ArchINSTALLBUILDCHECKBUILD BIN
CyTOFpower 1.2.0  (landing page)
Anne-Maud Ferreira
git_last_commit: b9ce7df
git_last_commit_date: 2022-04-26 12:19:15 -0400
nebbiolo1Linux (Ubuntu 20.04.5 LTS) / x86_64  OK    OK    OK  UNNEEDED, same version is already published
palomino3Windows Server 2022 Datacenter / x64  OK    OK    OK    OK  NO, package depends on 'diffcyt' which is not available
merida1macOS 10.14.6 Mojave / x86_64  OK    OK    OK    OK  UNNEEDED, same version is already published
Package 95/466HostnameOS / ArchINSTALLBUILDCHECKBUILD BIN
cytoKernel 1.2.0  (landing page)
Tusharkanti Ghosh
git_last_commit: a08ff21
git_last_commit_date: 2022-04-26 12:18:27 -0400
nebbiolo1Linux (Ubuntu 20.04.5 LTS) / x86_64  OK    OK    OK  UNNEEDED, same version is already published
palomino3Windows Server 2022 Datacenter / x64  OK    OK    OK    OK  UNNEEDED, same version is already published
merida1macOS 10.14.6 Mojave / x86_64  OK    OK    OK    OK  UNNEEDED, same version is already published
Package 96/466HostnameOS / ArchINSTALLBUILDCHECKBUILD BIN
cytomapper 1.8.0  (landing page)
Nils Eling
git_last_commit: d6546b7
git_last_commit_date: 2022-04-26 12:03:51 -0400
nebbiolo1Linux (Ubuntu 20.04.5 LTS) / x86_64  OK    OK    OK  UNNEEDED, same version is already published
palomino3Windows Server 2022 Datacenter / x64  OK    OK    OK    OK  UNNEEDED, same version is already published
merida1macOS 10.14.6 Mojave / x86_64  OK    OK    OK    OK  UNNEEDED, same version is already published
Package 97/466HostnameOS / ArchINSTALLBUILDCHECKBUILD BIN
DAMEfinder 1.8.0  (landing page)
Stephany Orjuela
git_last_commit: 5a0777b
git_last_commit_date: 2022-04-26 12:02:10 -0400
nebbiolo1Linux (Ubuntu 20.04.5 LTS) / x86_64  OK    OK    OK  UNNEEDED, same version is already published
palomino3Windows Server 2022 Datacenter / x64  OK    OK    OK    OK  UNNEEDED, same version is already published
merida1macOS 10.14.6 Mojave / x86_64  OK    OK    OK    OK  UNNEEDED, same version is already published
Package 98/466HostnameOS / ArchINSTALLBUILDCHECKBUILD BIN
DaMiRseq 2.8.0  (landing page)
Mattia Chiesa
git_last_commit: e75b440
git_last_commit_date: 2022-04-26 11:39:36 -0400
nebbiolo1Linux (Ubuntu 20.04.5 LTS) / x86_64  OK    OK    OK  UNNEEDED, same version is already published
palomino3Windows Server 2022 Datacenter / x64  OK    OK    OK    OK  UNNEEDED, same version is already published
merida1macOS 10.14.6 Mojave / x86_64  OK    OK    OK    OK  UNNEEDED, same version is already published
Package 99/466HostnameOS / ArchINSTALLBUILDCHECKBUILD BIN
dasper 1.6.0  (landing page)
David Zhang
git_last_commit: 06e29e2
git_last_commit_date: 2022-04-26 12:10:37 -0400
nebbiolo1Linux (Ubuntu 20.04.5 LTS) / x86_64  OK    OK    OK  UNNEEDED, same version is already published
palomino3Windows Server 2022 Datacenter / x64  OK    OK    OK    OK  UNNEEDED, same version is already published
merida1macOS 10.14.6 Mojave / x86_64  OK    OK    OK    OK  UNNEEDED, same version is already published
Package 100/466HostnameOS / ArchINSTALLBUILDCHECKBUILD BIN
debCAM 1.14.0  (landing page)
Lulu Chen
git_last_commit: 5eabb9a
git_last_commit_date: 2022-04-26 11:59:10 -0400
nebbiolo1Linux (Ubuntu 20.04.5 LTS) / x86_64  OK    OK    OK  UNNEEDED, same version is already published
palomino3Windows Server 2022 Datacenter / x64  OK    OK    OK    OK  UNNEEDED, same version is already published
merida1macOS 10.14.6 Mojave / x86_64  OK    OK    OK    OK  UNNEEDED, same version is already published
Package 101/466HostnameOS / ArchINSTALLBUILDCHECKBUILD BIN
debrowser 1.24.1  (landing page)
Alper Kucukural
git_last_commit: c03e0a0
git_last_commit_date: 2022-08-01 13:53:14 -0400
nebbiolo1Linux (Ubuntu 20.04.5 LTS) / x86_64  OK    OK    OK  UNNEEDED, same version is already published
palomino3Windows Server 2022 Datacenter / x64  OK    OK    OK    OK  UNNEEDED, same version is already published
merida1macOS 10.14.6 Mojave / x86_64  OK    OK    OK    OK  UNNEEDED, same version is already published
Package 102/466HostnameOS / ArchINSTALLBUILDCHECKBUILD BIN
deco 1.12.0  (landing page)
Francisco Jose Campos Laborie
git_last_commit: f398a46
git_last_commit_date: 2022-04-26 11:52:35 -0400
nebbiolo1Linux (Ubuntu 20.04.5 LTS) / x86_64  OK    OK    OK  UNNEEDED, same version is already published
palomino3Windows Server 2022 Datacenter / x64  OK    OK    OK    OK  UNNEEDED, same version is already published
merida1macOS 10.14.6 Mojave / x86_64  OK    OK    OK    OK  UNNEEDED, same version is already published
Package 103/466HostnameOS / ArchINSTALLBUILDCHECKBUILD BIN
DEComplexDisease 1.16.0  (landing page)
Guofeng Meng
git_last_commit: fbcf71d
git_last_commit_date: 2022-04-26 11:47:01 -0400
nebbiolo1Linux (Ubuntu 20.04.5 LTS) / x86_64  OK    OK    OK  UNNEEDED, same version is already published
palomino3Windows Server 2022 Datacenter / x64  OK    OK    OK    OK  UNNEEDED, same version is already published
merida1macOS 10.14.6 Mojave / x86_64  OK    OK    OK    OK  UNNEEDED, same version is already published
Package 104/466HostnameOS / ArchINSTALLBUILDCHECKBUILD BIN
decompTumor2Sig 2.12.0  (landing page)
Rosario M. Piro
git_last_commit: 8b41d1c
git_last_commit_date: 2022-04-26 11:52:21 -0400
nebbiolo1Linux (Ubuntu 20.04.5 LTS) / x86_64  OK    OK    OK  UNNEEDED, same version is already published
palomino3Windows Server 2022 Datacenter / x64  OK    OK    OK    OK  UNNEEDED, same version is already published
merida1macOS 10.14.6 Mojave / x86_64  OK    OK    OK    OK  UNNEEDED, same version is already published
Package 105/466HostnameOS / ArchINSTALLBUILDCHECKBUILD BIN
deepSNV 1.42.1  (landing page)
Moritz Gerstung
git_last_commit: 9800af9
git_last_commit_date: 2022-05-31 16:26:03 -0400
nebbiolo1Linux (Ubuntu 20.04.5 LTS) / x86_64  OK    OK    OK  UNNEEDED, same version is already published
palomino3Windows Server 2022 Datacenter / x64  OK    OK    OK    OK  UNNEEDED, same version is already published
merida1macOS 10.14.6 Mojave / x86_64  OK    OK    OK    OK  UNNEEDED, same version is already published
Package 106/466HostnameOS / ArchINSTALLBUILDCHECKBUILD BIN
DEFormats 1.24.0  (landing page)
Andrzej Oleś
git_last_commit: 8014385
git_last_commit_date: 2022-04-26 11:30:51 -0400
nebbiolo1Linux (Ubuntu 20.04.5 LTS) / x86_64  OK    OK    OK  UNNEEDED, same version is already published
palomino3Windows Server 2022 Datacenter / x64  OK    OK    OK    OK  UNNEEDED, same version is already published
merida1macOS 10.14.6 Mojave / x86_64  OK    OK    OK    OK  UNNEEDED, same version is already published
Package 107/466HostnameOS / ArchINSTALLBUILDCHECKBUILD BIN
DEGreport 1.32.0  (landing page)
Lorena Pantano
git_last_commit: 34bf061
git_last_commit_date: 2022-04-26 11:20:09 -0400
nebbiolo1Linux (Ubuntu 20.04.5 LTS) / x86_64  OK    OK    OK  UNNEEDED, same version is already published
palomino3Windows Server 2022 Datacenter / x64  OK    OK    OK    OK  UNNEEDED, same version is already published
merida1macOS 10.14.6 Mojave / x86_64  OK    OK    OK    OK  UNNEEDED, same version is already published
Package 108/466HostnameOS / ArchINSTALLBUILDCHECKBUILD BIN
deltaCaptureC 1.10.0  (landing page)
Michael Shapiro
git_last_commit: 86b05b7
git_last_commit_date: 2022-04-26 11:58:50 -0400
nebbiolo1Linux (Ubuntu 20.04.5 LTS) / x86_64  OK    OK    OK  UNNEEDED, same version is already published
palomino3Windows Server 2022 Datacenter / x64  OK    OK    OK    OK  UNNEEDED, same version is already published
merida1macOS 10.14.6 Mojave / x86_64  OK    OK    OK    OK  UNNEEDED, same version is already published
Package 109/466HostnameOS / ArchINSTALLBUILDCHECKBUILD BIN
DeMixT 1.12.0  (landing page)
Shuai Guo
git_last_commit: f7bf7d2
git_last_commit_date: 2022-04-26 11:54:08 -0400
nebbiolo1Linux (Ubuntu 20.04.5 LTS) / x86_64  OK    OK    WARNINGS  UNNEEDED, same version is already published
palomino3Windows Server 2022 Datacenter / x64  OK    OK    WARNINGS    OK  UNNEEDED, same version is already published
merida1macOS 10.14.6 Mojave / x86_64  OK    OK    WARNINGS    OK  UNNEEDED, same version is already published
Package 110/466HostnameOS / ArchINSTALLBUILDCHECKBUILD BIN
DEP 1.18.0  (landing page)
Arne Smits
git_last_commit: 5609377
git_last_commit_date: 2022-04-26 11:42:30 -0400
nebbiolo1Linux (Ubuntu 20.04.5 LTS) / x86_64  OK    OK    WARNINGS  UNNEEDED, same version is already published
palomino3Windows Server 2022 Datacenter / x64  OK    OK    WARNINGS    OK  UNNEEDED, same version is already published
merida1macOS 10.14.6 Mojave / x86_64  OK    OK    WARNINGS    OK  UNNEEDED, same version is already published
Package 111/466HostnameOS / ArchINSTALLBUILDCHECKBUILD BIN
DEScan2 1.16.0  (landing page)
Dario Righelli
git_last_commit: 0b0ac15
git_last_commit_date: 2022-04-26 11:47:49 -0400
nebbiolo1Linux (Ubuntu 20.04.5 LTS) / x86_64  OK    OK    OK  UNNEEDED, same version is already published
palomino3Windows Server 2022 Datacenter / x64  OK    OK    OK    OK  UNNEEDED, same version is already published
merida1macOS 10.14.6 Mojave / x86_64  OK    OK    OK    OK  UNNEEDED, same version is already published
Package 112/466HostnameOS / ArchINSTALLBUILDCHECKBUILD BIN
DESeq2 1.36.0  (landing page)
Michael Love
git_last_commit: 2800b78
git_last_commit_date: 2022-04-26 11:13:44 -0400
nebbiolo1Linux (Ubuntu 20.04.5 LTS) / x86_64  OK    OK    OK  UNNEEDED, same version is already published
palomino3Windows Server 2022 Datacenter / x64  OK    OK    OK    OK  UNNEEDED, same version is already published
merida1macOS 10.14.6 Mojave / x86_64  OK    OK    OK    OK  UNNEEDED, same version is already published
Package 113/466HostnameOS / ArchINSTALLBUILDCHECKBUILD BIN
destiny 3.10.0  (landing page)
Philipp Angerer
git_last_commit: b2ed76b
git_last_commit_date: 2022-04-26 12:20:57 -0400
nebbiolo1Linux (Ubuntu 20.04.5 LTS) / x86_64  OK    OK    OK  UNNEEDED, same version is already published
palomino3Windows Server 2022 Datacenter / x64  OK    OK    OK    OK  UNNEEDED, same version is already published
merida1macOS 10.14.6 Mojave / x86_64  OK    OK    OK    OK  UNNEEDED, same version is already published
Package 114/466HostnameOS / ArchINSTALLBUILDCHECKBUILD BIN
DEWSeq 1.10.0  (landing page)
bioinformatics team Hentze
git_last_commit: 645467d
git_last_commit_date: 2022-04-26 12:00:40 -0400
nebbiolo1Linux (Ubuntu 20.04.5 LTS) / x86_64  OK    OK    OK  UNNEEDED, same version is already published
palomino3Windows Server 2022 Datacenter / x64  OK    OK    OK    OK  UNNEEDED, same version is already published
merida1macOS 10.14.6 Mojave / x86_64  OK    OK    OK    OK  UNNEEDED, same version is already published
Package 115/466HostnameOS / ArchINSTALLBUILDCHECKBUILD BIN
DEXSeq 1.42.0  (landing page)
Alejandro Reyes
git_last_commit: d91de62
git_last_commit_date: 2022-04-26 11:08:07 -0400
nebbiolo1Linux (Ubuntu 20.04.5 LTS) / x86_64  OK    OK    OK  UNNEEDED, same version is already published
palomino3Windows Server 2022 Datacenter / x64  OK    OK    OK    OK  UNNEEDED, same version is already published
merida1macOS 10.14.6 Mojave / x86_64  OK    OK    OK    OK  UNNEEDED, same version is already published
Package 116/466HostnameOS / ArchINSTALLBUILDCHECKBUILD BIN
DiffBind 3.6.5  (landing page)
Rory Stark
git_last_commit: c1ce415
git_last_commit_date: 2022-10-04 09:50:40 -0400
nebbiolo1Linux (Ubuntu 20.04.5 LTS) / x86_64  OK    OK    OK  UNNEEDED, same version is already published
palomino3Windows Server 2022 Datacenter / x64  OK    OK    OK    OK  UNNEEDED, same version is already published
merida1macOS 10.14.6 Mojave / x86_64  OK    OK    OK    OK  UNNEEDED, same version is already published
Package 117/466HostnameOS / ArchINSTALLBUILDCHECKBUILD BIN
diffcoexp 1.16.0  (landing page)
Wenbin Wei
git_last_commit: b31f568
git_last_commit_date: 2022-04-26 11:47:51 -0400
nebbiolo1Linux (Ubuntu 20.04.5 LTS) / x86_64  OK    OK    OK  UNNEEDED, same version is already published
palomino3Windows Server 2022 Datacenter / x64  OK    OK    OK    OK  UNNEEDED, same version is already published
merida1macOS 10.14.6 Mojave / x86_64  OK    OK    OK    OK  UNNEEDED, same version is already published
Package 118/466HostnameOS / ArchINSTALLBUILDCHECKBUILD BIN
diffcyt 1.16.0  (landing page)
Lukas M. Weber
git_last_commit: 007433f
git_last_commit_date: 2022-04-26 11:48:24 -0400
nebbiolo1Linux (Ubuntu 20.04.5 LTS) / x86_64  OK    OK    OK  UNNEEDED, same version is already published
palomino3Windows Server 2022 Datacenter / x64  OK    OK    OK    OK  NO, package depends on 'FlowSOM' which is not available
merida1macOS 10.14.6 Mojave / x86_64  OK    OK    OK    OK  UNNEEDED, same version is already published
Package 119/466HostnameOS / ArchINSTALLBUILDCHECKBUILD BIN
DifferentialRegulation 1.0.7  (landing page)
Simone Tiberi
git_last_commit: 013f193
git_last_commit_date: 2022-07-25 09:46:18 -0400
nebbiolo1Linux (Ubuntu 20.04.5 LTS) / x86_64  OK    OK    OK  UNNEEDED, same version is already published
palomino3Windows Server 2022 Datacenter / x64  OK    OK    OK    OK  UNNEEDED, same version is already published
merida1macOS 10.14.6 Mojave / x86_64  OK    OK    OK    OK  UNNEEDED, same version is already published
Package 120/466HostnameOS / ArchINSTALLBUILDCHECKBUILD BIN
diffHic 1.28.0  (landing page)
Aaron Lun
git_last_commit: aff6e4c
git_last_commit_date: 2022-04-26 11:25:14 -0400
nebbiolo1Linux (Ubuntu 20.04.5 LTS) / x86_64  OK    OK    OK  UNNEEDED, same version is already published
palomino3Windows Server 2022 Datacenter / x64  OK    OK    OK    OK  UNNEEDED, same version is already published
merida1macOS 10.14.6 Mojave / x86_64  OK    OK    OK    OK  UNNEEDED, same version is already published
Package 121/466HostnameOS / ArchINSTALLBUILDCHECKBUILD BIN
diffUTR 1.4.0  (landing page)
Pierre-Luc Germain
git_last_commit: d5d208a
git_last_commit_date: 2022-04-26 12:15:48 -0400
nebbiolo1Linux (Ubuntu 20.04.5 LTS) / x86_64  OK    OK    OK  UNNEEDED, same version is already published
palomino3Windows Server 2022 Datacenter / x64  OK    OK    OK    OK  UNNEEDED, same version is already published
merida1macOS 10.14.6 Mojave / x86_64  OK    OK    OK    OK  UNNEEDED, same version is already published
Package 122/466HostnameOS / ArchINSTALLBUILDCHECKBUILD BIN
Dino 1.2.0  (landing page)
Jared Brown
git_last_commit: 4d333bf
git_last_commit_date: 2022-04-26 12:17:02 -0400
nebbiolo1Linux (Ubuntu 20.04.5 LTS) / x86_64  OK    OK    OK  UNNEEDED, same version is already published
palomino3Windows Server 2022 Datacenter / x64  OK    OK    OK    OK  UNNEEDED, same version is already published
merida1macOS 10.14.6 Mojave / x86_64  OK    OK    OK    OK  UNNEEDED, same version is already published
Package 123/466HostnameOS / ArchINSTALLBUILDCHECKBUILD BIN
DiscoRhythm 1.12.0  (landing page)
Matthew Carlucci
git_last_commit: 49ed0c7
git_last_commit_date: 2022-04-26 11:54:30 -0400
nebbiolo1Linux (Ubuntu 20.04.5 LTS) / x86_64  OK    OK    OK  UNNEEDED, same version is already published
palomino3Windows Server 2022 Datacenter / x64  OK    OK    OK    OK  UNNEEDED, same version is already published
merida1macOS 10.14.6 Mojave / x86_64  OK    OK    OK    OK  UNNEEDED, same version is already published
Package 124/466HostnameOS / ArchINSTALLBUILDCHECKBUILD BIN
distinct 1.8.0  (landing page)
Simone Tiberi
git_last_commit: 4349ff1
git_last_commit_date: 2022-04-26 12:04:11 -0400
nebbiolo1Linux (Ubuntu 20.04.5 LTS) / x86_64  OK    OK    OK  UNNEEDED, same version is already published
palomino3Windows Server 2022 Datacenter / x64  OK    OK    OK    OK  UNNEEDED, same version is already published
merida1macOS 10.14.6 Mojave / x86_64  OK    OK    OK    OK  UNNEEDED, same version is already published
Package 125/466HostnameOS / ArchINSTALLBUILDCHECKBUILD BIN
dittoSeq 1.8.1  (landing page)
Daniel Bunis
git_last_commit: fc99201
git_last_commit_date: 2022-05-31 16:32:55 -0400
nebbiolo1Linux (Ubuntu 20.04.5 LTS) / x86_64  OK    OK    OK  UNNEEDED, same version is already published
palomino3Windows Server 2022 Datacenter / x64  OK    OK    OK    OK  UNNEEDED, same version is already published
merida1macOS 10.14.6 Mojave / x86_64  OK    OK    OK    OK  UNNEEDED, same version is already published
Package 126/466HostnameOS / ArchINSTALLBUILDCHECKBUILD BIN
divergence 1.12.0  (landing page)
Wikum Dinalankara , Luigi Marchionni
git_last_commit: d78c72f
git_last_commit_date: 2022-04-26 11:53:04 -0400
nebbiolo1Linux (Ubuntu 20.04.5 LTS) / x86_64  OK    OK    OK  UNNEEDED, same version is already published
palomino3Windows Server 2022 Datacenter / x64  OK    OK    OK    OK  UNNEEDED, same version is already published
merida1macOS 10.14.6 Mojave / x86_64  OK    OK    OK    OK  UNNEEDED, same version is already published
Package 127/466HostnameOS / ArchINSTALLBUILDCHECKBUILD BIN
DMCFB 1.10.0  (landing page)
Farhad Shokoohi
git_last_commit: 8a845a7
git_last_commit_date: 2022-04-26 11:59:47 -0400
nebbiolo1Linux (Ubuntu 20.04.5 LTS) / x86_64  OK    OK    OK  UNNEEDED, same version is already published
palomino3Windows Server 2022 Datacenter / x64  OK    OK    OK    OK  UNNEEDED, same version is already published
merida1macOS 10.14.6 Mojave / x86_64  OK    OK    OK    OK  UNNEEDED, same version is already published
Package 128/466HostnameOS / ArchINSTALLBUILDCHECKBUILD BIN
DMCHMM 1.18.0  (landing page)
Farhad Shokoohi
git_last_commit: 870c787
git_last_commit_date: 2022-04-26 11:42:52 -0400
nebbiolo1Linux (Ubuntu 20.04.5 LTS) / x86_64  OK    OK    OK  UNNEEDED, same version is already published
palomino3Windows Server 2022 Datacenter / x64  OK    OK    WARNINGS    OK  UNNEEDED, same version is already published
merida1macOS 10.14.6 Mojave / x86_64  OK    OK    OK    OK  UNNEEDED, same version is already published
Package 129/466HostnameOS / ArchINSTALLBUILDCHECKBUILD BIN
DMRcate 2.10.0  (landing page)
Tim Peters
git_last_commit: 81e8370
git_last_commit_date: 2022-04-26 11:18:02 -0400
nebbiolo1Linux (Ubuntu 20.04.5 LTS) / x86_64  OK    OK    OK  UNNEEDED, same version is already published
palomino3Windows Server 2022 Datacenter / x64  OK    OK    OK    OK  UNNEEDED, same version is already published
merida1macOS 10.14.6 Mojave / x86_64  OK    OK    OK    OK  UNNEEDED, same version is already published
Package 130/466HostnameOS / ArchINSTALLBUILDCHECKBUILD BIN
DominoEffect 1.16.0  (landing page)
Marija Buljan
git_last_commit: 0b764f9
git_last_commit_date: 2022-04-26 11:47:32 -0400
nebbiolo1Linux (Ubuntu 20.04.5 LTS) / x86_64  OK    OK    OK  UNNEEDED, same version is already published
palomino3Windows Server 2022 Datacenter / x64  OK    OK    OK    OK  UNNEEDED, same version is already published
merida1macOS 10.14.6 Mojave / x86_64  OK    OK    OK    OK  UNNEEDED, same version is already published
Package 131/466HostnameOS / ArchINSTALLBUILDCHECKBUILD BIN
doppelgangR 1.24.0  (landing page)
Levi Waldron
git_last_commit: 4f87528
git_last_commit_date: 2022-04-26 11:30:01 -0400
nebbiolo1Linux (Ubuntu 20.04.5 LTS) / x86_64  OK    OK    OK  UNNEEDED, same version is already published
palomino3Windows Server 2022 Datacenter / x64  OK    OK    OK    OK  UNNEEDED, same version is already published
merida1macOS 10.14.6 Mojave / x86_64  OK    OK    OK    OK  UNNEEDED, same version is already published
Package 132/466HostnameOS / ArchINSTALLBUILDCHECKBUILD BIN
doseR 1.12.0  (landing page)
ake.vastermark
git_last_commit: bd4934e
git_last_commit_date: 2022-04-26 11:53:26 -0400
nebbiolo1Linux (Ubuntu 20.04.5 LTS) / x86_64  OK    OK    OK  UNNEEDED, same version is already published
palomino3Windows Server 2022 Datacenter / x64  OK    OK    OK    OK  UNNEEDED, same version is already published
merida1macOS 10.14.6 Mojave / x86_64  OK    OK    OK    OK  UNNEEDED, same version is already published
Package 133/466HostnameOS / ArchINSTALLBUILDCHECKBUILD BIN
DropletUtils 1.16.0  (landing page)
Jonathan Griffiths
git_last_commit: a08cd3b
git_last_commit_date: 2022-04-26 11:46:20 -0400
nebbiolo1Linux (Ubuntu 20.04.5 LTS) / x86_64  OK    OK    OK  UNNEEDED, same version is already published
palomino3Windows Server 2022 Datacenter / x64  OK    OK    OK    OK  UNNEEDED, same version is already published
merida1macOS 10.14.6 Mojave / x86_64  OK    OK    OK    OK  UNNEEDED, same version is already published
Package 134/466HostnameOS / ArchINSTALLBUILDCHECKBUILD BIN
Dune 1.8.0  (landing page)
Hector Roux de Bezieux
git_last_commit: 9bc5007
git_last_commit_date: 2022-04-26 12:03:32 -0400
nebbiolo1Linux (Ubuntu 20.04.5 LTS) / x86_64  OK    OK    OK  UNNEEDED, same version is already published
palomino3Windows Server 2022 Datacenter / x64  OK    OK    OK    OK  UNNEEDED, same version is already published
merida1macOS 10.14.6 Mojave / x86_64  OK    OK    OK    OK  UNNEEDED, same version is already published
Package 135/466HostnameOS / ArchINSTALLBUILDCHECKBUILD BIN
easyRNASeq 2.32.0  (landing page)
Nicolas Delhomme
git_last_commit: 83a6ed5
git_last_commit_date: 2022-04-26 11:10:04 -0400
nebbiolo1Linux (Ubuntu 20.04.5 LTS) / x86_64  OK    OK    OK  UNNEEDED, same version is already published
palomino3Windows Server 2022 Datacenter / x64  OK    OK    OK    OK  UNNEEDED, same version is already published
merida1macOS 10.14.6 Mojave / x86_64  OK    OK    OK    OK  UNNEEDED, same version is already published
Package 136/466HostnameOS / ArchINSTALLBUILDCHECKBUILD BIN
eisaR 1.8.0  (landing page)
Michael Stadler
git_last_commit: 1d61fdb
git_last_commit_date: 2022-04-26 12:03:22 -0400
nebbiolo1Linux (Ubuntu 20.04.5 LTS) / x86_64  OK    OK    OK  UNNEEDED, same version is already published
palomino3Windows Server 2022 Datacenter / x64  OK    OK    OK    OK  UNNEEDED, same version is already published
merida1macOS 10.14.6 Mojave / x86_64  OK    OK    OK    OK  UNNEEDED, same version is already published
Package 137/466HostnameOS / ArchINSTALLBUILDCHECKBUILD BIN
ELMER 2.20.0  (landing page)
Tiago Chedraoui Silva
git_last_commit: 414ba02
git_last_commit_date: 2022-04-26 11:25:44 -0400
nebbiolo1Linux (Ubuntu 20.04.5 LTS) / x86_64  OK    OK    WARNINGS  UNNEEDED, same version is already published
palomino3Windows Server 2022 Datacenter / x64  OK    OK    WARNINGS    OK  UNNEEDED, same version is already published
merida1macOS 10.14.6 Mojave / x86_64  OK    OK    WARNINGS    OK  UNNEEDED, same version is already published
Package 138/466HostnameOS / ArchINSTALLBUILDCHECKBUILD BIN
ENmix 1.32.0  (landing page)
Zongli Xu
git_last_commit: 7abd1c3
git_last_commit_date: 2022-04-26 11:25:08 -0400
nebbiolo1Linux (Ubuntu 20.04.5 LTS) / x86_64  OK    OK    OK  UNNEEDED, same version is already published
palomino3Windows Server 2022 Datacenter / x64  OK    OK    OK    OK  UNNEEDED, same version is already published
merida1macOS 10.14.6 Mojave / x86_64  OK    OK    OK    OK  UNNEEDED, same version is already published
Package 139/466HostnameOS / ArchINSTALLBUILDCHECKBUILD BIN
EnrichmentBrowser 2.26.0  (landing page)
Ludwig Geistlinger
git_last_commit: d0f440d
git_last_commit_date: 2022-04-26 11:21:31 -0400
nebbiolo1Linux (Ubuntu 20.04.5 LTS) / x86_64  OK    OK    OK  UNNEEDED, same version is already published
palomino3Windows Server 2022 Datacenter / x64  OK    OK    OK    OK  UNNEEDED, same version is already published
merida1macOS 10.14.6 Mojave / x86_64  OK    OK    OK    OK  UNNEEDED, same version is already published
Package 140/466HostnameOS / ArchINSTALLBUILDCHECKBUILD BIN
ensemblVEP 1.38.0  (landing page)
Bioconductor Package Maintainer
git_last_commit: 8d6b5a9
git_last_commit_date: 2022-04-26 11:13:02 -0400
nebbiolo1Linux (Ubuntu 20.04.5 LTS) / x86_64  OK    OK    OK  UNNEEDED, same version is already published
palomino3Windows Server 2022 Datacenter / x64... NOT SUPPORTED ...
merida1macOS 10.14.6 Mojave / x86_64  OK    OK    OK    OK  UNNEEDED, same version is already published
Package 141/466HostnameOS / ArchINSTALLBUILDCHECKBUILD BIN
epialleleR 1.4.0  (landing page)
Oleksii Nikolaienko
git_last_commit: 74145ed
git_last_commit_date: 2022-04-26 12:15:55 -0400
nebbiolo1Linux (Ubuntu 20.04.5 LTS) / x86_64  OK    OK    WARNINGS  UNNEEDED, same version is already published
palomino3Windows Server 2022 Datacenter / x64  OK    OK    WARNINGS    OK  UNNEEDED, same version is already published
merida1macOS 10.14.6 Mojave / x86_64  OK    OK    OK    OK  UNNEEDED, same version is already published
Package 142/466HostnameOS / ArchINSTALLBUILDCHECKBUILD BIN
epigenomix 1.36.0  (landing page)
Hans-Ulrich Klein
git_last_commit: ce6e102
git_last_commit_date: 2022-04-26 11:13:53 -0400
nebbiolo1Linux (Ubuntu 20.04.5 LTS) / x86_64  OK    OK    OK  UNNEEDED, same version is already published
palomino3Windows Server 2022 Datacenter / x64  OK    OK    OK    OK  UNNEEDED, same version is already published
merida1macOS 10.14.6 Mojave / x86_64  OK    OK    OK    OK  UNNEEDED, same version is already published
Package 143/466HostnameOS / ArchINSTALLBUILDCHECKBUILD BIN
epigraHMM 1.4.0  (landing page)
Pedro Baldoni
git_last_commit: 82b8a69
git_last_commit_date: 2022-04-26 12:16:15 -0400
nebbiolo1Linux (Ubuntu 20.04.5 LTS) / x86_64  OK    OK    OK  UNNEEDED, same version is already published
palomino3Windows Server 2022 Datacenter / x64  OK    OK    OK    OK  UNNEEDED, same version is already published
merida1macOS 10.14.6 Mojave / x86_64  OK    OK    OK    OK  UNNEEDED, same version is already published
Package 144/466HostnameOS / ArchINSTALLBUILDCHECKBUILD BIN
epimutacions 1.0.3  (landing page)
Leire Abarrategui
git_last_commit: 546eb34
git_last_commit_date: 2022-06-20 15:59:10 -0400
nebbiolo1Linux (Ubuntu 20.04.5 LTS) / x86_64  OK    OK    OK  UNNEEDED, same version is already published
palomino3Windows Server 2022 Datacenter / x64  OK    OK    OK    OK  UNNEEDED, same version is already published
merida1macOS 10.14.6 Mojave / x86_64  OK    OK    OK    OK  UNNEEDED, same version is already published
Package 145/466HostnameOS / ArchINSTALLBUILDCHECKBUILD BIN
epistack 1.2.0  (landing page)
DEVAILLY Guillaume
git_last_commit: e6b89b2
git_last_commit_date: 2022-04-26 12:19:12 -0400
nebbiolo1Linux (Ubuntu 20.04.5 LTS) / x86_64  OK    OK    OK  UNNEEDED, same version is already published
palomino3Windows Server 2022 Datacenter / x64  OK    OK    OK    OK  UNNEEDED, same version is already published
merida1macOS 10.14.6 Mojave / x86_64  OK    OK    OK    OK  UNNEEDED, same version is already published
Package 146/466HostnameOS / ArchINSTALLBUILDCHECKBUILD BIN
epivizrData 1.24.0  (landing page)
Hector Corrada Bravo
git_last_commit: 8a48f19
git_last_commit_date: 2022-04-26 11:32:06 -0400
nebbiolo1Linux (Ubuntu 20.04.5 LTS) / x86_64  OK    OK    WARNINGS  UNNEEDED, same version is already published
palomino3Windows Server 2022 Datacenter / x64  OK    OK    WARNINGS    OK  UNNEEDED, same version is already published
merida1macOS 10.14.6 Mojave / x86_64  OK    OK    WARNINGS    OK  UNNEEDED, same version is already published
Package 147/466HostnameOS / ArchINSTALLBUILDCHECKBUILD BIN
erma 1.12.0  (landing page)
VJ Carey
git_last_commit: 0e226dd
git_last_commit_date: 2022-04-26 11:25:55 -0400
nebbiolo1Linux (Ubuntu 20.04.5 LTS) / x86_64  OK    OK    OK  UNNEEDED, same version is already published
palomino3Windows Server 2022 Datacenter / x64  OK    OK    OK    OK  UNNEEDED, same version is already published
merida1macOS 10.14.6 Mojave / x86_64  OK    OK    OK    OK  UNNEEDED, same version is already published
Package 148/466HostnameOS / ArchINSTALLBUILDCHECKBUILD BIN
escape 1.6.0  (landing page)
Nick Borcherding
git_last_commit: 98c38e0
git_last_commit_date: 2022-04-26 12:06:49 -0400
nebbiolo1Linux (Ubuntu 20.04.5 LTS) / x86_64  OK    OK    OK  UNNEEDED, same version is already published
palomino3Windows Server 2022 Datacenter / x64  OK    OK    OK    OK  UNNEEDED, same version is already published
merida1macOS 10.14.6 Mojave / x86_64  OK    OK    OK    OK  UNNEEDED, same version is already published
Package 149/466HostnameOS / ArchINSTALLBUILDCHECKBUILD BIN
evaluomeR 1.12.0  (landing page)
José Antonio Bernabé-Díaz
git_last_commit: 18b5e93
git_last_commit_date: 2022-04-26 11:54:06 -0400
nebbiolo1Linux (Ubuntu 20.04.5 LTS) / x86_64  OK    OK    OK  UNNEEDED, same version is already published
palomino3Windows Server 2022 Datacenter / x64  OK    OK    OK    OK  UNNEEDED, same version is already published
merida1macOS 10.14.6 Mojave / x86_64  OK    OK    OK    OK  UNNEEDED, same version is already published
Package 150/466HostnameOS / ArchINSTALLBUILDCHECKBUILD BIN
EventPointer 3.4.1  (landing page)
Juan A. Ferrer-Bonsoms
git_last_commit: d5f1044
git_last_commit_date: 2022-06-09 03:20:13 -0400
nebbiolo1Linux (Ubuntu 20.04.5 LTS) / x86_64  OK    OK    OK  UNNEEDED, same version is already published
palomino3Windows Server 2022 Datacenter / x64  OK    OK    OK    OK  UNNEEDED, same version is already published
merida1macOS 10.14.6 Mojave / x86_64  OK    OK    OK    OK  UNNEEDED, same version is already published
Package 151/466HostnameOS / ArchINSTALLBUILDCHECKBUILD BIN
EWCE 1.4.0  (landing page)
Alan Murphy
git_last_commit: 306f434
git_last_commit_date: 2022-04-26 12:14:47 -0400
nebbiolo1Linux (Ubuntu 20.04.5 LTS) / x86_64  OK    OK    OK  UNNEEDED, same version is already published
palomino3Windows Server 2022 Datacenter / x64  OK    OK    OK    OK  UNNEEDED, same version is already published
merida1macOS 10.14.6 Mojave / x86_64  OK    OK    OK    OK  UNNEEDED, same version is already published
Package 152/466HostnameOS / ArchINSTALLBUILDCHECKBUILD BIN
exomePeak2 1.8.1  (landing page)
Zhen Wei
git_last_commit: 33dff75
git_last_commit_date: 2022-09-14 22:18:12 -0400
nebbiolo1Linux (Ubuntu 20.04.5 LTS) / x86_64  OK    OK    OK  UNNEEDED, same version is already published
palomino3Windows Server 2022 Datacenter / x64  OK    OK    OK    OK  UNNEEDED, same version is already published
merida1macOS 10.14.6 Mojave / x86_64  OK    OK    OK    OK  UNNEEDED, same version is already published
Package 153/466HostnameOS / ArchINSTALLBUILDCHECKBUILD BIN
ExperimentSubset 1.6.0  (landing page)
Irzam Sarfraz
git_last_commit: 79369da
git_last_commit_date: 2022-04-26 12:09:37 -0400
nebbiolo1Linux (Ubuntu 20.04.5 LTS) / x86_64  OK    OK    OK  UNNEEDED, same version is already published
palomino3Windows Server 2022 Datacenter / x64  OK    OK    OK    OK  UNNEEDED, same version is already published
merida1macOS 10.14.6 Mojave / x86_64  OK    OK    OK    OK  UNNEEDED, same version is already published
Package 154/466HostnameOS / ArchINSTALLBUILDCHECKBUILD BIN
ExpressionAtlas 1.24.0  (landing page)
Pedro Madrigal
git_last_commit: 1fd2126
git_last_commit_date: 2022-04-26 11:29:29 -0400
nebbiolo1Linux (Ubuntu 20.04.5 LTS) / x86_64  OK    OK    ERROR  
palomino3Windows Server 2022 Datacenter / x64  OK    OK    ERROR    OK  
merida1macOS 10.14.6 Mojave / x86_64  OK    OK    ERROR    OK  
Package 155/466HostnameOS / ArchINSTALLBUILDCHECKBUILD BIN
extraChIPs 1.0.4  (landing page)
Stephen Pederson
git_last_commit: 303de4a
git_last_commit_date: 2022-08-30 10:36:51 -0400
nebbiolo1Linux (Ubuntu 20.04.5 LTS) / x86_64  OK    OK    OK  UNNEEDED, same version is already published
palomino3Windows Server 2022 Datacenter / x64  OK    OK    OK    OK  UNNEEDED, same version is already published
merida1macOS 10.14.6 Mojave / x86_64  OK    OK    OK    OK  UNNEEDED, same version is already published
Package 156/466HostnameOS / ArchINSTALLBUILDCHECKBUILD BIN
FCBF 2.4.0  (landing page)
Tiago Lubiana
git_last_commit: 35796df
git_last_commit_date: 2022-04-26 11:51:26 -0400
nebbiolo1Linux (Ubuntu 20.04.5 LTS) / x86_64  OK    OK    OK  UNNEEDED, same version is already published
palomino3Windows Server 2022 Datacenter / x64  OK    OK    OK    OK  UNNEEDED, same version is already published
merida1macOS 10.14.6 Mojave / x86_64  OK    OK    OK    OK  UNNEEDED, same version is already published
Package 157/466HostnameOS / ArchINSTALLBUILDCHECKBUILD BIN
fcScan 1.10.0  (landing page)
Pierre Khoueiry Abdullah El-Kurdi
git_last_commit: a393868
git_last_commit_date: 2022-04-26 11:58:13 -0400
nebbiolo1Linux (Ubuntu 20.04.5 LTS) / x86_64  OK    OK    OK  UNNEEDED, same version is already published
palomino3Windows Server 2022 Datacenter / x64  OK    OK    OK    OK  UNNEEDED, same version is already published
merida1macOS 10.14.6 Mojave / x86_64  OK    OK    OK    OK  UNNEEDED, same version is already published
Package 158/466HostnameOS / ArchINSTALLBUILDCHECKBUILD BIN
FEAST 1.4.0  (landing page)
Kenong Su
git_last_commit: 41a9fd0
git_last_commit_date: 2022-04-26 12:15:11 -0400
nebbiolo1Linux (Ubuntu 20.04.5 LTS) / x86_64  OK    OK    OK  UNNEEDED, same version is already published
palomino3Windows Server 2022 Datacenter / x64  OK    OK    OK    OK  UNNEEDED, same version is already published
merida1macOS 10.14.6 Mojave / x86_64  OK    OK    OK    OK  UNNEEDED, same version is already published
Package 159/466HostnameOS / ArchINSTALLBUILDCHECKBUILD BIN
FindIT2 1.2.3  (landing page)
Guandong Shang
git_last_commit: 17dec46
git_last_commit_date: 2022-05-25 06:53:22 -0400
nebbiolo1Linux (Ubuntu 20.04.5 LTS) / x86_64  OK    OK    OK  UNNEEDED, same version is already published
palomino3Windows Server 2022 Datacenter / x64  OK    OK    OK    OK  UNNEEDED, same version is already published
merida1macOS 10.14.6 Mojave / x86_64  OK    OK    OK    OK  UNNEEDED, same version is already published
Package 160/466HostnameOS / ArchINSTALLBUILDCHECKBUILD BIN
fishpond 2.2.0  (landing page)
Michael Love
git_last_commit: 5a790b0
git_last_commit_date: 2022-04-26 11:53:22 -0400
nebbiolo1Linux (Ubuntu 20.04.5 LTS) / x86_64  OK    OK    OK  UNNEEDED, same version is already published
palomino3Windows Server 2022 Datacenter / x64  OK    OK    OK    OK  UNNEEDED, same version is already published
merida1macOS 10.14.6 Mojave / x86_64  OK    OK    OK    OK  UNNEEDED, same version is already published
Package 161/466HostnameOS / ArchINSTALLBUILDCHECKBUILD BIN
FLAMES 1.2.2  (landing page)
Voogd Oliver
git_last_commit: 2d5808d
git_last_commit_date: 2022-08-06 23:11:02 -0400
nebbiolo1Linux (Ubuntu 20.04.5 LTS) / x86_64  OK    OK    OK  UNNEEDED, same version is already published
palomino3Windows Server 2022 Datacenter / x64  OK    OK    OK    OK  UNNEEDED, same version is already published
merida1macOS 10.14.6 Mojave / x86_64  OK    OK    OK    OK  UNNEEDED, same version is already published
Package 162/466HostnameOS / ArchINSTALLBUILDCHECKBUILD BIN
FRASER 1.8.1  (landing page)
Christian Mertes
git_last_commit: 8cf91e1
git_last_commit_date: 2022-06-28 17:38:57 -0400
nebbiolo1Linux (Ubuntu 20.04.5 LTS) / x86_64  OK    OK    OK  UNNEEDED, same version is already published
palomino3Windows Server 2022 Datacenter / x64  OK    OK    OK    OK  UNNEEDED, same version is already published
merida1macOS 10.14.6 Mojave / x86_64  OK    OK    OK    OK  UNNEEDED, same version is already published
Package 163/466HostnameOS / ArchINSTALLBUILDCHECKBUILD BIN
GARS 1.16.0  (landing page)
Mattia Chiesa
git_last_commit: 83aa869
git_last_commit_date: 2022-04-26 11:47:41 -0400
nebbiolo1Linux (Ubuntu 20.04.5 LTS) / x86_64  OK    OK    OK  UNNEEDED, same version is already published
palomino3Windows Server 2022 Datacenter / x64  OK    OK    WARNINGS    OK  UNNEEDED, same version is already published
merida1macOS 10.14.6 Mojave / x86_64  OK    OK    OK    OK  UNNEEDED, same version is already published
Package 164/466HostnameOS / ArchINSTALLBUILDCHECKBUILD BIN
gCrisprTools 2.2.2  (landing page)
Russell Bainer
git_last_commit: 1a65682
git_last_commit_date: 2022-10-10 14:54:08 -0400
nebbiolo1Linux (Ubuntu 20.04.5 LTS) / x86_64  OK    OK    ERROR  
palomino3Windows Server 2022 Datacenter / x64  OK    OK    ERROR    OK  
merida1macOS 10.14.6 Mojave / x86_64  OK    OK    ERROR    OK  
Package 165/466HostnameOS / ArchINSTALLBUILDCHECKBUILD BIN
GeneTonic 2.0.2  (landing page)
Federico Marini
git_last_commit: 19e79ae
git_last_commit_date: 2022-08-03 04:42:03 -0400
nebbiolo1Linux (Ubuntu 20.04.5 LTS) / x86_64  ERROR    ERROR  skipped
palomino3Windows Server 2022 Datacenter / x64  ERROR    ERROR  skippedskipped
merida1macOS 10.14.6 Mojave / x86_64  ERROR    ERROR  skippedskipped
Package 166/466HostnameOS / ArchINSTALLBUILDCHECKBUILD BIN
GenoGAM 2.14.0  (landing page)
Georg Stricker
git_last_commit: 6a9e62f
git_last_commit_date: 2022-04-26 11:31:01 -0400
nebbiolo1Linux (Ubuntu 20.04.5 LTS) / x86_64  OK    ERROR  skipped
palomino3Windows Server 2022 Datacenter / x64  OK    ERROR  skippedskipped
merida1macOS 10.14.6 Mojave / x86_64  OK    ERROR  skippedskipped
Package 167/466HostnameOS / ArchINSTALLBUILDCHECKBUILD BIN
GenomicAlignments 1.32.1  (landing page)
Bioconductor Package Maintainer
git_last_commit: 2553580
git_last_commit_date: 2022-07-21 19:24:34 -0400
nebbiolo1Linux (Ubuntu 20.04.5 LTS) / x86_64  OK    OK    OK  UNNEEDED, same version is already published
palomino3Windows Server 2022 Datacenter / x64  OK    OK    OK    OK  UNNEEDED, same version is already published
merida1macOS 10.14.6 Mojave / x86_64  OK    OK    OK    OK  UNNEEDED, same version is already published
Package 168/466HostnameOS / ArchINSTALLBUILDCHECKBUILD BIN
GenomicFiles 1.32.1  (landing page)
Bioconductor Package Maintainer
git_last_commit: abe840c
git_last_commit_date: 2022-05-06 13:19:35 -0400
nebbiolo1Linux (Ubuntu 20.04.5 LTS) / x86_64  OK    OK    OK  UNNEEDED, same version is already published
palomino3Windows Server 2022 Datacenter / x64  OK    OK    OK    OK  UNNEEDED, same version is already published
merida1macOS 10.14.6 Mojave / x86_64  OK    OK    OK    OK  UNNEEDED, same version is already published
Package 169/466HostnameOS / ArchINSTALLBUILDCHECKBUILD BIN
genomicInstability 1.2.0  (landing page)
Mariano Alvarez
git_last_commit: 7638b24
git_last_commit_date: 2022-04-26 12:17:40 -0400
nebbiolo1Linux (Ubuntu 20.04.5 LTS) / x86_64  OK    OK    OK  UNNEEDED, same version is already published
palomino3Windows Server 2022 Datacenter / x64  OK    OK    OK    OK  UNNEEDED, same version is already published
merida1macOS 10.14.6 Mojave / x86_64  OK    OK    OK    OK  UNNEEDED, same version is already published
Package 170/466HostnameOS / ArchINSTALLBUILDCHECKBUILD BIN
GenomicSuperSignature 1.4.0  (landing page)
Sehyun Oh
git_last_commit: 56c08bb
git_last_commit_date: 2022-04-26 12:16:25 -0400
nebbiolo1Linux (Ubuntu 20.04.5 LTS) / x86_64  OK    OK    WARNINGS  UNNEEDED, same version is already published
palomino3Windows Server 2022 Datacenter / x64  OK    OK    WARNINGS    OK  UNNEEDED, same version is already published
merida1macOS 10.14.6 Mojave / x86_64  OK    OK    WARNINGS    OK  UNNEEDED, same version is already published
Package 171/466HostnameOS / ArchINSTALLBUILDCHECKBUILD BIN
getDEE2 1.6.0  (landing page)
Mark Ziemann
git_last_commit: 6aef81b
git_last_commit_date: 2022-04-26 12:05:58 -0400
nebbiolo1Linux (Ubuntu 20.04.5 LTS) / x86_64  OK    OK    OK  UNNEEDED, same version is already published
palomino3Windows Server 2022 Datacenter / x64  OK    OK    OK    OK  UNNEEDED, same version is already published
merida1macOS 10.14.6 Mojave / x86_64  OK    OK    OK    OK  UNNEEDED, same version is already published
Package 172/466HostnameOS / ArchINSTALLBUILDCHECKBUILD BIN
ggbio 1.44.1  (landing page)
Michael Lawrence
git_last_commit: 0301d94
git_last_commit_date: 2022-06-22 15:18:55 -0400
nebbiolo1Linux (Ubuntu 20.04.5 LTS) / x86_64  OK    OK    WARNINGS  UNNEEDED, same version is already published
palomino3Windows Server 2022 Datacenter / x64  OK    OK    WARNINGS    OK  UNNEEDED, same version is already published
merida1macOS 10.14.6 Mojave / x86_64  OK    OK    WARNINGS    OK  UNNEEDED, same version is already published
Package 173/466HostnameOS / ArchINSTALLBUILDCHECKBUILD BIN
ggspavis 1.2.0  (landing page)
Lukas M. Weber
git_last_commit: ffb2eb5
git_last_commit_date: 2022-04-26 12:17:48 -0400
nebbiolo1Linux (Ubuntu 20.04.5 LTS) / x86_64  OK    OK    OK  UNNEEDED, same version is already published
palomino3Windows Server 2022 Datacenter / x64  OK    OK    OK    OK  UNNEEDED, same version is already published
merida1macOS 10.14.6 Mojave / x86_64  OK    OK    OK    OK  UNNEEDED, same version is already published
Package 174/466HostnameOS / ArchINSTALLBUILDCHECKBUILD BIN
Glimma 2.6.0  (landing page)
Shian Su
git_last_commit: 23220d9
git_last_commit_date: 2022-04-26 11:31:28 -0400
nebbiolo1Linux (Ubuntu 20.04.5 LTS) / x86_64  OK    OK    OK  UNNEEDED, same version is already published
palomino3Windows Server 2022 Datacenter / x64  OK    OK    OK    OK  UNNEEDED, same version is already published
merida1macOS 10.14.6 Mojave / x86_64  OK    OK    OK    OK  UNNEEDED, same version is already published
Package 175/466HostnameOS / ArchINSTALLBUILDCHECKBUILD BIN
glmGamPoi 1.8.0  (landing page)
Constantin Ahlmann-Eltze
git_last_commit: b723d61
git_last_commit_date: 2022-04-26 12:04:08 -0400
nebbiolo1Linux (Ubuntu 20.04.5 LTS) / x86_64  OK    OK    OK  UNNEEDED, same version is already published
palomino3Windows Server 2022 Datacenter / x64  OK    OK    OK    OK  UNNEEDED, same version is already published
merida1macOS 10.14.6 Mojave / x86_64  OK    OK    OK    OK  UNNEEDED, same version is already published
Package 176/466HostnameOS / ArchINSTALLBUILDCHECKBUILD BIN
glmSparseNet 1.14.1  (landing page)
André Veríssimo
git_last_commit: 0661877
git_last_commit_date: 2022-05-06 17:52:57 -0400
nebbiolo1Linux (Ubuntu 20.04.5 LTS) / x86_64  OK    OK    OK  UNNEEDED, same version is already published
palomino3Windows Server 2022 Datacenter / x64  OK    OK    OK    OK  UNNEEDED, same version is already published
merida1macOS 10.14.6 Mojave / x86_64  OK    OK    OK    OK  UNNEEDED, same version is already published
Package 177/466HostnameOS / ArchINSTALLBUILDCHECKBUILD BIN
GNET2 1.12.0  (landing page)
Chen Chen
git_last_commit: f3c81f4
git_last_commit_date: 2022-04-26 11:54:10 -0400
nebbiolo1Linux (Ubuntu 20.04.5 LTS) / x86_64  OK    OK    OK  UNNEEDED, same version is already published
palomino3Windows Server 2022 Datacenter / x64  OK    OK    OK    OK  UNNEEDED, same version is already published
merida1macOS 10.14.6 Mojave / x86_64  OK    OK    OK    OK  UNNEEDED, same version is already published
Package 178/466HostnameOS / ArchINSTALLBUILDCHECKBUILD BIN
GRaNIE 1.0.7  (landing page)
Christian Arnold
git_last_commit: 2ff0659
git_last_commit_date: 2022-09-27 06:50:11 -0400
nebbiolo1Linux (Ubuntu 20.04.5 LTS) / x86_64  OK    ERROR  skipped
palomino3Windows Server 2022 Datacenter / x64  OK    OK    WARNINGS    OK  UNNEEDED, same version is already published
merida1macOS 10.14.6 Mojave / x86_64  OK    OK    WARNINGS    OK  UNNEEDED, same version is already published
Package 179/466HostnameOS / ArchINSTALLBUILDCHECKBUILD BIN
GreyListChIP 1.28.1  (landing page)
Rory Stark
git_last_commit: 4148644
git_last_commit_date: 2022-05-13 08:06:21 -0400
nebbiolo1Linux (Ubuntu 20.04.5 LTS) / x86_64  OK    OK    OK  UNNEEDED, same version is already published
palomino3Windows Server 2022 Datacenter / x64  OK    OK    OK    OK  UNNEEDED, same version is already published
merida1macOS 10.14.6 Mojave / x86_64  OK    OK    OK    OK  UNNEEDED, same version is already published
Package 180/466HostnameOS / ArchINSTALLBUILDCHECKBUILD BIN
GRmetrics 1.22.0  (landing page)
Nicholas Clark , Mario Medvedovic
git_last_commit: cdeed1e
git_last_commit_date: 2022-04-26 11:34:39 -0400
nebbiolo1Linux (Ubuntu 20.04.5 LTS) / x86_64  OK    OK    OK  UNNEEDED, same version is already published
palomino3Windows Server 2022 Datacenter / x64  OK    OK    OK    OK  UNNEEDED, same version is already published
merida1macOS 10.14.6 Mojave / x86_64  OK    OK    OK    OK  UNNEEDED, same version is already published
Package 181/466HostnameOS / ArchINSTALLBUILDCHECKBUILD BIN
gscreend 1.10.0  (landing page)
Katharina Imkeller
git_last_commit: 273e2b4
git_last_commit_date: 2022-04-26 12:00:08 -0400
nebbiolo1Linux (Ubuntu 20.04.5 LTS) / x86_64  OK    OK    OK  UNNEEDED, same version is already published
palomino3Windows Server 2022 Datacenter / x64  OK    OK    OK    OK  UNNEEDED, same version is already published
merida1macOS 10.14.6 Mojave / x86_64  OK    OK    OK    OK  UNNEEDED, same version is already published
Package 182/466HostnameOS / ArchINSTALLBUILDCHECKBUILD BIN
GSEABenchmarkeR 1.16.0  (landing page)
Ludwig Geistlinger
git_last_commit: 657ddbb
git_last_commit_date: 2022-04-26 11:48:07 -0400
nebbiolo1Linux (Ubuntu 20.04.5 LTS) / x86_64  OK    OK    OK  UNNEEDED, same version is already published
palomino3Windows Server 2022 Datacenter / x64  OK    OK    OK    OK  UNNEEDED, same version is already published
merida1macOS 10.14.6 Mojave / x86_64  OK    OK    OK    OK  UNNEEDED, same version is already published
Package 183/466HostnameOS / ArchINSTALLBUILDCHECKBUILD BIN
GSVA 1.44.5  (landing page)
Robert Castelo
git_last_commit: bd55a3a
git_last_commit_date: 2022-09-20 14:24:51 -0400
nebbiolo1Linux (Ubuntu 20.04.5 LTS) / x86_64  OK    OK    OK  UNNEEDED, same version is already published
palomino3Windows Server 2022 Datacenter / x64  OK    OK    OK    OK  UNNEEDED, same version is already published
merida1macOS 10.14.6 Mojave / x86_64  OK    OK    OK    OK  UNNEEDED, same version is already published
Package 184/466HostnameOS / ArchINSTALLBUILDCHECKBUILD BIN
gwasurvivr 1.14.0  (landing page)
Abbas Rizvi
git_last_commit: 221dd45
git_last_commit_date: 2022-04-26 11:49:41 -0400
nebbiolo1Linux (Ubuntu 20.04.5 LTS) / x86_64  OK    OK    OK  UNNEEDED, same version is already published
palomino3Windows Server 2022 Datacenter / x64  OK    OK    OK    OK  UNNEEDED, same version is already published
merida1macOS 10.14.6 Mojave / x86_64  OK    OK    OK    OK  UNNEEDED, same version is already published
Package 185/466HostnameOS / ArchINSTALLBUILDCHECKBUILD BIN
GWENA 1.6.0  (landing page)
Gwenaëlle Lemoine
git_last_commit: 08473e2
git_last_commit_date: 2022-04-26 12:06:28 -0400
nebbiolo1Linux (Ubuntu 20.04.5 LTS) / x86_64  OK    OK    OK  UNNEEDED, same version is already published
palomino3Windows Server 2022 Datacenter / x64  OK    OK    OK    OK  UNNEEDED, same version is already published
merida1macOS 10.14.6 Mojave / x86_64  OK    OK    OK    OK  UNNEEDED, same version is already published
Package 186/466HostnameOS / ArchINSTALLBUILDCHECKBUILD BIN
HelloRanges 1.22.0  (landing page)
Michael Lawrence
git_last_commit: 7a1e113
git_last_commit_date: 2022-04-26 11:36:49 -0400
nebbiolo1Linux (Ubuntu 20.04.5 LTS) / x86_64  OK    OK    OK  UNNEEDED, same version is already published
palomino3Windows Server 2022 Datacenter / x64  OK    OK    OK    OK  UNNEEDED, same version is already published
merida1macOS 10.14.6 Mojave / x86_64  OK    OK    OK    OK  UNNEEDED, same version is already published
Package 187/466HostnameOS / ArchINSTALLBUILDCHECKBUILD BIN
hermes 1.0.1  (landing page)
Daniel Sabanés Bové
git_last_commit: 0e43e46
git_last_commit_date: 2022-05-05 04:00:27 -0400
nebbiolo1Linux (Ubuntu 20.04.5 LTS) / x86_64  OK    OK    OK  UNNEEDED, same version is already published
palomino3Windows Server 2022 Datacenter / x64  OK    OK    OK    OK  UNNEEDED, same version is already published
merida1macOS 10.14.6 Mojave / x86_64  OK    OK    OK    OK  UNNEEDED, same version is already published
Package 188/466HostnameOS / ArchINSTALLBUILDCHECKBUILD BIN
hipathia 2.12.0  (landing page)
Marta R. Hidalgo
git_last_commit: db2d24b
git_last_commit_date: 2022-04-26 11:48:45 -0400
nebbiolo1Linux (Ubuntu 20.04.5 LTS) / x86_64  OK    OK    OK  UNNEEDED, same version is already published
palomino3Windows Server 2022 Datacenter / x64  OK    OK    OK    OK  UNNEEDED, same version is already published
merida1macOS 10.14.6 Mojave / x86_64  OK    OK    OK    OK  UNNEEDED, same version is already published
Package 189/466HostnameOS / ArchINSTALLBUILDCHECKBUILD BIN
HTSeqGenie 4.26.0  (landing page)
Jens Reeder
git_last_commit: a3c4a34
git_last_commit_date: 2022-04-26 11:12:25 -0400
nebbiolo1Linux (Ubuntu 20.04.5 LTS) / x86_64  OK    OK    ERROR  
palomino3Windows Server 2022 Datacenter / x64... NOT SUPPORTED ...
merida1macOS 10.14.6 Mojave / x86_64... NOT SUPPORTED ...
Package 190/466HostnameOS / ArchINSTALLBUILDCHECKBUILD BIN
HumanTranscriptomeCompendium 1.12.0  (landing page)
VJ Carey
git_last_commit: 0345c3d
git_last_commit_date: 2022-04-26 11:55:05 -0400
nebbiolo1Linux (Ubuntu 20.04.5 LTS) / x86_64  OK    OK    OK  UNNEEDED, same version is already published
palomino3Windows Server 2022 Datacenter / x64  OK    OK    OK    OK  UNNEEDED, same version is already published
merida1macOS 10.14.6 Mojave / x86_64  OK    OK    OK    OK  UNNEEDED, same version is already published
Package 191/466HostnameOS / ArchINSTALLBUILDCHECKBUILD BIN
hummingbird 1.6.0  (landing page)
Eleni Adam
git_last_commit: d624b44
git_last_commit_date: 2022-04-26 12:07:12 -0400
nebbiolo1Linux (Ubuntu 20.04.5 LTS) / x86_64  OK    OK    OK  UNNEEDED, same version is already published
palomino3Windows Server 2022 Datacenter / x64  OK    OK    OK    OK  UNNEEDED, same version is already published
merida1macOS 10.14.6 Mojave / x86_64  OK    OK    OK    OK  UNNEEDED, same version is already published
Package 192/466HostnameOS / ArchINSTALLBUILDCHECKBUILD BIN
iasva 1.14.0  (landing page)
Donghyung Lee , Anthony Cheng
git_last_commit: 9e94f4d
git_last_commit_date: 2022-04-26 11:49:27 -0400
nebbiolo1Linux (Ubuntu 20.04.5 LTS) / x86_64  OK    OK    OK  UNNEEDED, same version is already published
palomino3Windows Server 2022 Datacenter / x64  OK    OK    OK    OK  UNNEEDED, same version is already published
merida1macOS 10.14.6 Mojave / x86_64  OK    OK    OK    OK  UNNEEDED, same version is already published
Package 193/466HostnameOS / ArchINSTALLBUILDCHECKBUILD BIN
icetea 1.14.0  (landing page)
Vivek Bhardwaj
git_last_commit: 5220193
git_last_commit_date: 2022-04-26 11:49:42 -0400
nebbiolo1Linux (Ubuntu 20.04.5 LTS) / x86_64  OK    OK    OK  UNNEEDED, same version is already published
palomino3Windows Server 2022 Datacenter / x64  OK    OK    OK    OK  UNNEEDED, same version is already published
merida1macOS 10.14.6 Mojave / x86_64  OK    OK    OK    OK  UNNEEDED, same version is already published
Package 194/466HostnameOS / ArchINSTALLBUILDCHECKBUILD BIN
ideal 1.20.0  (landing page)
Federico Marini
git_last_commit: 564dff4
git_last_commit_date: 2022-04-26 11:40:43 -0400
nebbiolo1Linux (Ubuntu 20.04.5 LTS) / x86_64  OK    OK    OK  UNNEEDED, same version is already published
palomino3Windows Server 2022 Datacenter / x64  OK    OK    OK    OK  UNNEEDED, same version is already published
merida1macOS 10.14.6 Mojave / x86_64  OK    OK    OK    OK  UNNEEDED, same version is already published
Package 195/466HostnameOS / ArchINSTALLBUILDCHECKBUILD BIN
IgGeneUsage 1.10.0  (landing page)
Simo Kitanovski
git_last_commit: 27e0dcc
git_last_commit_date: 2022-04-26 11:58:02 -0400
nebbiolo1Linux (Ubuntu 20.04.5 LTS) / x86_64  OK    OK    OK  UNNEEDED, same version is already published
palomino3Windows Server 2022 Datacenter / x64  OK    OK    ERROR    OK  
merida1macOS 10.14.6 Mojave / x86_64  OK    OK    OK    OK  UNNEEDED, same version is already published
Package 196/466HostnameOS / ArchINSTALLBUILDCHECKBUILD BIN
ILoReg 1.6.0  (landing page)
Johannes Smolander
git_last_commit: 6a4dc41
git_last_commit_date: 2022-04-26 12:06:54 -0400
nebbiolo1Linux (Ubuntu 20.04.5 LTS) / x86_64  OK    OK    WARNINGS  UNNEEDED, same version is already published
palomino3Windows Server 2022 Datacenter / x64  OK    OK    WARNINGS    OK  UNNEEDED, same version is already published
merida1macOS 10.14.6 Mojave / x86_64  OK    OK    WARNINGS    OK  UNNEEDED, same version is already published
Package 197/466HostnameOS / ArchINSTALLBUILDCHECKBUILD BIN
imcRtools 1.2.4  (landing page)
Nils Eling
git_last_commit: 53a44ff
git_last_commit_date: 2022-10-15 04:00:55 -0400
nebbiolo1Linux (Ubuntu 20.04.5 LTS) / x86_64  OK    OK    ERROR  
palomino3Windows Server 2022 Datacenter / x64  OK    OK    ERROR    OK  
merida1macOS 10.14.6 Mojave / x86_64  OK    OK    ERROR    OK  
Package 198/466HostnameOS / ArchINSTALLBUILDCHECKBUILD BIN
infercnv 1.12.0  (landing page)
Christophe Georgescu
git_last_commit: 7d212a6
git_last_commit_date: 2022-04-26 11:55:51 -0400
nebbiolo1Linux (Ubuntu 20.04.5 LTS) / x86_64  OK    OK    OK  UNNEEDED, same version is already published
palomino3Windows Server 2022 Datacenter / x64  OK    OK    OK    OK  UNNEEDED, same version is already published
merida1macOS 10.14.6 Mojave / x86_64  OK    OK    OK    OK  UNNEEDED, same version is already published
Package 199/466HostnameOS / ArchINSTALLBUILDCHECKBUILD BIN
INSPEcT 1.26.0  (landing page)
Stefano de Pretis
git_last_commit: 8ba12ec
git_last_commit_date: 2022-04-26 11:26:03 -0400
nebbiolo1Linux (Ubuntu 20.04.5 LTS) / x86_64  OK    OK    OK  UNNEEDED, same version is already published
palomino3Windows Server 2022 Datacenter / x64  OK    OK    OK    OK  UNNEEDED, same version is already published
merida1macOS 10.14.6 Mojave / x86_64  OK    OK    OK    OK  UNNEEDED, same version is already published
Package 200/466HostnameOS / ArchINSTALLBUILDCHECKBUILD BIN
InTAD 1.16.0  (landing page)
Konstantin Okonechnikov
git_last_commit: 8e20580
git_last_commit_date: 2022-04-26 11:48:35 -0400
nebbiolo1Linux (Ubuntu 20.04.5 LTS) / x86_64  OK    OK    OK  UNNEEDED, same version is already published
palomino3Windows Server 2022 Datacenter / x64  OK    OK    OK    OK  UNNEEDED, same version is already published
merida1macOS 10.14.6 Mojave / x86_64  OK    OK    OK    OK  UNNEEDED, same version is already published
Package 201/466HostnameOS / ArchINSTALLBUILDCHECKBUILD BIN
InteractionSet 1.24.0  (landing page)
Aaron Lun
git_last_commit: 5894618
git_last_commit_date: 2022-04-26 11:31:52 -0400
nebbiolo1Linux (Ubuntu 20.04.5 LTS) / x86_64  OK    OK    WARNINGS  UNNEEDED, same version is already published
palomino3Windows Server 2022 Datacenter / x64  OK    OK    WARNINGS    OK  UNNEEDED, same version is already published
merida1macOS 10.14.6 Mojave / x86_64  OK    OK    WARNINGS    OK  UNNEEDED, same version is already published
Package 202/466HostnameOS / ArchINSTALLBUILDCHECKBUILD BIN
IntEREst 1.20.0  (landing page)
Ali Oghabian , Mikko Frilander
git_last_commit: 0a7909c
git_last_commit_date: 2022-04-26 11:39:28 -0400
nebbiolo1Linux (Ubuntu 20.04.5 LTS) / x86_64  OK    OK    OK  UNNEEDED, same version is already published
palomino3Windows Server 2022 Datacenter / x64  OK    OK    OK    OK  UNNEEDED, same version is already published
merida1macOS 10.14.6 Mojave / x86_64  OK    OK    OK    OK  UNNEEDED, same version is already published
Package 203/466HostnameOS / ArchINSTALLBUILDCHECKBUILD BIN
InterMineR 1.18.0  (landing page)
InterMine Team
git_last_commit: 760e538
git_last_commit_date: 2022-04-26 11:43:08 -0400
nebbiolo1Linux (Ubuntu 20.04.5 LTS) / x86_64  OK    OK    WARNINGS  UNNEEDED, same version is already published
palomino3Windows Server 2022 Datacenter / x64  OK    OK    WARNINGS    OK  UNNEEDED, same version is already published
merida1macOS 10.14.6 Mojave / x86_64  OK    OK    WARNINGS    OK  UNNEEDED, same version is already published
Package 204/466HostnameOS / ArchINSTALLBUILDCHECKBUILD BIN
iSEE 2.8.0  (landing page)
Kevin Rue-Albrecht
git_last_commit: adce814
git_last_commit_date: 2022-04-26 11:47:54 -0400
nebbiolo1Linux (Ubuntu 20.04.5 LTS) / x86_64  OK    OK    OK  UNNEEDED, same version is already published
palomino3Windows Server 2022 Datacenter / x64  OK    OK    OK    OK  UNNEEDED, same version is already published
merida1macOS 10.14.6 Mojave / x86_64  OK    OK    OK    OK  UNNEEDED, same version is already published
Package 205/466HostnameOS / ArchINSTALLBUILDCHECKBUILD BIN
iSEEu 1.8.0  (landing page)
Kevin Rue-Albrecht
git_last_commit: 30041dc
git_last_commit_date: 2022-04-26 12:04:24 -0400
nebbiolo1Linux (Ubuntu 20.04.5 LTS) / x86_64  OK    OK    WARNINGS  UNNEEDED, same version is already published
palomino3Windows Server 2022 Datacenter / x64  OK    OK    WARNINGS    OK  UNNEEDED, same version is already published
merida1