Back to Multiple platform build/check report for BioC 3.15
ABCDEFGHIJKLMNO[P]QRSTUVWXYZ

This page was generated on 2022-08-03 13:22:04 -0400 (Wed, 03 Aug 2022).

HostnameOSArch (*)R versionInstalled pkgs
nebbiolo1Linux (Ubuntu 20.04.4 LTS)x86_644.2.1 (2022-06-23) -- "Funny-Looking Kid" 4361
palomino3Windows Server 2022 Datacenterx644.2.1 (2022-06-23 ucrt) -- "Funny-Looking Kid" 4114
merida1macOS 10.14.6 Mojavex86_644.2.1 (2022-06-23) -- "Funny-Looking Kid" 4179
Click on any hostname to see more info about the system (e.g. compilers)      (*) as reported by 'uname -p', except on Windows and Mac OS X

BUILD results for panelcn.mops on palomino3


To the developers/maintainers of the panelcn.mops package:
- Please allow up to 24 hours (and sometimes 48 hours) for your latest push to git@git.bioconductor.org:packages/panelcn.mops.git to
reflect on this report. See How and When does the builder pull? When will my changes propagate? for more information.
- Make sure to use the following settings in order to reproduce any error or warning you see on this page.

raw results

Package 1404/2140HostnameOS / ArchINSTALLBUILDCHECKBUILD BIN
panelcn.mops 1.18.0  (landing page)
Gundula Povysil
Snapshot Date: 2022-08-02 13:55:13 -0400 (Tue, 02 Aug 2022)
git_url: https://git.bioconductor.org/packages/panelcn.mops
git_branch: RELEASE_3_15
git_last_commit: 1312e4a
git_last_commit_date: 2022-04-26 11:43:31 -0400 (Tue, 26 Apr 2022)
nebbiolo1Linux (Ubuntu 20.04.4 LTS) / x86_64  OK    OK    OK  UNNEEDED, same version is already published
palomino3Windows Server 2022 Datacenter / x64  OK    OK    OK    OK  UNNEEDED, same version is already published
merida1macOS 10.14.6 Mojave / x86_64  OK    OK    OK    OK  UNNEEDED, same version is already published

Summary

Package: panelcn.mops
Version: 1.18.0
Command: chmod a+r panelcn.mops -R && F:\biocbuild\bbs-3.15-bioc\R\bin\R.exe CMD build --keep-empty-dirs --no-resave-data panelcn.mops
StartedAt: 2022-08-02 19:55:49 -0400 (Tue, 02 Aug 2022)
EndedAt: 2022-08-02 19:56:33 -0400 (Tue, 02 Aug 2022)
EllapsedTime: 43.8 seconds
RetCode: 0
Status:   OK  
PackageFile: panelcn.mops_1.18.0.tar.gz
PackageFileSize: 569.7 KiB

Command output

##############################################################################
##############################################################################
###
### Running command:
###
###   chmod a+r panelcn.mops -R && F:\biocbuild\bbs-3.15-bioc\R\bin\R.exe CMD build --keep-empty-dirs --no-resave-data panelcn.mops
###
##############################################################################
##############################################################################


* checking for file 'panelcn.mops/DESCRIPTION' ... OK
* preparing 'panelcn.mops':
* checking DESCRIPTION meta-information ... OK
* installing the package to build vignettes
* creating vignettes ... OK
* checking for LF line-endings in source and make files and shell scripts
* checking for empty or unneeded directories
  NB: this package now depends on R (>= 3.5.0)
  WARNING: Added dependency on R >= 3.5.0 because serialized objects in
  serialize/load version 3 cannot be read in older versions of R.
  File(s) containing such objects:
    'panelcn.mops/data/panelcn.mops.rda'
* building 'panelcn.mops_1.18.0.tar.gz'