Back to Multiple platform build/check report for BioC 3.15
ABCDEF[G]HIJKLMNOPQRSTUVWXYZ

This page was generated on 2022-06-24 12:07:33 -0400 (Fri, 24 Jun 2022).

HostnameOSArch (*)R versionInstalled pkgs
nebbiolo1Linux (Ubuntu 20.04.4 LTS)x86_644.2.0 (2022-04-22) -- "Vigorous Calisthenics" 4380
palomino3Windows Server 2022 Datacenterx644.2.0 (2022-04-22 ucrt) -- "Vigorous Calisthenics" 4156
merida1macOS 10.14.6 Mojavex86_644.2.0 (2022-04-22) -- "Vigorous Calisthenics" 4221
Click on any hostname to see more info about the system (e.g. compilers)      (*) as reported by 'uname -p', except on Windows and Mac OS X

BUILD BIN results for groHMM on merida1


To the developers/maintainers of the groHMM package:
- Please allow up to 24 hours (and sometimes 48 hours) for your latest push to git@git.bioconductor.org:packages/groHMM.git to
reflect on this report. See How and When does the builder pull? When will my changes propagate? for more information.
- Make sure to use the following settings in order to reproduce any error or warning you see on this page.

raw results

Package 850/2140HostnameOS / ArchINSTALLBUILDCHECKBUILD BIN
groHMM 1.30.1  (landing page)
Anusha Nagari , Tulip Nandu , W. Lee Kraus
Snapshot Date: 2022-06-23 13:55:15 -0400 (Thu, 23 Jun 2022)
git_url: https://git.bioconductor.org/packages/groHMM
git_branch: RELEASE_3_15
git_last_commit: efe650e
git_last_commit_date: 2022-05-11 18:52:12 -0400 (Wed, 11 May 2022)
nebbiolo1Linux (Ubuntu 20.04.4 LTS) / x86_64  OK    OK    OK  UNNEEDED, same version is already published
palomino3Windows Server 2022 Datacenter / x64  OK    OK    OK    OK  UNNEEDED, same version is already published
merida1macOS 10.14.6 Mojave / x86_64  OK    OK    OK    OK  UNNEEDED, same version is already published

Summary

Package: groHMM
Version: 1.30.1
Command: rm -rf groHMM.buildbin-libdir && mkdir groHMM.buildbin-libdir && /Users/biocbuild/BBS/utils/build-universal.sh groHMM_1.30.1.tar.gz /Library/Frameworks/R.framework/Resources/bin/R groHMM.buildbin-libdir
StartedAt: 2022-06-24 11:34:50 -0400 (Fri, 24 Jun 2022)
EndedAt: 2022-06-24 11:36:00 -0400 (Fri, 24 Jun 2022)
EllapsedTime: 70.0 seconds
RetCode: 0
Status:   OK  
PackageFile: groHMM_1.30.1.tgz
PackageFileSize: 4.259 MiB

Command output

##############################################################################
##############################################################################
###
### Running command:
###
###   rm -rf groHMM.buildbin-libdir && mkdir groHMM.buildbin-libdir && /Users/biocbuild/BBS/utils/build-universal.sh groHMM_1.30.1.tar.gz /Library/Frameworks/R.framework/Resources/bin/R groHMM.buildbin-libdir
###
##############################################################################
##############################################################################


>>>>>>> 
>>>>>>> INSTALLATION WITH 'R CMD INSTALL --preclean --no-multiarch --library=groHMM.buildbin-libdir groHMM_1.30.1.tar.gz'
>>>>>>> 

* installing *source* package ‘groHMM’ ...
** using staged installation
** libs
clang -mmacosx-version-min=10.13 -I"/Library/Frameworks/R.framework/Resources/include" -DNDEBUG   -I/usr/local/include   -fPIC  -Wall -g -O2  -c AnnotateProbes.c -o AnnotateProbes.o
clang -mmacosx-version-min=10.13 -I"/Library/Frameworks/R.framework/Resources/include" -DNDEBUG   -I/usr/local/include   -fPIC  -Wall -g -O2  -c DecayAlgorithm.c -o DecayAlgorithm.o
clang -mmacosx-version-min=10.13 -I"/Library/Frameworks/R.framework/Resources/include" -DNDEBUG   -I/usr/local/include   -fPIC  -Wall -g -O2  -c MLEfit.c -o MLEfit.o
In file included from MLEfit.c:43:
./hmmHeader.h:281:16: warning: unused function 'MargainalizeSumLogProbOver' [-Wunused-function]
static  double MargainalizeSumLogProbOver(int state, int position, 
               ^
./hmmHeader.h:301:16: warning: unused function 'expSum' [-Wunused-function]
static  double expSum(double *logValues, int length) {
               ^
2 warnings generated.
clang -mmacosx-version-min=10.13 -I"/Library/Frameworks/R.framework/Resources/include" -DNDEBUG   -I/usr/local/include   -fPIC  -Wall -g -O2  -c RegisterRRoutines.c -o RegisterRRoutines.o
clang -mmacosx-version-min=10.13 -I"/Library/Frameworks/R.framework/Resources/include" -DNDEBUG   -I/usr/local/include   -fPIC  -Wall -g -O2  -c Windowing.c -o Windowing.o
Windowing.c:146:6: warning: unused variable 'II' [-Wunused-variable]
        int II = 0;
            ^
1 warning generated.
clang -mmacosx-version-min=10.13 -I"/Library/Frameworks/R.framework/Resources/include" -DNDEBUG   -I/usr/local/include   -fPIC  -Wall -g -O2  -c hmmEM.c -o hmmEM.o
In file included from hmmEM.c:50:
./hmmHeader.h:281:16: warning: unused function 'MargainalizeSumLogProbOver' [-Wunused-function]
static  double MargainalizeSumLogProbOver(int state, int position, 
               ^
./hmmHeader.h:301:16: warning: unused function 'expSum' [-Wunused-function]
static  double expSum(double *logValues, int length) {
               ^
2 warnings generated.
clang -mmacosx-version-min=10.13 -I"/Library/Frameworks/R.framework/Resources/include" -DNDEBUG   -I/usr/local/include   -fPIC  -Wall -g -O2  -c hmmFwBw.c -o hmmFwBw.o
In file included from hmmFwBw.c:45:
./hmmHeader.h:281:16: warning: unused function 'MargainalizeSumLogProbOver' [-Wunused-function]
static  double MargainalizeSumLogProbOver(int state, int position, 
               ^
./hmmHeader.h:301:16: warning: unused function 'expSum' [-Wunused-function]
static  double expSum(double *logValues, int length) {
               ^
2 warnings generated.
clang -mmacosx-version-min=10.13 -I"/Library/Frameworks/R.framework/Resources/include" -DNDEBUG   -I/usr/local/include   -fPIC  -Wall -g -O2  -c hmmMiscFunctions.c -o hmmMiscFunctions.o
hmmMiscFunctions.c:384:10: warning: unused variable 'wi' [-Wunused-variable]
  double wi, *newEx;
         ^
hmmMiscFunctions.c:417:10: warning: unused variable 'epsilon' [-Wunused-variable]
  double epsilon=0.00001;
         ^
2 warnings generated.
clang -mmacosx-version-min=10.13 -I"/Library/Frameworks/R.framework/Resources/include" -DNDEBUG   -I/usr/local/include   -fPIC  -Wall -g -O2  -c hmmViterbi.c -o hmmViterbi.o
In file included from hmmViterbi.c:48:
./hmmHeader.h:281:16: warning: unused function 'MargainalizeSumLogProbOver' [-Wunused-function]
static  double MargainalizeSumLogProbOver(int state, int position, 
               ^
./hmmHeader.h:301:16: warning: unused function 'expSum' [-Wunused-function]
static  double expSum(double *logValues, int length) {
               ^
2 warnings generated.
clang -mmacosx-version-min=10.13 -dynamiclib -Wl,-headerpad_max_install_names -undefined dynamic_lookup -single_module -multiply_defined suppress -L/Library/Frameworks/R.framework/Resources/lib -L/usr/local/lib -o groHMM.so AnnotateProbes.o DecayAlgorithm.o MLEfit.o RegisterRRoutines.o Windowing.o hmmEM.o hmmFwBw.o hmmMiscFunctions.o hmmViterbi.o -F/Library/Frameworks/R.framework/.. -framework R -Wl,-framework -Wl,CoreFoundation
installing to /Users/biocbuild/bbs-3.15-bioc/meat/groHMM.buildbin-libdir/00LOCK-groHMM/00new/groHMM/libs
** R
** inst
** byte-compile and prepare package for lazy loading
** help
*** installing help indices
** building package indices
** installing vignettes
** testing if installed package can be loaded from temporary location
** checking absolute paths in shared objects and dynamic libraries
** testing if installed package can be loaded from final location
** testing if installed package keeps a record of temporary installation path
* DONE (groHMM)


>>>>>>> 
>>>>>>> FIXING LINKS FOR groHMM.buildbin-libdir/groHMM/libs/groHMM.so
>>>>>>> 

install_name_tool -change "/usr/local/lib/libgcc_s.1.dylib" "/Library/Frameworks/R.framework/Versions/4.2/Resources/lib/libgcc_s.1.dylib" "groHMM.buildbin-libdir/groHMM/libs/groHMM.so"
install_name_tool -change "/usr/local/lib/libgfortran.5.dylib" "/Library/Frameworks/R.framework/Versions/4.2/Resources/lib/libgfortran.5.dylib" "groHMM.buildbin-libdir/groHMM/libs/groHMM.so"
install_name_tool -change "/usr/local/lib/libquadmath.0.dylib" "/Library/Frameworks/R.framework/Versions/4.2/Resources/lib/libquadmath.0.dylib" "groHMM.buildbin-libdir/groHMM/libs/groHMM.so"