Back to Multiple platform build/check report for BioC 3.15
ABCDEFGHIJKLMNOPQ[R]STUVWXYZ

This page was generated on 2022-08-12 13:22:08 -0400 (Fri, 12 Aug 2022).

HostnameOSArch (*)R versionInstalled pkgs
nebbiolo1Linux (Ubuntu 20.04.4 LTS)x86_644.2.1 (2022-06-23) -- "Funny-Looking Kid" 4364
palomino3Windows Server 2022 Datacenterx644.2.1 (2022-06-23 ucrt) -- "Funny-Looking Kid" 4117
merida1macOS 10.14.6 Mojavex86_644.2.1 (2022-06-23) -- "Funny-Looking Kid" 4182
Click on any hostname to see more info about the system (e.g. compilers)      (*) as reported by 'uname -p', except on Windows and Mac OS X

CHECK results for RLSeq on palomino3


To the developers/maintainers of the RLSeq package:
- Please allow up to 24 hours (and sometimes 48 hours) for your latest push to git@git.bioconductor.org:packages/RLSeq.git to
reflect on this report. See How and When does the builder pull? When will my changes propagate? for more information.
- Make sure to use the following settings in order to reproduce any error or warning you see on this page.

raw results

Package 1664/2140HostnameOS / ArchINSTALLBUILDCHECKBUILD BIN
RLSeq 1.2.0  (landing page)
Henry Miller
Snapshot Date: 2022-08-11 13:55:06 -0400 (Thu, 11 Aug 2022)
git_url: https://git.bioconductor.org/packages/RLSeq
git_branch: RELEASE_3_15
git_last_commit: 7afa0ea
git_last_commit_date: 2022-04-26 12:20:01 -0400 (Tue, 26 Apr 2022)
nebbiolo1Linux (Ubuntu 20.04.4 LTS) / x86_64  OK    OK    OK  UNNEEDED, same version is already published
palomino3Windows Server 2022 Datacenter / x64  OK    OK    OK    OK  UNNEEDED, same version is already published
merida1macOS 10.14.6 Mojave / x86_64  OK    OK    OK    OK  UNNEEDED, same version is already published

Summary

Package: RLSeq
Version: 1.2.0
Command: F:\biocbuild\bbs-3.15-bioc\R\bin\R.exe CMD check --no-multiarch --install=check:RLSeq.install-out.txt --library=F:\biocbuild\bbs-3.15-bioc\R\library --no-vignettes --timings RLSeq_1.2.0.tar.gz
StartedAt: 2022-08-12 04:11:35 -0400 (Fri, 12 Aug 2022)
EndedAt: 2022-08-12 04:22:55 -0400 (Fri, 12 Aug 2022)
EllapsedTime: 679.7 seconds
RetCode: 0
Status:   OK  
CheckDir: RLSeq.Rcheck
Warnings: 0

Command output

##############################################################################
##############################################################################
###
### Running command:
###
###   F:\biocbuild\bbs-3.15-bioc\R\bin\R.exe CMD check --no-multiarch --install=check:RLSeq.install-out.txt --library=F:\biocbuild\bbs-3.15-bioc\R\library --no-vignettes --timings RLSeq_1.2.0.tar.gz
###
##############################################################################
##############################################################################


* using log directory 'F:/biocbuild/bbs-3.15-bioc/meat/RLSeq.Rcheck'
* using R version 4.2.1 (2022-06-23 ucrt)
* using platform: x86_64-w64-mingw32 (64-bit)
* using session charset: UTF-8
* using option '--no-vignettes'
* checking for file 'RLSeq/DESCRIPTION' ... OK
* checking extension type ... Package
* this is package 'RLSeq' version '1.2.0'
* package encoding: UTF-8
* checking package namespace information ... OK
* checking package dependencies ... OK
* checking if this is a source package ... OK
* checking if there is a namespace ... OK
* checking for hidden files and directories ... OK
* checking for portable file names ... OK
* checking whether package 'RLSeq' can be installed ... OK
* checking installed package size ... OK
* checking package directory ... OK
* checking 'build' directory ... OK
* checking DESCRIPTION meta-information ... OK
* checking top-level files ... OK
* checking for left-over files ... OK
* checking index information ... OK
* checking package subdirectories ... OK
* checking R files for non-ASCII characters ... OK
* checking R files for syntax errors ... OK
* checking whether the package can be loaded ... OK
* checking whether the package can be loaded with stated dependencies ... OK
* checking whether the package can be unloaded cleanly ... OK
* checking whether the namespace can be loaded with stated dependencies ... OK
* checking whether the namespace can be unloaded cleanly ... OK
* checking dependencies in R code ... OK
* checking S3 generic/method consistency ... OK
* checking replacement functions ... OK
* checking foreign function calls ... OK
* checking R code for possible problems ... OK
* checking Rd files ... OK
* checking Rd metadata ... OK
* checking Rd cross-references ... OK
* checking for missing documentation entries ... OK
* checking for code/documentation mismatches ... OK
* checking Rd \usage sections ... OK
* checking Rd contents ... OK
* checking for unstated dependencies in examples ... OK
* checking contents of 'data' directory ... OK
* checking data for non-ASCII characters ... OK
* checking data for ASCII and uncompressed saves ... OK
* checking files in 'vignettes' ... OK
* checking examples ... OK
Examples with CPU (user + system) or elapsed time > 5s
                     user system elapsed
RLSeq               25.35   1.62   32.00
geneAnnotation      15.29   0.89   28.59
predictCondition    14.72   0.81   15.83
featureEnrich       12.00   0.47   24.45
plotEnrichment      10.85   0.52   23.66
plotRLRegionOverlap  8.64   0.61   22.02
corrHeatmap          6.70   0.64    7.61
RLRangesFromRLBase   5.06   1.50    7.22
rlRegionTest         5.64   0.14    5.95
report               0.23   0.10   60.84
* checking for unstated dependencies in 'tests' ... OK
* checking tests ...
  Running 'testthat.R'
 OK
* checking for unstated dependencies in vignettes ... OK
* checking package vignettes in 'inst/doc' ... OK
* checking running R code from vignettes ... SKIPPED
* checking re-building of vignette outputs ... SKIPPED
* checking PDF version of manual ... OK
* DONE

Status: OK


Installation output

RLSeq.Rcheck/00install.out

##############################################################################
##############################################################################
###
### Running command:
###
###   F:\biocbuild\bbs-3.15-bioc\R\bin\R.exe CMD INSTALL RLSeq
###
##############################################################################
##############################################################################


* installing to library 'F:/biocbuild/bbs-3.15-bioc/R/library'
* installing *source* package 'RLSeq' ...
** using staged installation
** R
** data
** inst
** byte-compile and prepare package for lazy loading
** help
*** installing help indices
** building package indices
** installing vignettes
** testing if installed package can be loaded from temporary location
** testing if installed package can be loaded from final location
** testing if installed package keeps a record of temporary installation path
* DONE (RLSeq)

Tests output

RLSeq.Rcheck/tests/testthat.Rout


R version 4.2.1 (2022-06-23 ucrt) -- "Funny-Looking Kid"
Copyright (C) 2022 The R Foundation for Statistical Computing
Platform: x86_64-w64-mingw32/x64 (64-bit)

R is free software and comes with ABSOLUTELY NO WARRANTY.
You are welcome to redistribute it under certain conditions.
Type 'license()' or 'licence()' for distribution details.

R is a collaborative project with many contributors.
Type 'contributors()' for more information and
'citation()' on how to cite R or R packages in publications.

Type 'demo()' for some demos, 'help()' for on-line help, or
'help.start()' for an HTML browser interface to help.
Type 'q()' to quit R.

> library(testthat)
> library(RLSeq)
> 
> test_check("RLSeq")
Loading required package: BiocGenerics

Attaching package: 'BiocGenerics'

The following objects are masked from 'package:stats':

    IQR, mad, sd, var, xtabs

The following objects are masked from 'package:base':

    Filter, Find, Map, Position, Reduce, anyDuplicated, append,
    as.data.frame, basename, cbind, colnames, dirname, do.call,
    duplicated, eval, evalq, get, grep, grepl, intersect, is.unsorted,
    lapply, mapply, match, mget, order, paste, pmax, pmax.int, pmin,
    pmin.int, rank, rbind, rownames, sapply, setdiff, sort, table,
    tapply, union, unique, unsplit, which.max, which.min

Loading required package: S4Vectors
Loading required package: stats4

Attaching package: 'S4Vectors'

The following objects are masked from 'package:base':

    I, expand.grid, unname


Attaching package: 'IRanges'

The following object is masked from 'package:grDevices':

    windows

snapshotDate(): 2022-04-26
see ?RLHub and browseVignettes('RLHub') for documentation
see ?RLHub and browseVignettes('RLHub') for documentation
see ?RLHub and browseVignettes('RLHub') for documentation
see ?RLHub and browseVignettes('RLHub') for documentation
[1] "Note: The minimum p-value with only 10 permutations is 0.0909090909090909. You should consider increasing the number of permutations."
see ?RLHub and browseVignettes('RLHub') for documentation
see ?RLHub and browseVignettes('RLHub') for documentation
see ?RLHub and browseVignettes('RLHub') for documentation
snapshotDate(): 2022-04-25
Loading required package: GenomicFeatures
Loading required package: GenomicRanges
Loading required package: AnnotationDbi
Loading required package: Biobase
Welcome to Bioconductor

    Vignettes contain introductory material; view with
    'browseVignettes()'. To cite Bioconductor, see
    'citation("Biobase")', and for packages 'citation("pkgname")'.

  1662 genes were dropped because they have exons located on both strands
  of the same reference sequence or on more than one reference sequence,
  so cannot be represented by a single genomic range.
  Use 'single.strand.genes.only=FALSE' to get all the genes in a
  GRangesList object, or use suppressMessages() to suppress this message.
see ?RLHub and browseVignettes('RLHub') for documentation
[1] "Note: The minimum p-value with only 10 permutations is 0.0909090909090909. You should consider increasing the number of permutations."
see ?RLHub and browseVignettes('RLHub') for documentation
see ?RLHub and browseVignettes('RLHub') for documentation
see ?RLHub and browseVignettes('RLHub') for documentation
snapshotDate(): 2022-04-25
  1662 genes were dropped because they have exons located on both strands
  of the same reference sequence or on more than one reference sequence,
  so cannot be represented by a single genomic range.
  Use 'single.strand.genes.only=FALSE' to get all the genes in a
  GRangesList object, or use suppressMessages() to suppress this message.
see ?RLHub and browseVignettes('RLHub') for documentation
[ FAIL 0 | WARN 36 | SKIP 0 | PASS 7 ]

[ FAIL 0 | WARN 36 | SKIP 0 | PASS 7 ]
> 
> proc.time()
   user  system elapsed 
 137.45    9.26  151.06 

Example timings

RLSeq.Rcheck/RLSeq-Ex.timings

nameusersystemelapsed
RLRanges0.610.061.36
RLRangesFromRLBase5.061.507.22
RLResults0.120.001.28
RLSeq25.35 1.6232.00
analyzeRLFS2.280.082.74
auxdata0.090.000.09
available_genomes0.020.050.06
corrAnalyze0.090.000.10
corrHeatmap6.700.647.61
featureEnrich12.00 0.4724.45
geneAnnotation15.29 0.8928.59
genomeMasks0.070.000.08
plotEnrichment10.85 0.5223.66
plotRLFSRes0.360.010.37
plotRLRegionOverlap 8.64 0.6122.02
predictCondition14.72 0.8115.83
report 0.23 0.1060.84
rlRegionTest5.640.145.95