Back to Multiple platform build/check report for BioC 3.15
AB[C]DEFGHIJKLMNOPQRSTUVWXYZ

This page was generated on 2022-05-13 12:47:43 -0400 (Fri, 13 May 2022).

HostnameOSArch (*)R versionInstalled pkgs
nebbiolo1Linux (Ubuntu 20.04.4 LTS)x86_644.2.0 (2022-04-22) -- "Vigorous Calisthenics" 4344
palomino3Windows Server 2022 Datacenterx644.2.0 (2022-04-22 ucrt) -- "Vigorous Calisthenics" 4151
merida1macOS 10.14.6 Mojavex86_644.2.0 (2022-04-22) -- "Vigorous Calisthenics" 4183
Click on any hostname to see more info about the system (e.g. compilers)      (*) as reported by 'uname -p', except on Windows and Mac OS X

BUILD BIN results for ChIPseqR on merida1


To the developers/maintainers of the ChIPseqR package:
- Please allow up to 24 hours (and sometimes 48 hours) for your latest push to git@git.bioconductor.org:packages/ChIPseqR.git to
reflect on this report. See How and When does the builder pull? When will my changes propagate? for more information.
- Make sure to use the following settings in order to reproduce any error or warning you see on this page.

raw results

Package 314/2140HostnameOS / ArchINSTALLBUILDCHECKBUILD BIN
ChIPseqR 1.50.0  (landing page)
Peter Humburg
Snapshot Date: 2022-05-12 13:55:13 -0400 (Thu, 12 May 2022)
git_url: https://git.bioconductor.org/packages/ChIPseqR
git_branch: RELEASE_3_15
git_last_commit: fed1a68
git_last_commit_date: 2022-04-26 11:03:49 -0400 (Tue, 26 Apr 2022)
nebbiolo1Linux (Ubuntu 20.04.4 LTS) / x86_64  OK    OK    OK  UNNEEDED, same version is already published
palomino3Windows Server 2022 Datacenter / x64  OK    OK    OK    OK  UNNEEDED, same version is already published
merida1macOS 10.14.6 Mojave / x86_64  OK    OK    OK    OK  UNNEEDED, same version is already published

Summary

Package: ChIPseqR
Version: 1.50.0
Command: rm -rf ChIPseqR.buildbin-libdir && mkdir ChIPseqR.buildbin-libdir && /Users/biocbuild/BBS/utils/build-universal.sh ChIPseqR_1.50.0.tar.gz /Library/Frameworks/R.framework/Resources/bin/R ChIPseqR.buildbin-libdir
StartedAt: 2022-05-13 10:13:31 -0400 (Fri, 13 May 2022)
EndedAt: 2022-05-13 10:14:37 -0400 (Fri, 13 May 2022)
EllapsedTime: 66.2 seconds
RetCode: 0
Status:   OK  
PackageFile: ChIPseqR_1.50.0.tgz
PackageFileSize: 1.494 MiB

Command output

##############################################################################
##############################################################################
###
### Running command:
###
###   rm -rf ChIPseqR.buildbin-libdir && mkdir ChIPseqR.buildbin-libdir && /Users/biocbuild/BBS/utils/build-universal.sh ChIPseqR_1.50.0.tar.gz /Library/Frameworks/R.framework/Resources/bin/R ChIPseqR.buildbin-libdir
###
##############################################################################
##############################################################################


>>>>>>> 
>>>>>>> INSTALLATION WITH 'R CMD INSTALL --preclean --no-multiarch --library=ChIPseqR.buildbin-libdir ChIPseqR_1.50.0.tar.gz'
>>>>>>> 

* installing *source* package ‘ChIPseqR’ ...
** using staged installation
** libs
clang -mmacosx-version-min=10.13 -I"/Library/Frameworks/R.framework/Resources/include" -DNDEBUG   -I/usr/local/include   -fPIC  -Wall -g -O2  -c startScore.c -o startScore.o
startScore.c:66:15: warning: unused variable 'tmp_stat' [-Wunused-variable]
        double stat, tmp_stat;
                     ^
1 warning generated.
clang -mmacosx-version-min=10.13 -dynamiclib -Wl,-headerpad_max_install_names -undefined dynamic_lookup -single_module -multiply_defined suppress -L/Library/Frameworks/R.framework/Resources/lib -L/usr/local/lib -o ChIPseqR.so startScore.o -F/Library/Frameworks/R.framework/.. -framework R -Wl,-framework -Wl,CoreFoundation
installing to /Users/biocbuild/bbs-3.15-bioc/meat/ChIPseqR.buildbin-libdir/00LOCK-ChIPseqR/00new/ChIPseqR/libs
** R
** inst
** byte-compile and prepare package for lazy loading
** help
*** installing help indices
** building package indices
** installing vignettes
** testing if installed package can be loaded from temporary location
** checking absolute paths in shared objects and dynamic libraries
** testing if installed package can be loaded from final location
** testing if installed package keeps a record of temporary installation path
* DONE (ChIPseqR)


>>>>>>> 
>>>>>>> FIXING LINKS FOR ChIPseqR.buildbin-libdir/ChIPseqR/libs/ChIPseqR.so
>>>>>>> 

install_name_tool -change "/usr/local/lib/libgcc_s.1.dylib" "/Library/Frameworks/R.framework/Versions/4.2/Resources/lib/libgcc_s.1.dylib" "ChIPseqR.buildbin-libdir/ChIPseqR/libs/ChIPseqR.so"
install_name_tool -change "/usr/local/lib/libgfortran.5.dylib" "/Library/Frameworks/R.framework/Versions/4.2/Resources/lib/libgfortran.5.dylib" "ChIPseqR.buildbin-libdir/ChIPseqR/libs/ChIPseqR.so"
install_name_tool -change "/usr/local/lib/libquadmath.0.dylib" "/Library/Frameworks/R.framework/Versions/4.2/Resources/lib/libquadmath.0.dylib" "ChIPseqR.buildbin-libdir/ChIPseqR/libs/ChIPseqR.so"