Back to Build/check report for BioC 3.15
ABCDEFGHIJKLMNOPQRST[U]VWXYZ

This page was generated on 2022-06-27 11:10:11 -0400 (Mon, 27 Jun 2022).

HostnameOSArch (*)R versionInstalled pkgs
nebbiolo1Linux (Ubuntu 20.04.4 LTS)x86_644.2.0 (2022-04-22) -- "Vigorous Calisthenics" 4380
Click on any hostname to see more info about the system (e.g. compilers)      (*) as reported by 'uname -p', except on Windows and Mac OS X

BUILD results for Ularcirc on nebbiolo1


To the developers/maintainers of the Ularcirc package:
- Please allow up to 24 hours (and sometimes 48 hours) for your latest push to git@git.bioconductor.org:packages/Ularcirc.git to
reflect on this report. See How and When does the builder pull? When will my changes propagate? for more information.
- Make sure to use the following settings in order to reproduce any error or warning you see on this page.

raw results

Package 2080/2140HostnameOS / ArchINSTALLBUILDCHECKBUILD BIN
Ularcirc 1.14.0  (landing page)
David Humphreys
Snapshot Date: 2022-06-26 13:55:11 -0400 (Sun, 26 Jun 2022)
git_url: https://git.bioconductor.org/packages/Ularcirc
git_branch: RELEASE_3_15
git_last_commit: cb2b7d3
git_last_commit_date: 2022-04-26 11:49:35 -0400 (Tue, 26 Apr 2022)
nebbiolo1Linux (Ubuntu 20.04.4 LTS) / x86_64  OK    OK    WARNINGS  UNNEEDED, same version is already published

Summary

Package: Ularcirc
Version: 1.14.0
Command: /home/biocbuild/bbs-3.15-bioc/R/bin/R CMD build --keep-empty-dirs --no-resave-data Ularcirc
StartedAt: 2022-06-26 18:07:36 -0400 (Sun, 26 Jun 2022)
EndedAt: 2022-06-26 18:07:49 -0400 (Sun, 26 Jun 2022)
EllapsedTime: 13.3 seconds
RetCode: 0
Status:   OK  
PackageFile: Ularcirc_1.14.0.tar.gz
PackageFileSize: 5.214 MiB

Command output

##############################################################################
##############################################################################
###
### Running command:
###
###   /home/biocbuild/bbs-3.15-bioc/R/bin/R CMD build --keep-empty-dirs --no-resave-data Ularcirc
###
##############################################################################
##############################################################################


* checking for file ‘Ularcirc/DESCRIPTION’ ... OK
* preparing ‘Ularcirc’:
* checking DESCRIPTION meta-information ... OK
* installing the package to build vignettes
* creating vignettes ... OK
* checking for LF line-endings in source and make files and shell scripts
* checking for empty or unneeded directories
Omitted ‘LazyData’ from DESCRIPTION
* building ‘Ularcirc_1.14.0.tar.gz’