Back to Build/check report for BioC 3.15
ABCDEFGHIJKLMNOPQRS[T]UVWXYZ

This page was generated on 2022-06-27 11:10:11 -0400 (Mon, 27 Jun 2022).

HostnameOSArch (*)R versionInstalled pkgs
nebbiolo1Linux (Ubuntu 20.04.4 LTS)x86_644.2.0 (2022-04-22) -- "Vigorous Calisthenics" 4380
Click on any hostname to see more info about the system (e.g. compilers)      (*) as reported by 'uname -p', except on Windows and Mac OS X

BUILD results for TSRchitect on nebbiolo1


To the developers/maintainers of the TSRchitect package:
- Please allow up to 24 hours (and sometimes 48 hours) for your latest push to git@git.bioconductor.org:packages/TSRchitect.git to
reflect on this report. See How and When does the builder pull? When will my changes propagate? for more information.
- Make sure to use the following settings in order to reproduce any error or warning you see on this page.

raw results

Package 2067/2140HostnameOS / ArchINSTALLBUILDCHECKBUILD BIN
TSRchitect 1.22.0  (landing page)
R. Taylor Raborn
Snapshot Date: 2022-06-26 13:55:11 -0400 (Sun, 26 Jun 2022)
git_url: https://git.bioconductor.org/packages/TSRchitect
git_branch: RELEASE_3_15
git_last_commit: 5ea3d60
git_last_commit_date: 2022-04-26 11:40:57 -0400 (Tue, 26 Apr 2022)
nebbiolo1Linux (Ubuntu 20.04.4 LTS) / x86_64  OK    OK    ERROR  

Summary

Package: TSRchitect
Version: 1.22.0
Command: /home/biocbuild/bbs-3.15-bioc/R/bin/R CMD build --keep-empty-dirs --no-resave-data TSRchitect
StartedAt: 2022-06-26 18:06:55 -0400 (Sun, 26 Jun 2022)
EndedAt: 2022-06-26 18:07:44 -0400 (Sun, 26 Jun 2022)
EllapsedTime: 48.8 seconds
RetCode: 0
Status:   OK  
PackageFile: TSRchitect_1.22.0.tar.gz
PackageFileSize: 788.2 KiB

Command output

##############################################################################
##############################################################################
###
### Running command:
###
###   /home/biocbuild/bbs-3.15-bioc/R/bin/R CMD build --keep-empty-dirs --no-resave-data TSRchitect
###
##############################################################################
##############################################################################


* checking for file ‘TSRchitect/DESCRIPTION’ ... OK
* preparing ‘TSRchitect’:
* checking DESCRIPTION meta-information ... OK
* installing the package to build vignettes
* creating vignettes ... OK
* excluding invalid files
Subdirectory 'demo' contains invalid file names:
  ‘HOWTO.md’ ‘xdemo1’ ‘xdemo2’ ‘xdemo3’
* checking for LF line-endings in source and make files and shell scripts
* checking for empty or unneeded directories
WARNING: directory ‘TSRchitect/demo’ is empty
* building ‘TSRchitect_1.22.0.tar.gz’