Back to Multiple platform build/check report for BioC 3.15
A[B]CDEFGHIJKLMNOPQRSTUVWXYZ

This page was generated on 2022-05-18 12:06:22 -0400 (Wed, 18 May 2022).

HostnameOSArch (*)R versionInstalled pkgs
nebbiolo1Linux (Ubuntu 20.04.4 LTS)x86_644.2.0 (2022-04-22) -- "Vigorous Calisthenics" 4379
palomino3Windows Server 2022 Datacenterx644.2.0 (2022-04-22 ucrt) -- "Vigorous Calisthenics" 4154
merida1macOS 10.14.6 Mojavex86_644.2.0 (2022-04-22) -- "Vigorous Calisthenics" 4220
Click on any hostname to see more info about the system (e.g. compilers)      (*) as reported by 'uname -p', except on Windows and Mac OS X

BUILD BIN results for BindingSiteFinder on palomino3


To the developers/maintainers of the BindingSiteFinder package:
- Please allow up to 24 hours (and sometimes 48 hours) for your latest push to git@git.bioconductor.org:packages/BindingSiteFinder.git to
reflect on this report. See How and When does the builder pull? When will my changes propagate? for more information.
- Make sure to use the following settings in order to reproduce any error or warning you see on this page.

raw results

Package 151/2140HostnameOS / ArchINSTALLBUILDCHECKBUILD BIN
BindingSiteFinder 1.2.0  (landing page)
Mirko Br├╝ggemann
Snapshot Date: 2022-05-17 13:55:01 -0400 (Tue, 17 May 2022)
git_url: https://git.bioconductor.org/packages/BindingSiteFinder
git_branch: RELEASE_3_15
git_last_commit: 019651b
git_last_commit_date: 2022-04-26 12:17:15 -0400 (Tue, 26 Apr 2022)
nebbiolo1Linux (Ubuntu 20.04.4 LTS) / x86_64  OK    OK    OK  UNNEEDED, same version is already published
palomino3Windows Server 2022 Datacenter / x64  OK    OK    OK    OK  UNNEEDED, same version is already published
merida1macOS 10.14.6 Mojave / x86_64  OK    OK    OK    OK  UNNEEDED, same version is already published

Summary

Package: BindingSiteFinder
Version: 1.2.0
Command: rm -rf BindingSiteFinder.buildbin-libdir && mkdir BindingSiteFinder.buildbin-libdir && F:\biocbuild\bbs-3.15-bioc\R\bin\R.exe CMD INSTALL --build --library=BindingSiteFinder.buildbin-libdir BindingSiteFinder_1.2.0.tar.gz
StartedAt: 2022-05-18 05:08:44 -0400 (Wed, 18 May 2022)
EndedAt: 2022-05-18 05:09:32 -0400 (Wed, 18 May 2022)
EllapsedTime: 48.0 seconds
RetCode: 0
Status:   OK  
PackageFile: BindingSiteFinder_1.2.0.zip
PackageFileSize: 2.707 MiB

Command output

##############################################################################
##############################################################################
###
### Running command:
###
###   rm -rf BindingSiteFinder.buildbin-libdir && mkdir BindingSiteFinder.buildbin-libdir && F:\biocbuild\bbs-3.15-bioc\R\bin\R.exe CMD INSTALL --build --library=BindingSiteFinder.buildbin-libdir BindingSiteFinder_1.2.0.tar.gz
###
##############################################################################
##############################################################################


* installing *source* package 'BindingSiteFinder' ...
** using staged installation
** R
** inst
** byte-compile and prepare package for lazy loading
** help
*** installing help indices
** building package indices
** installing vignettes
** testing if installed package can be loaded from temporary location
** testing if installed package can be loaded from final location
** testing if installed package keeps a record of temporary installation path
* MD5 sums
packaged installation of 'BindingSiteFinder' as BindingSiteFinder_1.2.0.zip
* DONE (BindingSiteFinder)