Back to Multiple platform build/check report for BioC 3.15
ABCD[E]FGHIJKLMNOPQRSTUVWXYZ

This page was generated on 2022-05-18 12:06:41 -0400 (Wed, 18 May 2022).

HostnameOSArch (*)R versionInstalled pkgs
nebbiolo1Linux (Ubuntu 20.04.4 LTS)x86_644.2.0 (2022-04-22) -- "Vigorous Calisthenics" 4379
palomino3Windows Server 2022 Datacenterx644.2.0 (2022-04-22 ucrt) -- "Vigorous Calisthenics" 4154
merida1macOS 10.14.6 Mojavex86_644.2.0 (2022-04-22) -- "Vigorous Calisthenics" 4220
Click on any hostname to see more info about the system (e.g. compilers)      (*) as reported by 'uname -p', except on Windows and Mac OS X

BUILD BIN results for exomePeak2 on palomino3


To the developers/maintainers of the exomePeak2 package:
- Please allow up to 24 hours (and sometimes 48 hours) for your latest push to git@git.bioconductor.org:packages/exomePeak2.git to
reflect on this report. See How and When does the builder pull? When will my changes propagate? for more information.
- Make sure to use the following settings in order to reproduce any error or warning you see on this page.

raw results

Package 634/2140HostnameOS / ArchINSTALLBUILDCHECKBUILD BIN
exomePeak2 1.8.1  (landing page)
Zhen Wei
Snapshot Date: 2022-05-17 13:55:01 -0400 (Tue, 17 May 2022)
git_url: https://git.bioconductor.org/packages/exomePeak2
git_branch: RELEASE_3_15
git_last_commit: 6a0976a
git_last_commit_date: 2022-05-16 04:37:13 -0400 (Mon, 16 May 2022)
nebbiolo1Linux (Ubuntu 20.04.4 LTS) / x86_64  OK    OK    ERROR  
palomino3Windows Server 2022 Datacenter / x64  OK    OK    ERROR    OK  
merida1macOS 10.14.6 Mojave / x86_64  OK    OK    ERROR    OK  

Summary

Package: exomePeak2
Version: 1.8.1
Command: rm -rf exomePeak2.buildbin-libdir && mkdir exomePeak2.buildbin-libdir && F:\biocbuild\bbs-3.15-bioc\R\bin\R.exe CMD INSTALL --build --library=exomePeak2.buildbin-libdir exomePeak2_1.8.1.tar.gz
StartedAt: 2022-05-18 05:25:56 -0400 (Wed, 18 May 2022)
EndedAt: 2022-05-18 05:26:46 -0400 (Wed, 18 May 2022)
EllapsedTime: 50.4 seconds
RetCode: 0
Status:   OK  
PackageFile: exomePeak2_1.8.1.zip
PackageFileSize: 2.337 MiB

Command output

##############################################################################
##############################################################################
###
### Running command:
###
###   rm -rf exomePeak2.buildbin-libdir && mkdir exomePeak2.buildbin-libdir && F:\biocbuild\bbs-3.15-bioc\R\bin\R.exe CMD INSTALL --build --library=exomePeak2.buildbin-libdir exomePeak2_1.8.1.tar.gz
###
##############################################################################
##############################################################################


* installing *source* package 'exomePeak2' ...
** using staged installation
** R
** inst
** byte-compile and prepare package for lazy loading
Warning: replacing previous import 'GenomicRanges::subtract' by 'magrittr::subtract' when loading 'exomePeak2'
** help
*** installing help indices
** building package indices
** installing vignettes
** testing if installed package can be loaded from temporary location
Warning: replacing previous import 'GenomicRanges::subtract' by 'magrittr::subtract' when loading 'exomePeak2'
** testing if installed package can be loaded from final location
Warning: replacing previous import 'GenomicRanges::subtract' by 'magrittr::subtract' when loading 'exomePeak2'
** testing if installed package keeps a record of temporary installation path
* MD5 sums
packaged installation of 'exomePeak2' as exomePeak2_1.8.1.zip
* DONE (exomePeak2)