Back to Multiple platform build/check report for BioC 3.15
AB[C]DEFGHIJKLMNOPQRSTUVWXYZ

This page was generated on 2022-05-18 12:06:29 -0400 (Wed, 18 May 2022).

HostnameOSArch (*)R versionInstalled pkgs
nebbiolo1Linux (Ubuntu 20.04.4 LTS)x86_644.2.0 (2022-04-22) -- "Vigorous Calisthenics" 4379
palomino3Windows Server 2022 Datacenterx644.2.0 (2022-04-22 ucrt) -- "Vigorous Calisthenics" 4154
merida1macOS 10.14.6 Mojavex86_644.2.0 (2022-04-22) -- "Vigorous Calisthenics" 4220
Click on any hostname to see more info about the system (e.g. compilers)      (*) as reported by 'uname -p', except on Windows and Mac OS X

BUILD results for chromVAR on palomino3


To the developers/maintainers of the chromVAR package:
- Please allow up to 24 hours (and sometimes 48 hours) for your latest push to git@git.bioconductor.org:packages/chromVAR.git to
reflect on this report. See How and When does the builder pull? When will my changes propagate? for more information.
- Make sure to use the following settings in order to reproduce any error or warning you see on this page.

raw results

Package 324/2140HostnameOS / ArchINSTALLBUILDCHECKBUILD BIN
chromVAR 1.18.0  (landing page)
Alicia Schep
Snapshot Date: 2022-05-17 13:55:01 -0400 (Tue, 17 May 2022)
git_url: https://git.bioconductor.org/packages/chromVAR
git_branch: RELEASE_3_15
git_last_commit: 42d22d3
git_last_commit_date: 2022-04-26 11:43:56 -0400 (Tue, 26 Apr 2022)
nebbiolo1Linux (Ubuntu 20.04.4 LTS) / x86_64  OK    OK    OK  UNNEEDED, same version is already published
palomino3Windows Server 2022 Datacenter / x64  OK    OK    OK    OK  UNNEEDED, same version is already published
merida1macOS 10.14.6 Mojave / x86_64  OK    OK    OK    OK  UNNEEDED, same version is already published

Summary

Package: chromVAR
Version: 1.18.0
Command: chmod a+r chromVAR -R && F:\biocbuild\bbs-3.15-bioc\R\bin\R.exe CMD build --keep-empty-dirs --no-resave-data chromVAR
StartedAt: 2022-05-17 17:28:44 -0400 (Tue, 17 May 2022)
EndedAt: 2022-05-17 17:32:49 -0400 (Tue, 17 May 2022)
EllapsedTime: 245.4 seconds
RetCode: 0
Status:   OK  
PackageFile: chromVAR_1.18.0.tar.gz
PackageFileSize: 423.7 KiB

Command output

##############################################################################
##############################################################################
###
### Running command:
###
###   chmod a+r chromVAR -R && F:\biocbuild\bbs-3.15-bioc\R\bin\R.exe CMD build --keep-empty-dirs --no-resave-data chromVAR
###
##############################################################################
##############################################################################


* checking for file 'chromVAR/DESCRIPTION' ... OK
* preparing 'chromVAR':
* checking DESCRIPTION meta-information ... OK
* cleaning src
* installing the package to build vignettes
* creating vignettes ... OK
* cleaning src
* checking for LF line-endings in source and make files and shell scripts
* checking for empty or unneeded directories
  NB: this package now depends on R (>= 3.5.0)
  WARNING: Added dependency on R >= 3.5.0 because serialized objects in
  serialize/load version 3 cannot be read in older versions of R.
  File(s) containing such objects:
    'chromVAR/data/example_counts.rda' 'chromVAR/data/mini_counts.rda'
    'chromVAR/data/mini_dev.rda' 'chromVAR/data/mini_ix.rda'
* building 'chromVAR_1.18.0.tar.gz'