Back to Multiple platform build/check report for BioC 3.15 |
|
This page was generated on 2022-05-23 12:07:04 -0400 (Mon, 23 May 2022).
Hostname | OS | Arch (*) | R version | Installed pkgs |
---|---|---|---|---|
nebbiolo1 | Linux (Ubuntu 20.04.4 LTS) | x86_64 | 4.2.0 (2022-04-22) -- "Vigorous Calisthenics" | 4380 |
palomino3 | Windows Server 2022 Datacenter | x64 | 4.2.0 (2022-04-22 ucrt) -- "Vigorous Calisthenics" | 4155 |
merida1 | macOS 10.14.6 Mojave | x86_64 | 4.2.0 (2022-04-22) -- "Vigorous Calisthenics" | 4221 |
Click on any hostname to see more info about the system (e.g. compilers) (*) as reported by 'uname -p', except on Windows and Mac OS X |
To the developers/maintainers of the RnBeads package: - Please allow up to 24 hours (and sometimes 48 hours) for your latest push to git@git.bioconductor.org:packages/RnBeads.git to reflect on this report. See How and When does the builder pull? When will my changes propagate? for more information. - Make sure to use the following settings in order to reproduce any error or warning you see on this page. |
Package 1684/2140 | Hostname | OS / Arch | INSTALL | BUILD | CHECK | BUILD BIN | ||||||||
RnBeads 2.14.0 (landing page) Fabian Mueller
| nebbiolo1 | Linux (Ubuntu 20.04.4 LTS) / x86_64 | OK | OK | OK | ![]() | ||||||||
palomino3 | Windows Server 2022 Datacenter / x64 | OK | OK | OK | OK | ![]() | ||||||||
merida1 | macOS 10.14.6 Mojave / x86_64 | OK | OK | OK | OK | ![]() | ||||||||
Package: RnBeads |
Version: 2.14.0 |
Command: chmod a+r RnBeads -R && F:\biocbuild\bbs-3.15-bioc\R\bin\R.exe CMD build --keep-empty-dirs --no-resave-data RnBeads |
StartedAt: 2022-05-22 20:20:50 -0400 (Sun, 22 May 2022) |
EndedAt: 2022-05-22 20:23:59 -0400 (Sun, 22 May 2022) |
EllapsedTime: 189.6 seconds |
RetCode: 0 |
Status: OK |
PackageFile: RnBeads_2.14.0.tar.gz |
PackageFileSize: 7.042 MiB |
############################################################################## ############################################################################## ### ### Running command: ### ### chmod a+r RnBeads -R && F:\biocbuild\bbs-3.15-bioc\R\bin\R.exe CMD build --keep-empty-dirs --no-resave-data RnBeads ### ############################################################################## ############################################################################## * checking for file 'RnBeads/DESCRIPTION' ... OK * preparing 'RnBeads': * checking DESCRIPTION meta-information ... OK * installing the package to build vignettes * creating vignettes ... OK * checking for LF line-endings in source and make files and shell scripts * checking for empty or unneeded directories * looking to see if a 'data/datalist' file should be added * building 'RnBeads_2.14.0.tar.gz'