Back to Multiple platform build/check report for BioC 3.15
ABCDEFGHIJKLMNOPQ[R]STUVWXYZ

This page was generated on 2022-08-08 13:20:42 -0400 (Mon, 08 Aug 2022).

HostnameOSArch (*)R versionInstalled pkgs
nebbiolo1Linux (Ubuntu 20.04.4 LTS)x86_644.2.1 (2022-06-23) -- "Funny-Looking Kid" 4362
merida1macOS 10.14.6 Mojavex86_644.2.1 (2022-06-23) -- "Funny-Looking Kid" 4180
Click on any hostname to see more info about the system (e.g. compilers)      (*) as reported by 'uname -p', except on Windows and Mac OS X

BUILD results for r3Cseq on merida1


To the developers/maintainers of the r3Cseq package:
- Please allow up to 24 hours (and sometimes 48 hours) for your latest push to git@git.bioconductor.org:packages/r3Cseq.git to
reflect on this report. See How and When does the builder pull? When will my changes propagate? for more information.
- Make sure to use the following settings in order to reproduce any error or warning you see on this page.

raw results

Package 1557/2140HostnameOS / ArchINSTALLBUILDCHECKBUILD BIN
r3Cseq 1.42.0  (landing page)
Supat Thongjuea or
Snapshot Date: 2022-08-07 13:55:12 -0400 (Sun, 07 Aug 2022)
git_url: https://git.bioconductor.org/packages/r3Cseq
git_branch: RELEASE_3_15
git_last_commit: c9c2f38
git_last_commit_date: 2022-04-26 11:09:26 -0400 (Tue, 26 Apr 2022)
nebbiolo1Linux (Ubuntu 20.04.4 LTS) / x86_64  OK    OK    OK  UNNEEDED, same version is already published
merida1macOS 10.14.6 Mojave / x86_64  OK    OK    OK    OK  UNNEEDED, same version is already published

Summary

Package: r3Cseq
Version: 1.42.0
Command: /Library/Frameworks/R.framework/Resources/bin/R CMD build --keep-empty-dirs --no-resave-data r3Cseq
StartedAt: 2022-08-07 20:47:17 -0400 (Sun, 07 Aug 2022)
EndedAt: 2022-08-07 20:50:09 -0400 (Sun, 07 Aug 2022)
EllapsedTime: 172.2 seconds
RetCode: 0
Status:   OK  
PackageFile: r3Cseq_1.42.0.tar.gz
PackageFileSize: 4.318 MiB

Command output

##############################################################################
##############################################################################
###
### Running command:
###
###   /Library/Frameworks/R.framework/Resources/bin/R CMD build --keep-empty-dirs --no-resave-data r3Cseq
###
##############################################################################
##############################################################################


* checking for file ‘r3Cseq/DESCRIPTION’ ... OK
* preparing ‘r3Cseq’:
* checking DESCRIPTION meta-information ... OK
* installing the package to build vignettes
* creating vignettes ... OK
* checking for LF line-endings in source and make files and shell scripts
* checking for empty or unneeded directories
* looking to see if a ‘data/datalist’ file should be added
* building ‘r3Cseq_1.42.0.tar.gz’