Back to Multiple platform build/check report for BioC 3.15
ABCDEFGHIJKLMNOPQ[R]STUVWXYZ

This page was generated on 2022-08-15 13:22:03 -0400 (Mon, 15 Aug 2022).

HostnameOSArch (*)R versionInstalled pkgs
nebbiolo1Linux (Ubuntu 20.04.4 LTS)x86_644.2.1 (2022-06-23) -- "Funny-Looking Kid" 4365
palomino3Windows Server 2022 Datacenterx644.2.1 (2022-06-23 ucrt) -- "Funny-Looking Kid" 4118
merida1macOS 10.14.6 Mojavex86_644.2.1 (2022-06-23) -- "Funny-Looking Kid" 4183
Click on any hostname to see more info about the system (e.g. compilers)      (*) as reported by 'uname -p', except on Windows and Mac OS X

BUILD BIN results for RGMQL on palomino3


To the developers/maintainers of the RGMQL package:
- Please allow up to 24 hours (and sometimes 48 hours) for your latest push to git@git.bioconductor.org:packages/RGMQL.git to
reflect on this report. See How and When does the builder pull? When will my changes propagate? for more information.
- Make sure to use the following settings in order to reproduce any error or warning you see on this page.

raw results

Package 1635/2140HostnameOS / ArchINSTALLBUILDCHECKBUILD BIN
RGMQL 1.16.0  (landing page)
Simone Pallotta
Snapshot Date: 2022-08-14 13:55:13 -0400 (Sun, 14 Aug 2022)
git_url: https://git.bioconductor.org/packages/RGMQL
git_branch: RELEASE_3_15
git_last_commit: 4f9e75c
git_last_commit_date: 2022-04-26 11:46:12 -0400 (Tue, 26 Apr 2022)
nebbiolo1Linux (Ubuntu 20.04.4 LTS) / x86_64  OK    OK    WARNINGS  UNNEEDED, same version is already published
palomino3Windows Server 2022 Datacenter / x64  OK    OK    ERROR    OK  
merida1macOS 10.14.6 Mojave / x86_64... NOT SUPPORTED ...

Summary

Package: RGMQL
Version: 1.16.0
Command: rm -rf RGMQL.buildbin-libdir && mkdir RGMQL.buildbin-libdir && F:\biocbuild\bbs-3.15-bioc\R\bin\R.exe CMD INSTALL --build --library=RGMQL.buildbin-libdir RGMQL_1.16.0.tar.gz
StartedAt: 2022-08-15 07:03:11 -0400 (Mon, 15 Aug 2022)
EndedAt: 2022-08-15 07:04:28 -0400 (Mon, 15 Aug 2022)
EllapsedTime: 77.2 seconds
RetCode: 0
Status:   OK  
PackageFile: RGMQL_1.16.0.zip
PackageFileSize: 28.71 MiB

Command output

##############################################################################
##############################################################################
###
### Running command:
###
###   rm -rf RGMQL.buildbin-libdir && mkdir RGMQL.buildbin-libdir && F:\biocbuild\bbs-3.15-bioc\R\bin\R.exe CMD INSTALL --build --library=RGMQL.buildbin-libdir RGMQL_1.16.0.tar.gz
###
##############################################################################
##############################################################################


* installing *source* package 'RGMQL' ...
** using staged installation
** R
** inst
** byte-compile and prepare package for lazy loading
** help
*** installing help indices
** building package indices
** installing vignettes
** testing if installed package can be loaded from temporary location
** testing if installed package can be loaded from final location
** testing if installed package keeps a record of temporary installation path
* MD5 sums
packaged installation of 'RGMQL' as RGMQL_1.16.0.zip
* DONE (RGMQL)