Back to Multiple platform build/check report for BioC 3.15
ABCDEFGHIJKL[M]NOPQRSTUVWXYZ

This page was generated on 2022-06-24 12:07:41 -0400 (Fri, 24 Jun 2022).

HostnameOSArch (*)R versionInstalled pkgs
nebbiolo1Linux (Ubuntu 20.04.4 LTS)x86_644.2.0 (2022-04-22) -- "Vigorous Calisthenics" 4380
palomino3Windows Server 2022 Datacenterx644.2.0 (2022-04-22 ucrt) -- "Vigorous Calisthenics" 4156
merida1macOS 10.14.6 Mojavex86_644.2.0 (2022-04-22) -- "Vigorous Calisthenics" 4221
Click on any hostname to see more info about the system (e.g. compilers)      (*) as reported by 'uname -p', except on Windows and Mac OS X

BUILD results for MACPET on merida1


To the developers/maintainers of the MACPET package:
- Please allow up to 24 hours (and sometimes 48 hours) for your latest push to git@git.bioconductor.org:packages/MACPET.git to
reflect on this report. See How and When does the builder pull? When will my changes propagate? for more information.
- Make sure to use the following settings in order to reproduce any error or warning you see on this page.

raw results

Package 1056/2140HostnameOS / ArchINSTALLBUILDCHECKBUILD BIN
MACPET 1.16.0  (landing page)
Ioannis Vardaxis
Snapshot Date: 2022-06-23 13:55:15 -0400 (Thu, 23 Jun 2022)
git_url: https://git.bioconductor.org/packages/MACPET
git_branch: RELEASE_3_15
git_last_commit: 61832fb
git_last_commit_date: 2022-04-26 11:47:25 -0400 (Tue, 26 Apr 2022)
nebbiolo1Linux (Ubuntu 20.04.4 LTS) / x86_64  ERROR    ERROR  skipped
palomino3Windows Server 2022 Datacenter / x64  ERROR    ERROR  skippedskipped
merida1macOS 10.14.6 Mojave / x86_64  ERROR    ERROR  skippedskipped

Summary

Package: MACPET
Version: 1.16.0
Command: /Library/Frameworks/R.framework/Resources/bin/R CMD build --keep-empty-dirs --no-resave-data MACPET
StartedAt: 2022-06-23 19:14:08 -0400 (Thu, 23 Jun 2022)
EndedAt: 2022-06-23 19:14:27 -0400 (Thu, 23 Jun 2022)
EllapsedTime: 19.7 seconds
RetCode: 1
Status:   ERROR  
PackageFile: None
PackageFileSize: NA

Command output

##############################################################################
##############################################################################
###
### Running command:
###
###   /Library/Frameworks/R.framework/Resources/bin/R CMD build --keep-empty-dirs --no-resave-data MACPET
###
##############################################################################
##############################################################################


* checking for file ‘MACPET/DESCRIPTION’ ... OK
* preparing ‘MACPET’:
* checking DESCRIPTION meta-information ... OK
* cleaning src
* installing the package to build vignettes
      -----------------------------------
* installing *source* package ‘MACPET’ ...
** using staged installation
** libs
clang++ -mmacosx-version-min=10.13 -std=gnu++11 -I"/Library/Frameworks/R.framework/Resources/include" -DNDEBUG  -I'/Library/Frameworks/R.framework/Versions/4.2/Resources/library/Rcpp/include' -I'/Library/Frameworks/R.framework/Versions/4.2/Resources/library/bigmemory/include' -I'/Library/Frameworks/R.framework/Versions/4.2/Resources/library/BH/include' -I/usr/local/include   -fPIC  -Wall -g -O2  -c RcppExports.cpp -o RcppExports.o
clang++ -mmacosx-version-min=10.13 -std=gnu++11 -I"/Library/Frameworks/R.framework/Resources/include" -DNDEBUG  -I'/Library/Frameworks/R.framework/Versions/4.2/Resources/library/Rcpp/include' -I'/Library/Frameworks/R.framework/Versions/4.2/Resources/library/bigmemory/include' -I'/Library/Frameworks/R.framework/Versions/4.2/Resources/library/BH/include' -I/usr/local/include   -fPIC  -Wall -g -O2  -c Stage_0_FastqFilteringSubFunctions.cpp -o Stage_0_FastqFilteringSubFunctions.o
clang++ -mmacosx-version-min=10.13 -std=gnu++11 -I"/Library/Frameworks/R.framework/Resources/include" -DNDEBUG  -I'/Library/Frameworks/R.framework/Versions/4.2/Resources/library/Rcpp/include' -I'/Library/Frameworks/R.framework/Versions/4.2/Resources/library/bigmemory/include' -I'/Library/Frameworks/R.framework/Versions/4.2/Resources/library/BH/include' -I/usr/local/include   -fPIC  -Wall -g -O2  -c Stage_3_PeakFinderSubFunctions.cpp -o Stage_3_PeakFinderSubFunctions.o
Stage_3_PeakFinderSubFunctions.cpp:1146:76: error: use of undeclared identifier 'DOUBLE_EPS'
            double Ak_g=1.0/std::max(1.0-B_my_g[g-1]/C_my_g[g-1],std::sqrt(DOUBLE_EPS));
                                                                           ^
Stage_3_PeakFinderSubFunctions.cpp:1149:43: error: use of undeclared identifier 'DOUBLE_EPS'
            double k_g=std::max(std::sqrt(DOUBLE_EPS),Ak_g*(Bk_g-Ck_g));
                                          ^
Stage_3_PeakFinderSubFunctions.cpp:1153:75: error: use of undeclared identifier 'DOUBLE_EPS'
            my_g[g-1]=Bk_g+std::min(B_my_g[g-1]/C_my_g[g-1],1.0-std::sqrt(DOUBLE_EPS))*k_g;
                                                                          ^
Stage_3_PeakFinderSubFunctions.cpp:1217:45: error: use of undeclared identifier 'DOUBLE_EPS'
        if(lambdax>=0.0) lambdax=-std::sqrt(DOUBLE_EPS);
                                            ^
Stage_3_PeakFinderSubFunctions.cpp:1218:50: error: use of undeclared identifier 'DOUBLE_EPS'
        if(lambdax<=-1.0) lambdax=-1.0+std::sqrt(DOUBLE_EPS);
                                                 ^
Stage_3_PeakFinderSubFunctions.cpp:1257:48: error: use of undeclared identifier 'DOUBLE_EPS'
        if(lambday>=1.0) lambday=1.0-std::sqrt(DOUBLE_EPS);
                                               ^
Stage_3_PeakFinderSubFunctions.cpp:1258:44: error: use of undeclared identifier 'DOUBLE_EPS'
        if(lambday<=0.0) lambday=std::sqrt(DOUBLE_EPS);
                                           ^
7 errors generated.
make: *** [Stage_3_PeakFinderSubFunctions.o] Error 1
ERROR: compilation failed for package ‘MACPET’
* removing ‘/private/tmp/RtmpoP5bXg/Rinst7786b6c49d7/MACPET’
      -----------------------------------
ERROR: package installation failed